BEGIN:VCALENDAR
VERSION:2.0
PRODID:-//Mahomet Public Library - ECPv6.15.11//NONSGML v1.0//EN
CALSCALE:GREGORIAN
METHOD:PUBLISH
X-ORIGINAL-URL:https://mahometpubliclibrary.org
X-WR-CALDESC:Events for Mahomet Public Library
REFRESH-INTERVAL;VALUE=DURATION:PT1H
X-Robots-Tag:noindex
X-PUBLISHED-TTL:PT1H
BEGIN:VTIMEZONE
TZID:America/Chicago
BEGIN:DAYLIGHT
TZOFFSETFROM:-0600
TZOFFSETTO:-0500
TZNAME:CDT
DTSTART:20240310T080000
END:DAYLIGHT
BEGIN:STANDARD
TZOFFSETFROM:-0500
TZOFFSETTO:-0600
TZNAME:CST
DTSTART:20241103T070000
END:STANDARD
BEGIN:DAYLIGHT
TZOFFSETFROM:-0600
TZOFFSETTO:-0500
TZNAME:CDT
DTSTART:20250309T080000
END:DAYLIGHT
BEGIN:STANDARD
TZOFFSETFROM:-0500
TZOFFSETTO:-0600
TZNAME:CST
DTSTART:20251102T070000
END:STANDARD
BEGIN:DAYLIGHT
TZOFFSETFROM:-0600
TZOFFSETTO:-0500
TZNAME:CDT
DTSTART:20260308T080000
END:DAYLIGHT
BEGIN:STANDARD
TZOFFSETFROM:-0500
TZOFFSETTO:-0600
TZNAME:CST
DTSTART:20261101T070000
END:STANDARD
END:VTIMEZONE
BEGIN:VEVENT
DTSTART;TZID=America/Chicago:20250902T093000
DTEND;TZID=America/Chicago:20250902T095000
DTSTAMP:20260419T180609
CREATED:20250806T120014Z
LAST-MODIFIED:20251229T154257Z
UID:10001441-1756805400-1756806600@mahometpubliclibrary.org
SUMMARY:Baby Storytime
DESCRIPTION:Bring your baby to the Library for a fun storytime featuring lap bounces\, songs\, rhymes\, and books!  \nThis storytime is designed especially for our littlest library lovers (age 0-18 months) and their caregivers!
URL:https://mahometpubliclibrary.org/event/baby-storytime-3/2025-09-02/
ATTACH;FMTTYPE=image/png:https://mahometpubliclibrary.org/wp-content/uploads/2025/08/Baby-Storytime-Event-Image.png
END:VEVENT
BEGIN:VEVENT
DTSTART;TZID=America/Chicago:20250902T100000
DTEND;TZID=America/Chicago:20250902T103000
DTSTAMP:20260419T180609
CREATED:20250806T120057Z
LAST-MODIFIED:20251229T154206Z
UID:10001455-1756807200-1756809000@mahometpubliclibrary.org
SUMMARY:Toddler Storytime
DESCRIPTION:Join us at the Library for a storytime specifically designed for toddlers (age 18 months to 3 years) and their caregivers\, featuring songs\, rhymes and books!
URL:https://mahometpubliclibrary.org/event/toddler-storytime-3/2025-09-02/
CATEGORIES:Preschool
ATTACH;FMTTYPE=image/png:https://mahometpubliclibrary.org/wp-content/uploads/2025/08/Toddler-Storytime-Event-Image.png
END:VEVENT
BEGIN:VEVENT
DTSTART;TZID=America/Chicago:20250903T100000
DTEND;TZID=America/Chicago:20250903T103000
DTSTAMP:20260419T180609
CREATED:20250806T120042Z
LAST-MODIFIED:20251229T154237Z
UID:10001470-1756893600-1756895400@mahometpubliclibrary.org
SUMMARY:Preschool Storytime
DESCRIPTION:Drop in for a fun-filled storytime designed for preschool-aged children (3-5 years) and their caregivers!  \nMPL storytimes feature a fun mix of songs\, rhymes\, and books!
URL:https://mahometpubliclibrary.org/event/preschool-storytime-3/2025-09-03/
CATEGORIES:Preschool
ATTACH;FMTTYPE=image/png:https://mahometpubliclibrary.org/wp-content/uploads/2025/08/Preschool-Storytime-Event-Image.png
END:VEVENT
BEGIN:VEVENT
DTSTART;TZID=America/Chicago:20250903T153000
DTEND;TZID=America/Chicago:20250903T163000
DTSTAMP:20260419T180610
CREATED:20250806T120042Z
LAST-MODIFIED:20250808T193413Z
UID:10001484-1756913400-1756917000@mahometpubliclibrary.org
SUMMARY:Elementary Explorers: Art Club
DESCRIPTION:Join us after school for an hour of artistic expression and fun! This program is reserved for students in grades K-5. Younger siblings and caregivers are welcome to browse the library or play in the children’s area while the program is in session. \nPlease note: on early dismissal days (9/17)\, the program will run from 1:30-2:30.
URL:https://mahometpubliclibrary.org/event/elementary-explorers-art-club/2025-09-03/
CATEGORIES:School age
ATTACH;FMTTYPE=image/png:https://mahometpubliclibrary.org/wp-content/uploads/2025/08/Elementary-Explorers-Event-Image-Fall-2025.png
END:VEVENT
BEGIN:VEVENT
DTSTART;TZID=America/Chicago:20250904T183000
DTEND;TZID=America/Chicago:20250904T200000
DTSTAMP:20260419T180610
CREATED:20250806T133001Z
LAST-MODIFIED:20251229T153349Z
UID:10001488-1757010600-1757016000@mahometpubliclibrary.org
SUMMARY:Cookbook Club
DESCRIPTION:Join us as we explore Good Lookin’ Cookin’\, a collection of Southern-inspired recipes from Dolly Parton and her sister Rachel. Try your hand at a recipe from the book and bring it to share. We will sample\, swap tips and enjoy together.  \nCopies of the cookbook will be available at the library. \nPlease note the time change from 6:00 to 6:30.
URL:https://mahometpubliclibrary.org/event/cookbook-club/
CATEGORIES:Adults
ATTACH;FMTTYPE=image/png:https://mahometpubliclibrary.org/wp-content/uploads/2023/08/Cookbook-Club_Event-Image_Fall-2023.png
END:VEVENT
BEGIN:VEVENT
DTSTART;TZID=America/Chicago:20250905T100000
DTEND;TZID=America/Chicago:20250905T110000
DTSTAMP:20260419T180610
CREATED:20250806T120041Z
LAST-MODIFIED:20251229T154320Z
UID:10001490-1757066400-1757070000@mahometpubliclibrary.org
SUMMARY:Preschool Playdate
DESCRIPTION:Children (ages 2-5) and their caregivers are welcome to join us on Friday mornings for open-ended playtime!  \nEach session will feature a different assortment of toys and activities.
URL:https://mahometpubliclibrary.org/event/preschool-playdate-3/2025-09-05/
CATEGORIES:Preschool
ATTACH;FMTTYPE=image/png:https://mahometpubliclibrary.org/wp-content/uploads/2025/08/Preschool-Playdate-Event-Image.png
END:VEVENT
BEGIN:VEVENT
DTSTART;TZID=America/Chicago:20250907T133000
DTEND;TZID=America/Chicago:20250907T163000
DTSTAMP:20260419T180610
CREATED:20250806T120028Z
LAST-MODIFIED:20260105T145353Z
UID:10001604-1757251800-1757262600@mahometpubliclibrary.org
SUMMARY:Teen D&D Club
DESCRIPTION:Library staff member\, Ty\, will lead a group of 6th-12th graders through a 5-part Dungeons and Dragons campaign. The group will meet once every three weeks and play through an extended campaign full of adventure and magic. \n 
URL:https://mahometpubliclibrary.org/event/teen-dd-club/2025-09-07/
CATEGORIES:Teens
ATTACH;FMTTYPE=image/png:https://mahometpubliclibrary.org/wp-content/uploads/2025/08/Teen-DD-Event-Image-FA25.png
END:VEVENT
BEGIN:VEVENT
DTSTART;TZID=America/Chicago:20250909T093000
DTEND;TZID=America/Chicago:20250909T095000
DTSTAMP:20260419T180610
CREATED:20250806T120014Z
LAST-MODIFIED:20251229T154257Z
UID:10001442-1757410200-1757411400@mahometpubliclibrary.org
SUMMARY:Baby Storytime
DESCRIPTION:Bring your baby to the Library for a fun storytime featuring lap bounces\, songs\, rhymes\, and books!  \nThis storytime is designed especially for our littlest library lovers (age 0-18 months) and their caregivers!
URL:https://mahometpubliclibrary.org/event/baby-storytime-3/2025-09-09/
ATTACH;FMTTYPE=image/png:https://mahometpubliclibrary.org/wp-content/uploads/2025/08/Baby-Storytime-Event-Image.png
END:VEVENT
BEGIN:VEVENT
DTSTART;TZID=America/Chicago:20250909T100000
DTEND;TZID=America/Chicago:20250909T103000
DTSTAMP:20260419T180610
CREATED:20250806T120057Z
LAST-MODIFIED:20251229T154206Z
UID:10001456-1757412000-1757413800@mahometpubliclibrary.org
SUMMARY:Toddler Storytime
DESCRIPTION:Join us at the Library for a storytime specifically designed for toddlers (age 18 months to 3 years) and their caregivers\, featuring songs\, rhymes and books!
URL:https://mahometpubliclibrary.org/event/toddler-storytime-3/2025-09-09/
CATEGORIES:Preschool
ATTACH;FMTTYPE=image/png:https://mahometpubliclibrary.org/wp-content/uploads/2025/08/Toddler-Storytime-Event-Image.png
END:VEVENT
BEGIN:VEVENT
DTSTART;TZID=America/Chicago:20250909T153000
DTEND;TZID=America/Chicago:20250909T164500
DTSTAMP:20260419T180610
CREATED:20250806T120053Z
LAST-MODIFIED:20250925T172738Z
UID:10001503-1757431800-1757436300@mahometpubliclibrary.org
SUMMARY:CANCELED: Chapter by Chapter: Read-Aloud Book Club for Kids
DESCRIPTION:PLEASE NOTE: This program has been canceled. \nJoin us each week as Ms. Becca reads Flora and Ulysses by Kate DiCamillo! After listening to a few chapters\, stay for a brief discussion and themed activity! \n For students in grades K-5.
URL:https://mahometpubliclibrary.org/event/chapter-by-chapter-read-aloud-book-club-for-kids/2025-09-09/
CATEGORIES:School age
ATTACH;FMTTYPE=image/png:https://mahometpubliclibrary.org/wp-content/uploads/2025/08/Chapter-by-Chapter-Event-Image.png
END:VEVENT
BEGIN:VEVENT
DTSTART;TZID=America/Chicago:20250909T183000
DTEND;TZID=America/Chicago:20250909T193000
DTSTAMP:20260419T180610
CREATED:20250808T120032Z
LAST-MODIFIED:20251229T154508Z
UID:10001511-1757442600-1757446200@mahometpubliclibrary.org
SUMMARY:Tuesday Night Book Club
DESCRIPTION:Tuesday Night Book Club is a great way to connect with fellow book lovers. All are welcome! Grab your copy of the month’s book and we’ll talk about it with good company and great conversation. \nSeptember: Go As a River by Shelley Read\nA sweeping epic of a young woman’s journey to becoming\, set against the harsh beauty of mid-century Colorado. \nOctober: The Unmaking of June Farrow by Adrienne Young\nA woman discovers a family secret and embarks on a journey that will not only change both the past and the future\, but also uncover the mysteries of her town. \nNovember: The Frozen River by Ariel Lawhon\nAn historical mystery inspired by the life and diary of Martha Ballard\, a 18th century midwife. \nDecember: Celebrate another year of reading! We’ll enjoy snacks\, a book swap and good company to close out the year.
URL:https://mahometpubliclibrary.org/event/tuesday-night-book-club-2/2025-09-09/
CATEGORIES:Adults
ATTACH;FMTTYPE=image/png:https://mahometpubliclibrary.org/wp-content/uploads/2024/08/Tuesday-Night-Book-Club_Event-Image.png
END:VEVENT
BEGIN:VEVENT
DTSTART;TZID=America/Chicago:20250910T100000
DTEND;TZID=America/Chicago:20250910T103000
DTSTAMP:20260419T180610
CREATED:20250806T120042Z
LAST-MODIFIED:20251229T154237Z
UID:10001471-1757498400-1757500200@mahometpubliclibrary.org
SUMMARY:Preschool Storytime
DESCRIPTION:Drop in for a fun-filled storytime designed for preschool-aged children (3-5 years) and their caregivers!  \nMPL storytimes feature a fun mix of songs\, rhymes\, and books!
URL:https://mahometpubliclibrary.org/event/preschool-storytime-3/2025-09-10/
CATEGORIES:Preschool
ATTACH;FMTTYPE=image/png:https://mahometpubliclibrary.org/wp-content/uploads/2025/08/Preschool-Storytime-Event-Image.png
END:VEVENT
BEGIN:VEVENT
DTSTART;TZID=America/Chicago:20250910T153000
DTEND;TZID=America/Chicago:20250910T163000
DTSTAMP:20260419T180610
CREATED:20250806T120042Z
LAST-MODIFIED:20250808T193413Z
UID:10001485-1757518200-1757521800@mahometpubliclibrary.org
SUMMARY:Elementary Explorers: Art Club
DESCRIPTION:Join us after school for an hour of artistic expression and fun! This program is reserved for students in grades K-5. Younger siblings and caregivers are welcome to browse the library or play in the children’s area while the program is in session. \nPlease note: on early dismissal days (9/17)\, the program will run from 1:30-2:30.
URL:https://mahometpubliclibrary.org/event/elementary-explorers-art-club/2025-09-10/
CATEGORIES:School age
ATTACH;FMTTYPE=image/png:https://mahometpubliclibrary.org/wp-content/uploads/2025/08/Elementary-Explorers-Event-Image-Fall-2025.png
END:VEVENT
BEGIN:VEVENT
DTSTART;TZID=America/Chicago:20250911T100000
DTEND;TZID=America/Chicago:20250911T103000
DTSTAMP:20260419T180610
CREATED:20250808T120045Z
LAST-MODIFIED:20251229T154006Z
UID:10001515-1757584800-1757586600@mahometpubliclibrary.org
SUMMARY:Little Groovers: Music and Movement
DESCRIPTION:This 30-minute program is perfect for children age 2-5 (and their caregivers) with a serious case of the wiggles!  \nWe’ll explore rhythm\, sound\, and movement with a fun selection of songs and dances.
URL:https://mahometpubliclibrary.org/event/little-groovers-music-and-movement/2025-09-11/
CATEGORIES:Preschool
ATTACH;FMTTYPE=image/png:https://mahometpubliclibrary.org/wp-content/uploads/2025/08/Little-Groovers-Event-Image.png
END:VEVENT
BEGIN:VEVENT
DTSTART;TZID=America/Chicago:20250912T100000
DTEND;TZID=America/Chicago:20250912T110000
DTSTAMP:20260419T180610
CREATED:20250806T120041Z
LAST-MODIFIED:20251229T154320Z
UID:10001491-1757671200-1757674800@mahometpubliclibrary.org
SUMMARY:Preschool Playdate
DESCRIPTION:Children (ages 2-5) and their caregivers are welcome to join us on Friday mornings for open-ended playtime!  \nEach session will feature a different assortment of toys and activities.
URL:https://mahometpubliclibrary.org/event/preschool-playdate-3/2025-09-12/
CATEGORIES:Preschool
ATTACH;FMTTYPE=image/png:https://mahometpubliclibrary.org/wp-content/uploads/2025/08/Preschool-Playdate-Event-Image.png
END:VEVENT
BEGIN:VEVENT
DTSTART;TZID=America/Chicago:20250912T173000
DTEND;TZID=America/Chicago:20250912T190000
DTSTAMP:20260419T180610
CREATED:20250806T220025Z
LAST-MODIFIED:20251229T220519Z
UID:10001609-1757698200-1757703600@mahometpubliclibrary.org
SUMMARY:Teen After Hours: Mario Kart Tournament
DESCRIPTION:Race to the finish line with your friends and join us for an evening of Mario Kart\, pizza\, and fun! This event is reserved for students in grades 6-12. \nRegistration is required. \nPlease note: this is an after-hours program reserved exclusively for students in grades 6-12.
URL:https://mahometpubliclibrary.org/event/teen-after-hours-mario-kart-tournament/
CATEGORIES:Teens
ATTACH;FMTTYPE=image/png:https://mahometpubliclibrary.org/wp-content/uploads/2025/08/Mario-Kart-Event-Image.png
END:VEVENT
BEGIN:VEVENT
DTSTART;TZID=America/Chicago:20250913T100000
DTEND;TZID=America/Chicago:20250913T120000
DTSTAMP:20260419T180610
CREATED:20250806T134838Z
LAST-MODIFIED:20250811T155335Z
UID:10001508-1757757600-1757764800@mahometpubliclibrary.org
SUMMARY:Teens Teach Tech!
DESCRIPTION:Need help with your phone\, tablet\, or computer? Want to learn how to use social media\, download apps\, or troubleshoot a tech issue?  \nStop by for free one-on-one help from local high school volunteers from the Mahomet-Seymour Interact Club. Bring your device and your questions.  \nAll ages welcome. No registration required\, drop in anytime between 10:00am and 12:00pm.
URL:https://mahometpubliclibrary.org/event/teens-teach-tech/
CATEGORIES:Adults,All Ages
ATTACH;FMTTYPE=image/png:https://mahometpubliclibrary.org/wp-content/uploads/2025/08/Teens-Teach-Tech-Event-Image.png
END:VEVENT
BEGIN:VEVENT
DTSTART;TZID=America/Chicago:20250913T130000
DTEND;TZID=America/Chicago:20250913T150000
DTSTAMP:20260419T180610
CREATED:20250806T120034Z
LAST-MODIFIED:20250808T194655Z
UID:10001509-1757768400-1757775600@mahometpubliclibrary.org
SUMMARY:Craft Lab: Makerspace for Adults
DESCRIPTION:We will provide space to create\, experiment and connect with fellow makers. You can bring your own project to work on or try something new. \nCricut machine\, sewing machine\, ChompSaw cardboard cutter\, button (pin/magnet) maker and more. Plus some supplies available to use\, such as yarn\, thread\, paper\, crochet hooks\, knitting needles and more. \nAll skill levels are welcome. \nRegistration preferred but not required. You can drop in or stay the whole time.
URL:https://mahometpubliclibrary.org/event/craft-lab-makerspace-for-adults/2025-09-13/
CATEGORIES:Adults
ATTACH;FMTTYPE=image/png:https://mahometpubliclibrary.org/wp-content/uploads/2025/08/Adult-CraftLab-Makerspade-Fall-2025-1920-x-1080-px.png
END:VEVENT
BEGIN:VEVENT
DTSTART;TZID=America/Chicago:20250916T093000
DTEND;TZID=America/Chicago:20250916T095000
DTSTAMP:20260419T180610
CREATED:20250806T120014Z
LAST-MODIFIED:20251229T154257Z
UID:10001443-1758015000-1758016200@mahometpubliclibrary.org
SUMMARY:Baby Storytime
DESCRIPTION:Bring your baby to the Library for a fun storytime featuring lap bounces\, songs\, rhymes\, and books!  \nThis storytime is designed especially for our littlest library lovers (age 0-18 months) and their caregivers!
URL:https://mahometpubliclibrary.org/event/baby-storytime-3/2025-09-16/
ATTACH;FMTTYPE=image/png:https://mahometpubliclibrary.org/wp-content/uploads/2025/08/Baby-Storytime-Event-Image.png
END:VEVENT
BEGIN:VEVENT
DTSTART;TZID=America/Chicago:20250916T100000
DTEND;TZID=America/Chicago:20250916T103000
DTSTAMP:20260419T180610
CREATED:20250806T120057Z
LAST-MODIFIED:20251229T154206Z
UID:10001457-1758016800-1758018600@mahometpubliclibrary.org
SUMMARY:Toddler Storytime
DESCRIPTION:Join us at the Library for a storytime specifically designed for toddlers (age 18 months to 3 years) and their caregivers\, featuring songs\, rhymes and books!
URL:https://mahometpubliclibrary.org/event/toddler-storytime-3/2025-09-16/
CATEGORIES:Preschool
ATTACH;FMTTYPE=image/png:https://mahometpubliclibrary.org/wp-content/uploads/2025/08/Toddler-Storytime-Event-Image.png
END:VEVENT
BEGIN:VEVENT
DTSTART;TZID=America/Chicago:20250916T130000
DTEND;TZID=America/Chicago:20250916T143000
DTSTAMP:20260419T180610
CREATED:20250801T120018Z
LAST-MODIFIED:20251229T153318Z
UID:10001521-1758027600-1758033000@mahometpubliclibrary.org
SUMMARY:Adult Crafternoon
DESCRIPTION:Join us for an afternoon of crafting! All supplies will be provided for this beginner level projects. \nPlease register. \nSeptember:\nYarn Wrapped Coil Baskets \nOctober:\nTerrarium or “Terrorium” (spooky theme optional) \nNovember:\nPaint Like Me or Paint by Number (?)
URL:https://mahometpubliclibrary.org/event/adult-crafternoon-2/
CATEGORIES:Adults
ATTACH;FMTTYPE=image/png:https://mahometpubliclibrary.org/wp-content/uploads/2025/08/Adult-Crafternoon-Event-Image-Fall-2025.png
END:VEVENT
BEGIN:VEVENT
DTSTART;TZID=America/Chicago:20250916T153000
DTEND;TZID=America/Chicago:20250916T164500
DTSTAMP:20260419T180610
CREATED:20250806T120053Z
LAST-MODIFIED:20250925T172738Z
UID:10001504-1758036600-1758041100@mahometpubliclibrary.org
SUMMARY:CANCELED: Chapter by Chapter: Read-Aloud Book Club for Kids
DESCRIPTION:PLEASE NOTE: This program has been canceled. \nJoin us each week as Ms. Becca reads Flora and Ulysses by Kate DiCamillo! After listening to a few chapters\, stay for a brief discussion and themed activity! \n For students in grades K-5.
URL:https://mahometpubliclibrary.org/event/chapter-by-chapter-read-aloud-book-club-for-kids/2025-09-16/
CATEGORIES:School age
ATTACH;FMTTYPE=image/png:https://mahometpubliclibrary.org/wp-content/uploads/2025/08/Chapter-by-Chapter-Event-Image.png
END:VEVENT
BEGIN:VEVENT
DTSTART;TZID=America/Chicago:20250917T100000
DTEND;TZID=America/Chicago:20250917T103000
DTSTAMP:20260419T180610
CREATED:20250806T120042Z
LAST-MODIFIED:20251229T154237Z
UID:10001472-1758103200-1758105000@mahometpubliclibrary.org
SUMMARY:Preschool Storytime
DESCRIPTION:Drop in for a fun-filled storytime designed for preschool-aged children (3-5 years) and their caregivers!  \nMPL storytimes feature a fun mix of songs\, rhymes\, and books!
URL:https://mahometpubliclibrary.org/event/preschool-storytime-3/2025-09-17/
CATEGORIES:Preschool
ATTACH;FMTTYPE=image/png:https://mahometpubliclibrary.org/wp-content/uploads/2025/08/Preschool-Storytime-Event-Image.png
END:VEVENT
BEGIN:VEVENT
DTSTART;TZID=America/Chicago:20250917T133000
DTEND;TZID=America/Chicago:20250917T143000
DTSTAMP:20260419T180610
CREATED:20250806T120042Z
LAST-MODIFIED:20250808T193413Z
UID:10001486-1758115800-1758119400@mahometpubliclibrary.org
SUMMARY:Elementary Explorers: Art Club
DESCRIPTION:Join us after school for an hour of artistic expression and fun! This program is reserved for students in grades K-5. Younger siblings and caregivers are welcome to browse the library or play in the children’s area while the program is in session. \nPlease note: on early dismissal days (9/17)\, the program will run from 1:30-2:30.
URL:https://mahometpubliclibrary.org/event/elementary-explorers-art-club/2025-09-17/
CATEGORIES:School age
ATTACH;FMTTYPE=image/png:https://mahometpubliclibrary.org/wp-content/uploads/2025/08/Elementary-Explorers-Event-Image-Fall-2025.png
END:VEVENT
BEGIN:VEVENT
DTSTART;TZID=America/Chicago:20250918T173000
DTEND;TZID=America/Chicago:20250918T193000
DTSTAMP:20260419T180610
CREATED:20250806T144917Z
LAST-MODIFIED:20250915T210531Z
UID:10001526-1758216600-1758223800@mahometpubliclibrary.org
SUMMARY:An Evening with Dr. William Gingold: A Holocaust Survivor's Story
DESCRIPTION:Join us for a powerful and personal presentation by Dr. William Gingold\, a Holocaust survivor and retired professor. \nDr. Gingold will share his family’s story of survival and resilience after escaping Nazi persecution during World War II. Born in Poland in 1939\, Dr. Gingold spent part of his early childhood in the Warsaw Ghetto and displacement camps before coming to the United States. \nRegistration recommended. Due to high interest\, we anticipate a large crowd with standing room only. We encourage registration – there are 70 chairs available. Walk-ins are welcome\, but you may not have a chair.
URL:https://mahometpubliclibrary.org/event/an-evening-with-dr-william-gingold-a-holocaust-survivors-story/
CATEGORIES:Adults,Teens
ATTACH;FMTTYPE=image/png:https://mahometpubliclibrary.org/wp-content/uploads/2025/08/Evening-With-Dr.-Gingold-Event-Image.png
END:VEVENT
BEGIN:VEVENT
DTSTART;TZID=America/Chicago:20250919T100000
DTEND;TZID=America/Chicago:20250919T110000
DTSTAMP:20260419T180610
CREATED:20250806T120041Z
LAST-MODIFIED:20251229T154320Z
UID:10001492-1758276000-1758279600@mahometpubliclibrary.org
SUMMARY:Preschool Playdate
DESCRIPTION:Children (ages 2-5) and their caregivers are welcome to join us on Friday mornings for open-ended playtime!  \nEach session will feature a different assortment of toys and activities.
URL:https://mahometpubliclibrary.org/event/preschool-playdate-3/2025-09-19/
CATEGORIES:Preschool
ATTACH;FMTTYPE=image/png:https://mahometpubliclibrary.org/wp-content/uploads/2025/08/Preschool-Playdate-Event-Image.png
END:VEVENT
BEGIN:VEVENT
DTSTART;TZID=America/Chicago:20250919T160000
DTEND;TZID=America/Chicago:20250919T170000
DTSTAMP:20260419T180610
CREATED:20250806T120025Z
LAST-MODIFIED:20251229T153447Z
UID:10001527-1758297600-1758301200@mahometpubliclibrary.org
SUMMARY:Graphic Novel Book Club
DESCRIPTION:Graphic novel enthusiasts in grades 3-7 are welcome to join us at the Library for a lively discussion of a specific graphic novel at each session. \nIn September\, we’ll discuss Very Bad at Math by Hope Larson and November we’ll discuss First Test by Tamora Pierce.
URL:https://mahometpubliclibrary.org/event/graphic-novel-book-club/
CATEGORIES:School age
ATTACH;FMTTYPE=image/png:https://mahometpubliclibrary.org/wp-content/uploads/2025/08/Graphic-Novel-Book-Club-Event-Image-Fall-2025.png
END:VEVENT
BEGIN:VEVENT
DTSTART;TZID=America/Chicago:20250920T133000
DTEND;TZID=America/Chicago:20250920T153000
DTSTAMP:20260419T180610
CREATED:20250806T120023Z
LAST-MODIFIED:20251229T153910Z
UID:10001613-1758375000-1758382200@mahometpubliclibrary.org
SUMMARY:Jr. D&D Club
DESCRIPTION:Calling all young adventurers in grades 3-5! Join us at the Library for a series of one-shot D&D games led by community member Joe Trotter! \nPlayers will practice problem solving and teamwork while engaging in exciting adventures filled with magic and action!
URL:https://mahometpubliclibrary.org/event/jr-dd-club/
CATEGORIES:School age
ATTACH;FMTTYPE=image/png:https://mahometpubliclibrary.org/wp-content/uploads/2025/08/Junior-DD-Event-Image.png
END:VEVENT
BEGIN:VEVENT
DTSTART;TZID=America/Chicago:20250923T093000
DTEND;TZID=America/Chicago:20250923T095000
DTSTAMP:20260419T180610
CREATED:20250806T120014Z
LAST-MODIFIED:20251229T154257Z
UID:10001444-1758619800-1758621000@mahometpubliclibrary.org
SUMMARY:Baby Storytime
DESCRIPTION:Bring your baby to the Library for a fun storytime featuring lap bounces\, songs\, rhymes\, and books!  \nThis storytime is designed especially for our littlest library lovers (age 0-18 months) and their caregivers!
URL:https://mahometpubliclibrary.org/event/baby-storytime-3/2025-09-23/
ATTACH;FMTTYPE=image/png:https://mahometpubliclibrary.org/wp-content/uploads/2025/08/Baby-Storytime-Event-Image.png
END:VEVENT
BEGIN:VEVENT
DTSTART;TZID=America/Chicago:20250923T100000
DTEND;TZID=America/Chicago:20250923T103000
DTSTAMP:20260419T180610
CREATED:20250806T120057Z
LAST-MODIFIED:20251229T154206Z
UID:10001458-1758621600-1758623400@mahometpubliclibrary.org
SUMMARY:Toddler Storytime
DESCRIPTION:Join us at the Library for a storytime specifically designed for toddlers (age 18 months to 3 years) and their caregivers\, featuring songs\, rhymes and books!
URL:https://mahometpubliclibrary.org/event/toddler-storytime-3/2025-09-23/
CATEGORIES:Preschool
ATTACH;FMTTYPE=image/png:https://mahometpubliclibrary.org/wp-content/uploads/2025/08/Toddler-Storytime-Event-Image.png
END:VEVENT
END:VCALENDAR