BEGIN:VCALENDAR
VERSION:2.0
PRODID:-//Mahomet Public Library - ECPv6.15.11//NONSGML v1.0//EN
CALSCALE:GREGORIAN
METHOD:PUBLISH
X-WR-CALNAME:Mahomet Public Library
X-ORIGINAL-URL:https://mahometpubliclibrary.org
X-WR-CALDESC:Events for Mahomet Public Library
REFRESH-INTERVAL;VALUE=DURATION:PT1H
X-Robots-Tag:noindex
X-PUBLISHED-TTL:PT1H
BEGIN:VTIMEZONE
TZID:America/Chicago
BEGIN:DAYLIGHT
TZOFFSETFROM:-0600
TZOFFSETTO:-0500
TZNAME:CDT
DTSTART:20240310T080000
END:DAYLIGHT
BEGIN:STANDARD
TZOFFSETFROM:-0500
TZOFFSETTO:-0600
TZNAME:CST
DTSTART:20241103T070000
END:STANDARD
BEGIN:DAYLIGHT
TZOFFSETFROM:-0600
TZOFFSETTO:-0500
TZNAME:CDT
DTSTART:20250309T080000
END:DAYLIGHT
BEGIN:STANDARD
TZOFFSETFROM:-0500
TZOFFSETTO:-0600
TZNAME:CST
DTSTART:20251102T070000
END:STANDARD
BEGIN:DAYLIGHT
TZOFFSETFROM:-0600
TZOFFSETTO:-0500
TZNAME:CDT
DTSTART:20260308T080000
END:DAYLIGHT
BEGIN:STANDARD
TZOFFSETFROM:-0500
TZOFFSETTO:-0600
TZNAME:CST
DTSTART:20261101T070000
END:STANDARD
END:VTIMEZONE
BEGIN:VEVENT
DTSTART;TZID=America/Chicago:20251002T183000
DTEND;TZID=America/Chicago:20251002T193000
DTSTAMP:20260419T221528
CREATED:20250806T160507Z
LAST-MODIFIED:20250808T200529Z
UID:10001589-1759429800-1759433400@mahometpubliclibrary.org
SUMMARY:Artifact Discovery with Museum of the Grand Prairie
DESCRIPTION:Join us at the library as a staff member from the Museum of the Grand Prairie showcases some artifacts from their education collection! Learn about the museum\, local history\, and interact with some unique artifacts. \nNo registration required!
URL:https://mahometpubliclibrary.org/event/artifact-discovery-with-museum-of-the-grand-prairie/
CATEGORIES:Adults
ATTACH;FMTTYPE=image/png:https://mahometpubliclibrary.org/wp-content/uploads/2025/08/Artifact-Discovery-Event-Image.png
END:VEVENT
BEGIN:VEVENT
DTSTART;TZID=America/Chicago:20251003T100000
DTEND;TZID=America/Chicago:20251003T110000
DTSTAMP:20260419T221528
CREATED:20250806T120041Z
LAST-MODIFIED:20251229T154320Z
UID:10001494-1759485600-1759489200@mahometpubliclibrary.org
SUMMARY:Preschool Playdate
DESCRIPTION:Children (ages 2-5) and their caregivers are welcome to join us on Friday mornings for open-ended playtime!  \nEach session will feature a different assortment of toys and activities.
URL:https://mahometpubliclibrary.org/event/preschool-playdate-3/2025-10-03/
CATEGORIES:Preschool
ATTACH;FMTTYPE=image/png:https://mahometpubliclibrary.org/wp-content/uploads/2025/08/Preschool-Playdate-Event-Image.png
END:VEVENT
BEGIN:VEVENT
DTSTART;TZID=America/Chicago:20251005T140000
DTEND;TZID=America/Chicago:20251005T153000
DTSTAMP:20260419T221528
CREATED:20250806T120019Z
LAST-MODIFIED:20250808T202513Z
UID:10001603-1759672800-1759678200@mahometpubliclibrary.org
SUMMARY:Inspiring Future Aviators
DESCRIPTION:Bill Spencer from the Champaign County Radio Control Club (CCRCC) will inspire future aviators in grades 4-7 with an exciting presentation and activity introducing key concepts of aviation. \nRegistration is required and spots are limited.
URL:https://mahometpubliclibrary.org/event/inspiring-future-aviators/
CATEGORIES:School age
ATTACH;FMTTYPE=image/png:https://mahometpubliclibrary.org/wp-content/uploads/2025/08/Inspiring-Future-Aviators-Event-Image-Fall-2025.png
END:VEVENT
BEGIN:VEVENT
DTSTART;TZID=America/Chicago:20251007T180000
DTEND;TZID=America/Chicago:20251007T200000
DTSTAMP:20260419T221528
CREATED:20250801T120030Z
LAST-MODIFIED:20250808T192105Z
UID:10001616-1759860000-1759867200@mahometpubliclibrary.org
SUMMARY:Sew To Share: Zipper Bags
DESCRIPTION:Learn how to sew a small\, practical zipper bag\, then make a second to donate to a girl in need. This beginner-friendly sewing class lead by Cindy Guthrie includes step-by-step instruction\, with all materials provided. Sewing machines will be available. \nSpace is limited; registration required.
URL:https://mahometpubliclibrary.org/event/sew-to-share-zipper-bags/
CATEGORIES:Adults
ATTACH;FMTTYPE=image/png:https://mahometpubliclibrary.org/wp-content/uploads/2025/09/Sew_to_Share_event-image.png
END:VEVENT
BEGIN:VEVENT
DTSTART;TZID=America/Chicago:20251009T170000
DTEND;TZID=America/Chicago:20251009T200000
DTSTAMP:20260419T221528
CREATED:20250821T190540Z
LAST-MODIFIED:20250821T190615Z
UID:10001628-1760029200-1760040000@mahometpubliclibrary.org
SUMMARY:Fall Book Sale
DESCRIPTION:Thursday\, October 9 | 5:00 – 8:00 pm (preview night for Friends members only; you can join at the door) \nFriday\, October 10 | 9:00 am – 6:00 pm \nSaturday\, October 11 | 9:00 am – 5:00 pm \nSunday\, October 12 | 1:00 – 4:00 pm
URL:https://mahometpubliclibrary.org/event/fall25-book-sale/2025-10-09/
CATEGORIES:All Ages
ATTACH;FMTTYPE=image/png:https://mahometpubliclibrary.org/wp-content/uploads/2023/08/Book-Sale_Event-Image_October-2023-1.png
END:VEVENT
BEGIN:VEVENT
DTSTART;TZID=America/Chicago:20251010T090000
DTEND;TZID=America/Chicago:20251010T180000
DTSTAMP:20260419T221528
CREATED:20250821T190540Z
LAST-MODIFIED:20250821T190615Z
UID:10001629-1760086800-1760119200@mahometpubliclibrary.org
SUMMARY:Fall Book Sale
DESCRIPTION:Thursday\, October 9 | 5:00 – 8:00 pm (preview night for Friends members only; you can join at the door) \nFriday\, October 10 | 9:00 am – 6:00 pm \nSaturday\, October 11 | 9:00 am – 5:00 pm \nSunday\, October 12 | 1:00 – 4:00 pm
URL:https://mahometpubliclibrary.org/event/fall25-book-sale/2025-10-10/
CATEGORIES:All Ages
ATTACH;FMTTYPE=image/png:https://mahometpubliclibrary.org/wp-content/uploads/2023/08/Book-Sale_Event-Image_October-2023-1.png
END:VEVENT
BEGIN:VEVENT
DTSTART;TZID=America/Chicago:20251011T090000
DTEND;TZID=America/Chicago:20251011T170000
DTSTAMP:20260419T221528
CREATED:20250821T190540Z
LAST-MODIFIED:20250821T190615Z
UID:10001630-1760173200-1760202000@mahometpubliclibrary.org
SUMMARY:Fall Book Sale
DESCRIPTION:Thursday\, October 9 | 5:00 – 8:00 pm (preview night for Friends members only; you can join at the door) \nFriday\, October 10 | 9:00 am – 6:00 pm \nSaturday\, October 11 | 9:00 am – 5:00 pm \nSunday\, October 12 | 1:00 – 4:00 pm
URL:https://mahometpubliclibrary.org/event/fall25-book-sale/2025-10-11/
CATEGORIES:All Ages
ATTACH;FMTTYPE=image/png:https://mahometpubliclibrary.org/wp-content/uploads/2023/08/Book-Sale_Event-Image_October-2023-1.png
END:VEVENT
BEGIN:VEVENT
DTSTART;TZID=America/Chicago:20251012T130000
DTEND;TZID=America/Chicago:20251012T160000
DTSTAMP:20260419T221528
CREATED:20250821T190540Z
LAST-MODIFIED:20250821T190615Z
UID:10001631-1760274000-1760284800@mahometpubliclibrary.org
SUMMARY:Fall Book Sale
DESCRIPTION:Thursday\, October 9 | 5:00 – 8:00 pm (preview night for Friends members only; you can join at the door) \nFriday\, October 10 | 9:00 am – 6:00 pm \nSaturday\, October 11 | 9:00 am – 5:00 pm \nSunday\, October 12 | 1:00 – 4:00 pm
URL:https://mahometpubliclibrary.org/event/fall25-book-sale/2025-10-12/
CATEGORIES:All Ages
ATTACH;FMTTYPE=image/png:https://mahometpubliclibrary.org/wp-content/uploads/2023/08/Book-Sale_Event-Image_October-2023-1.png
END:VEVENT
BEGIN:VEVENT
DTSTART;TZID=America/Chicago:20251014T093000
DTEND;TZID=America/Chicago:20251014T095000
DTSTAMP:20260419T221528
CREATED:20250806T120014Z
LAST-MODIFIED:20251229T154257Z
UID:10001446-1760434200-1760435400@mahometpubliclibrary.org
SUMMARY:Baby Storytime
DESCRIPTION:Bring your baby to the Library for a fun storytime featuring lap bounces\, songs\, rhymes\, and books!  \nThis storytime is designed especially for our littlest library lovers (age 0-18 months) and their caregivers!
URL:https://mahometpubliclibrary.org/event/baby-storytime-3/2025-10-14/
ATTACH;FMTTYPE=image/png:https://mahometpubliclibrary.org/wp-content/uploads/2025/08/Baby-Storytime-Event-Image.png
END:VEVENT
BEGIN:VEVENT
DTSTART;TZID=America/Chicago:20251014T100000
DTEND;TZID=America/Chicago:20251014T103000
DTSTAMP:20260419T221528
CREATED:20250806T120057Z
LAST-MODIFIED:20251229T154206Z
UID:10001461-1760436000-1760437800@mahometpubliclibrary.org
SUMMARY:Toddler Storytime
DESCRIPTION:Join us at the Library for a storytime specifically designed for toddlers (age 18 months to 3 years) and their caregivers\, featuring songs\, rhymes and books!
URL:https://mahometpubliclibrary.org/event/toddler-storytime-3/2025-10-14/
CATEGORIES:Preschool
ATTACH;FMTTYPE=image/png:https://mahometpubliclibrary.org/wp-content/uploads/2025/08/Toddler-Storytime-Event-Image.png
END:VEVENT
BEGIN:VEVENT
DTSTART;TZID=America/Chicago:20251014T183000
DTEND;TZID=America/Chicago:20251014T193000
DTSTAMP:20260419T221528
CREATED:20250808T120032Z
LAST-MODIFIED:20251229T154508Z
UID:10001512-1760466600-1760470200@mahometpubliclibrary.org
SUMMARY:Tuesday Night Book Club
DESCRIPTION:Tuesday Night Book Club is a great way to connect with fellow book lovers. All are welcome! Grab your copy of the month’s book and we’ll talk about it with good company and great conversation. \nSeptember: Go As a River by Shelley Read\nA sweeping epic of a young woman’s journey to becoming\, set against the harsh beauty of mid-century Colorado. \nOctober: The Unmaking of June Farrow by Adrienne Young\nA woman discovers a family secret and embarks on a journey that will not only change both the past and the future\, but also uncover the mysteries of her town. \nNovember: The Frozen River by Ariel Lawhon\nAn historical mystery inspired by the life and diary of Martha Ballard\, a 18th century midwife. \nDecember: Celebrate another year of reading! We’ll enjoy snacks\, a book swap and good company to close out the year.
URL:https://mahometpubliclibrary.org/event/tuesday-night-book-club-2/2025-10-14/
CATEGORIES:Adults
ATTACH;FMTTYPE=image/png:https://mahometpubliclibrary.org/wp-content/uploads/2024/08/Tuesday-Night-Book-Club_Event-Image.png
END:VEVENT
BEGIN:VEVENT
DTSTART;TZID=America/Chicago:20251015T100000
DTEND;TZID=America/Chicago:20251015T103000
DTSTAMP:20260419T221528
CREATED:20250806T120042Z
LAST-MODIFIED:20251229T154237Z
UID:10001475-1760522400-1760524200@mahometpubliclibrary.org
SUMMARY:Preschool Storytime
DESCRIPTION:Drop in for a fun-filled storytime designed for preschool-aged children (3-5 years) and their caregivers!  \nMPL storytimes feature a fun mix of songs\, rhymes\, and books!
URL:https://mahometpubliclibrary.org/event/preschool-storytime-3/2025-10-15/
CATEGORIES:Preschool
ATTACH;FMTTYPE=image/png:https://mahometpubliclibrary.org/wp-content/uploads/2025/08/Preschool-Storytime-Event-Image.png
END:VEVENT
BEGIN:VEVENT
DTSTART;TZID=America/Chicago:20251015T153000
DTEND;TZID=America/Chicago:20251015T163000
DTSTAMP:20260419T221528
CREATED:20250806T120023Z
LAST-MODIFIED:20250808T200439Z
UID:10001534-1760542200-1760545800@mahometpubliclibrary.org
SUMMARY:Elementary Explorers: Gamers Club
DESCRIPTION:Join us for an after-school club perfect for gamers in grades K-5! Each week\, we’ll do an activity centered around a different video game. \n10/1: Pokemon BINGO \n10/15: DIY Roblox Avatars \n10/22 (Early Out): Minecraft Trivia \n10/29: Super Mario Perler Beads \nPlease note: on early dismissal days (10/22)\, the program will run from 1:30-2:30.
URL:https://mahometpubliclibrary.org/event/elementary-explorers-gamers-club/2025-10-15/
CATEGORIES:School age
ATTACH;FMTTYPE=image/png:https://mahometpubliclibrary.org/wp-content/uploads/2025/08/Elementary-Explorers-Event-Image-Fall-2025.png
END:VEVENT
BEGIN:VEVENT
DTSTART;TZID=America/Chicago:20251016T100000
DTEND;TZID=America/Chicago:20251016T103000
DTSTAMP:20260419T221528
CREATED:20250808T120045Z
LAST-MODIFIED:20251229T154006Z
UID:10001517-1760608800-1760610600@mahometpubliclibrary.org
SUMMARY:Little Groovers: Music and Movement
DESCRIPTION:This 30-minute program is perfect for children age 2-5 (and their caregivers) with a serious case of the wiggles!  \nWe’ll explore rhythm\, sound\, and movement with a fun selection of songs and dances.
URL:https://mahometpubliclibrary.org/event/little-groovers-music-and-movement/2025-10-16/
CATEGORIES:Preschool
ATTACH;FMTTYPE=image/png:https://mahometpubliclibrary.org/wp-content/uploads/2025/08/Little-Groovers-Event-Image.png
END:VEVENT
BEGIN:VEVENT
DTSTART;TZID=America/Chicago:20251016T153000
DTEND;TZID=America/Chicago:20251016T170000
DTSTAMP:20260419T221528
CREATED:20250808T191749Z
LAST-MODIFIED:20251229T153824Z
UID:10001617-1760628600-1760634000@mahometpubliclibrary.org
SUMMARY:Cartoon Club
DESCRIPTION:Are you a cartoon fanatic? Join our Cartoon Club\, a club for discussing cartoons instead of books! \nWe’ll watch two episodes of a cartoon\, and then discuss it in the same way a book club would. \n  \nGrades 3-8. No registration required.
URL:https://mahometpubliclibrary.org/event/cartoon-club-2/2025-10-16/
CATEGORIES:School age
ATTACH;FMTTYPE=image/png:https://mahometpubliclibrary.org/wp-content/uploads/2025/08/Cartoon-Club-Event-Image-FA25.png
END:VEVENT
BEGIN:VEVENT
DTSTART;TZID=America/Chicago:20251017T100000
DTEND;TZID=America/Chicago:20251017T110000
DTSTAMP:20260419T221528
CREATED:20250806T120041Z
LAST-MODIFIED:20251229T154320Z
UID:10001495-1760695200-1760698800@mahometpubliclibrary.org
SUMMARY:Preschool Playdate
DESCRIPTION:Children (ages 2-5) and their caregivers are welcome to join us on Friday mornings for open-ended playtime!  \nEach session will feature a different assortment of toys and activities.
URL:https://mahometpubliclibrary.org/event/preschool-playdate-3/2025-10-17/
CATEGORIES:Preschool
ATTACH;FMTTYPE=image/png:https://mahometpubliclibrary.org/wp-content/uploads/2025/08/Preschool-Playdate-Event-Image.png
END:VEVENT
BEGIN:VEVENT
DTSTART;TZID=America/Chicago:20251018T110000
DTEND;TZID=America/Chicago:20251018T120000
DTSTAMP:20260419T221528
CREATED:20250806T160532Z
LAST-MODIFIED:20250808T200850Z
UID:10001590-1760785200-1760788800@mahometpubliclibrary.org
SUMMARY:Sound Bath Meditation with Flow Yoga
DESCRIPTION:Join Flow Yoga for a relaxing and immersive sound bath meditation at the library. This experience use singing bowls\, chimes and other instruments to help quiet the mind\, release stress and promote relaxation. \nNo yoga or meditation experience is needed.
URL:https://mahometpubliclibrary.org/event/sound-bath-meditation-with-flow-yoga/
CATEGORIES:Adults
ATTACH;FMTTYPE=image/png:https://mahometpubliclibrary.org/wp-content/uploads/2025/08/Sound-Bath-Meditation-Event-Image.png
END:VEVENT
BEGIN:VEVENT
DTSTART;TZID=America/Chicago:20251018T133000
DTEND;TZID=America/Chicago:20251018T153000
DTSTAMP:20260419T221528
CREATED:20250922T172623Z
LAST-MODIFIED:20251229T153743Z
UID:10001614-1760794200-1760801400@mahometpubliclibrary.org
SUMMARY:Jr. D&D Club
DESCRIPTION:Calling all young adventurers in grades 3-5! Join us at the Library for a series of one-shot D&D games led by community member Joe Trotter! \nPlayers will practice problem solving and teamwork while engaging in exciting adventures filled with magic and action!
URL:https://mahometpubliclibrary.org/event/oct2025-jr-dd-club/
CATEGORIES:School age
ATTACH;FMTTYPE=image/png:https://mahometpubliclibrary.org/wp-content/uploads/2025/08/Junior-DD-Event-Image.png
END:VEVENT
BEGIN:VEVENT
DTSTART;TZID=America/Chicago:20251019T133000
DTEND;TZID=America/Chicago:20251019T163000
DTSTAMP:20260419T221528
CREATED:20250806T120028Z
LAST-MODIFIED:20260105T145353Z
UID:10001606-1760880600-1760891400@mahometpubliclibrary.org
SUMMARY:Teen D&D Club
DESCRIPTION:Library staff member\, Ty\, will lead a group of 6th-12th graders through a 5-part Dungeons and Dragons campaign. The group will meet once every three weeks and play through an extended campaign full of adventure and magic. \n 
URL:https://mahometpubliclibrary.org/event/teen-dd-club/2025-10-19/
CATEGORIES:Teens
ATTACH;FMTTYPE=image/png:https://mahometpubliclibrary.org/wp-content/uploads/2025/08/Teen-DD-Event-Image-FA25.png
END:VEVENT
BEGIN:VEVENT
DTSTART;TZID=America/Chicago:20251020T100000
DTEND;TZID=America/Chicago:20251020T180000
DTSTAMP:20260419T221528
CREATED:20251002T155748Z
LAST-MODIFIED:20251002T155748Z
UID:10001634-1760954400-1760983200@mahometpubliclibrary.org
SUMMARY:Dust Off Those Portraits: Mobile Memory Lab
DESCRIPTION:Dust off those old photographs and unbox those heirlooms! The Library is hosting a free Digitization Day event to help area residents preserve history for generations to come. Digitization Day is a unique opportunity for community members to play an active role in preserving local history. During this event\, a cataloger from the Mobile Memory Lab\, a service of Illinois Heartland Library System (IHLS)\, will carefully scan or photograph 2D and 3D family heirlooms and community artifacts in high resolution\, work with owners to record important details about the items\, and catalog them for inclusion in the Illinois Digital Archive. \nOwners get access to the digital images while ensuring their family’s or business’ stories are shared with future generations. \nDon’t miss this chance to preserve your story for generations to come! \nItems to Bring: \n\nPersonal Photographs\nLetters and Postcards\nManuscripts\nMaps\nFederal Government Documents\nHistorical Items (Realia)\n\nPlease note: All originals will be returned after scanning. \nFor adults. Please register for a time slot to bring in your items.
URL:https://mahometpubliclibrary.org/event/mobile-memory-lab/
CATEGORIES:Adults
ATTACH;FMTTYPE=image/png:https://mahometpubliclibrary.org/wp-content/uploads/2025/09/Mobile-Memory-Lab_Event-Image_October-2025.png
END:VEVENT
BEGIN:VEVENT
DTSTART;TZID=America/Chicago:20251021T093000
DTEND;TZID=America/Chicago:20251021T095000
DTSTAMP:20260419T221528
CREATED:20250806T120014Z
LAST-MODIFIED:20251229T154257Z
UID:10001447-1761039000-1761040200@mahometpubliclibrary.org
SUMMARY:Baby Storytime
DESCRIPTION:Bring your baby to the Library for a fun storytime featuring lap bounces\, songs\, rhymes\, and books!  \nThis storytime is designed especially for our littlest library lovers (age 0-18 months) and their caregivers!
URL:https://mahometpubliclibrary.org/event/baby-storytime-3/2025-10-21/
ATTACH;FMTTYPE=image/png:https://mahometpubliclibrary.org/wp-content/uploads/2025/08/Baby-Storytime-Event-Image.png
END:VEVENT
BEGIN:VEVENT
DTSTART;TZID=America/Chicago:20251021T100000
DTEND;TZID=America/Chicago:20251021T103000
DTSTAMP:20260419T221528
CREATED:20250806T120057Z
LAST-MODIFIED:20251229T154206Z
UID:10001462-1761040800-1761042600@mahometpubliclibrary.org
SUMMARY:Toddler Storytime
DESCRIPTION:Join us at the Library for a storytime specifically designed for toddlers (age 18 months to 3 years) and their caregivers\, featuring songs\, rhymes and books!
URL:https://mahometpubliclibrary.org/event/toddler-storytime-3/2025-10-21/
CATEGORIES:Preschool
ATTACH;FMTTYPE=image/png:https://mahometpubliclibrary.org/wp-content/uploads/2025/08/Toddler-Storytime-Event-Image.png
END:VEVENT
BEGIN:VEVENT
DTSTART;TZID=America/Chicago:20251021T130000
DTEND;TZID=America/Chicago:20251021T143000
DTSTAMP:20260419T221528
CREATED:20250801T120045Z
LAST-MODIFIED:20250925T204329Z
UID:10001522-1761051600-1761057000@mahometpubliclibrary.org
SUMMARY:Adult Crafternoon
DESCRIPTION:Join us for an afternoon of crafting! All supplies will be provided for this beginner level projects. \nPlease register. \nOctober:\nTerrarium or “Terrorium” (spooky theme optional) \nNovember:\nPaint Like Me or Paint by Number (?)
URL:https://mahometpubliclibrary.org/event/adult-crafternoon-oct25/
CATEGORIES:Adults
ATTACH;FMTTYPE=image/png:https://mahometpubliclibrary.org/wp-content/uploads/2025/08/Adult-Crafternoon-Event-Image-Fall-2025.png
END:VEVENT
BEGIN:VEVENT
DTSTART;TZID=America/Chicago:20251022T100000
DTEND;TZID=America/Chicago:20251022T103000
DTSTAMP:20260419T221528
CREATED:20250806T120042Z
LAST-MODIFIED:20251229T154237Z
UID:10001476-1761127200-1761129000@mahometpubliclibrary.org
SUMMARY:Preschool Storytime
DESCRIPTION:Drop in for a fun-filled storytime designed for preschool-aged children (3-5 years) and their caregivers!  \nMPL storytimes feature a fun mix of songs\, rhymes\, and books!
URL:https://mahometpubliclibrary.org/event/preschool-storytime-3/2025-10-22/
CATEGORIES:Preschool
ATTACH;FMTTYPE=image/png:https://mahometpubliclibrary.org/wp-content/uploads/2025/08/Preschool-Storytime-Event-Image.png
END:VEVENT
BEGIN:VEVENT
DTSTART;TZID=America/Chicago:20251022T133000
DTEND;TZID=America/Chicago:20251022T143000
DTSTAMP:20260419T221528
CREATED:20250806T120023Z
LAST-MODIFIED:20250808T200439Z
UID:10001622-1761139800-1761143400@mahometpubliclibrary.org
SUMMARY:Elementary Explorers: Gamers Club
DESCRIPTION:Join us for an after-school club perfect for gamers in grades K-5! Each week\, we’ll do an activity centered around a different video game. \n10/1: Pokemon BINGO \n10/15: DIY Roblox Avatars \n10/22 (Early Out): Minecraft Trivia \n10/29: Super Mario Perler Beads \nPlease note: on early dismissal days (10/22)\, the program will run from 1:30-2:30.
URL:https://mahometpubliclibrary.org/event/elementary-explorers-gamers-club/2025-10-22/
CATEGORIES:School age
ATTACH;FMTTYPE=image/png:https://mahometpubliclibrary.org/wp-content/uploads/2025/08/Elementary-Explorers-Event-Image-Fall-2025.png
END:VEVENT
BEGIN:VEVENT
DTSTART;TZID=America/Chicago:20251023T183000
DTEND;TZID=America/Chicago:20251023T193000
DTSTAMP:20260419T221528
CREATED:20250806T120059Z
LAST-MODIFIED:20250808T201023Z
UID:10001591-1761244200-1761247800@mahometpubliclibrary.org
SUMMARY:Spice Up Your Kitchen
DESCRIPTION:Discover the art of cooking with spices in this flavorful workshop. This session will introduce key spices\, offer tips for pairing and using them\, and help build confidence in the kitchen. Perfect for home cooks of all levels. \nPresented by Anurita Mangar.
URL:https://mahometpubliclibrary.org/event/spice-up-your-kitchen/
CATEGORIES:Adults
ATTACH;FMTTYPE=image/png:https://mahometpubliclibrary.org/wp-content/uploads/2025/08/Spice-Up-Your-Kitchen-Event-Image.png
END:VEVENT
BEGIN:VEVENT
DTSTART;TZID=America/Chicago:20251024T100000
DTEND;TZID=America/Chicago:20251024T110000
DTSTAMP:20260419T221528
CREATED:20250806T120041Z
LAST-MODIFIED:20251229T154320Z
UID:10001496-1761300000-1761303600@mahometpubliclibrary.org
SUMMARY:Preschool Playdate
DESCRIPTION:Children (ages 2-5) and their caregivers are welcome to join us on Friday mornings for open-ended playtime!  \nEach session will feature a different assortment of toys and activities.
URL:https://mahometpubliclibrary.org/event/preschool-playdate-3/2025-10-24/
CATEGORIES:Preschool
ATTACH;FMTTYPE=image/png:https://mahometpubliclibrary.org/wp-content/uploads/2025/08/Preschool-Playdate-Event-Image.png
END:VEVENT
BEGIN:VEVENT
DTSTART;TZID=America/Chicago:20251024T173000
DTEND;TZID=America/Chicago:20251024T190000
DTSTAMP:20260419T221528
CREATED:20250806T120056Z
LAST-MODIFIED:20251229T220545Z
UID:10001592-1761327000-1761332400@mahometpubliclibrary.org
SUMMARY:Teen After Hours: Zombie Barbies
DESCRIPTION:Celebrate spooky season with pizza\, friends\, and a creepy craft. With a little creativity and an abundance of craft supplies\, turn an ordinary Barbie into something truly bone-chilling. \nThis is an after-hours event for students in grades 6-12.
URL:https://mahometpubliclibrary.org/event/teen-after-hours-zombie-barbies/
CATEGORIES:Teens
ATTACH;FMTTYPE=image/png:https://mahometpubliclibrary.org/wp-content/uploads/2025/08/Zombie-Barbie-Event-Image.png
END:VEVENT
BEGIN:VEVENT
DTSTART;TZID=America/Chicago:20251025T100000
DTEND;TZID=America/Chicago:20251025T120000
DTSTAMP:20260419T221528
CREATED:20250806T120022Z
LAST-MODIFIED:20250808T203134Z
UID:10001611-1761386400-1761393600@mahometpubliclibrary.org
SUMMARY:Book or Treat
DESCRIPTION:Show off your Halloween costumes and head to the Library for some spook-tacular crafts and giveaways! \nEach child will receive a free book and goodie bag!
URL:https://mahometpubliclibrary.org/event/book-or-treat-2/
CATEGORIES:All Ages
ATTACH;FMTTYPE=image/png:https://mahometpubliclibrary.org/wp-content/uploads/2025/08/Book-Or-Treat-Event-Image-Fall-2025.png
END:VEVENT
BEGIN:VEVENT
DTSTART;TZID=America/Chicago:20251028T093000
DTEND;TZID=America/Chicago:20251028T095000
DTSTAMP:20260419T221528
CREATED:20250806T120014Z
LAST-MODIFIED:20251229T154257Z
UID:10001448-1761643800-1761645000@mahometpubliclibrary.org
SUMMARY:Baby Storytime
DESCRIPTION:Bring your baby to the Library for a fun storytime featuring lap bounces\, songs\, rhymes\, and books!  \nThis storytime is designed especially for our littlest library lovers (age 0-18 months) and their caregivers!
URL:https://mahometpubliclibrary.org/event/baby-storytime-3/2025-10-28/
ATTACH;FMTTYPE=image/png:https://mahometpubliclibrary.org/wp-content/uploads/2025/08/Baby-Storytime-Event-Image.png
END:VEVENT
END:VCALENDAR