BEGIN:VCALENDAR
VERSION:2.0
PRODID:-//Mahomet Public Library - ECPv6.15.11//NONSGML v1.0//EN
CALSCALE:GREGORIAN
METHOD:PUBLISH
X-WR-CALNAME:Mahomet Public Library
X-ORIGINAL-URL:https://mahometpubliclibrary.org
X-WR-CALDESC:Events for Mahomet Public Library
REFRESH-INTERVAL;VALUE=DURATION:PT1H
X-Robots-Tag:noindex
X-PUBLISHED-TTL:PT1H
BEGIN:VTIMEZONE
TZID:America/Chicago
BEGIN:DAYLIGHT
TZOFFSETFROM:-0600
TZOFFSETTO:-0500
TZNAME:CDT
DTSTART:20240310T080000
END:DAYLIGHT
BEGIN:STANDARD
TZOFFSETFROM:-0500
TZOFFSETTO:-0600
TZNAME:CST
DTSTART:20241103T070000
END:STANDARD
BEGIN:DAYLIGHT
TZOFFSETFROM:-0600
TZOFFSETTO:-0500
TZNAME:CDT
DTSTART:20250309T080000
END:DAYLIGHT
BEGIN:STANDARD
TZOFFSETFROM:-0500
TZOFFSETTO:-0600
TZNAME:CST
DTSTART:20251102T070000
END:STANDARD
BEGIN:DAYLIGHT
TZOFFSETFROM:-0600
TZOFFSETTO:-0500
TZNAME:CDT
DTSTART:20260308T080000
END:DAYLIGHT
BEGIN:STANDARD
TZOFFSETFROM:-0500
TZOFFSETTO:-0600
TZNAME:CST
DTSTART:20261101T070000
END:STANDARD
END:VTIMEZONE
BEGIN:VEVENT
DTSTART;TZID=America/Chicago:20251107T100000
DTEND;TZID=America/Chicago:20251107T110000
DTSTAMP:20260420T014511
CREATED:20250806T120041Z
LAST-MODIFIED:20251229T154320Z
UID:10001498-1762509600-1762513200@mahometpubliclibrary.org
SUMMARY:Preschool Playdate
DESCRIPTION:Children (ages 2-5) and their caregivers are welcome to join us on Friday mornings for open-ended playtime!  \nEach session will feature a different assortment of toys and activities.
URL:https://mahometpubliclibrary.org/event/preschool-playdate-3/2025-11-07/
CATEGORIES:Preschool
ATTACH;FMTTYPE=image/png:https://mahometpubliclibrary.org/wp-content/uploads/2025/08/Preschool-Playdate-Event-Image.png
END:VEVENT
BEGIN:VEVENT
DTSTART;TZID=America/Chicago:20251108T130000
DTEND;TZID=America/Chicago:20251108T150000
DTSTAMP:20260420T014511
CREATED:20250806T120034Z
LAST-MODIFIED:20250808T194655Z
UID:10001620-1762606800-1762614000@mahometpubliclibrary.org
SUMMARY:Craft Lab: Makerspace for Adults
DESCRIPTION:We will provide space to create\, experiment and connect with fellow makers. You can bring your own project to work on or try something new. \nCricut machine\, sewing machine\, ChompSaw cardboard cutter\, button (pin/magnet) maker and more. Plus some supplies available to use\, such as yarn\, thread\, paper\, crochet hooks\, knitting needles and more. \nAll skill levels are welcome. \nRegistration preferred but not required. You can drop in or stay the whole time.
URL:https://mahometpubliclibrary.org/event/craft-lab-makerspace-for-adults/2025-11-08/
CATEGORIES:Adults
ATTACH;FMTTYPE=image/png:https://mahometpubliclibrary.org/wp-content/uploads/2025/08/Adult-CraftLab-Makerspade-Fall-2025-1920-x-1080-px.png
END:VEVENT
BEGIN:VEVENT
DTSTART;TZID=America/Chicago:20251109T133000
DTEND;TZID=America/Chicago:20251109T163000
DTSTAMP:20260420T014511
CREATED:20250806T120028Z
LAST-MODIFIED:20260105T145353Z
UID:10001607-1762695000-1762705800@mahometpubliclibrary.org
SUMMARY:Teen D&D Club
DESCRIPTION:Library staff member\, Ty\, will lead a group of 6th-12th graders through a 5-part Dungeons and Dragons campaign. The group will meet once every three weeks and play through an extended campaign full of adventure and magic. \n 
URL:https://mahometpubliclibrary.org/event/teen-dd-club/2025-11-09/
CATEGORIES:Teens
ATTACH;FMTTYPE=image/png:https://mahometpubliclibrary.org/wp-content/uploads/2025/08/Teen-DD-Event-Image-FA25.png
END:VEVENT
BEGIN:VEVENT
DTSTART;TZID=America/Chicago:20251111T093000
DTEND;TZID=America/Chicago:20251111T095000
DTSTAMP:20260420T014511
CREATED:20250806T120014Z
LAST-MODIFIED:20251229T154257Z
UID:10001450-1762853400-1762854600@mahometpubliclibrary.org
SUMMARY:Baby Storytime
DESCRIPTION:Bring your baby to the Library for a fun storytime featuring lap bounces\, songs\, rhymes\, and books!  \nThis storytime is designed especially for our littlest library lovers (age 0-18 months) and their caregivers!
URL:https://mahometpubliclibrary.org/event/baby-storytime-3/2025-11-11/
ATTACH;FMTTYPE=image/png:https://mahometpubliclibrary.org/wp-content/uploads/2025/08/Baby-Storytime-Event-Image.png
END:VEVENT
BEGIN:VEVENT
DTSTART;TZID=America/Chicago:20251111T100000
DTEND;TZID=America/Chicago:20251111T103000
DTSTAMP:20260420T014511
CREATED:20250806T120057Z
LAST-MODIFIED:20251229T154206Z
UID:10001465-1762855200-1762857000@mahometpubliclibrary.org
SUMMARY:Toddler Storytime
DESCRIPTION:Join us at the Library for a storytime specifically designed for toddlers (age 18 months to 3 years) and their caregivers\, featuring songs\, rhymes and books!
URL:https://mahometpubliclibrary.org/event/toddler-storytime-3/2025-11-11/
CATEGORIES:Preschool
ATTACH;FMTTYPE=image/png:https://mahometpubliclibrary.org/wp-content/uploads/2025/08/Toddler-Storytime-Event-Image.png
END:VEVENT
BEGIN:VEVENT
DTSTART;TZID=America/Chicago:20251111T183000
DTEND;TZID=America/Chicago:20251111T193000
DTSTAMP:20260420T014511
CREATED:20250808T120032Z
LAST-MODIFIED:20251229T154508Z
UID:10001513-1762885800-1762889400@mahometpubliclibrary.org
SUMMARY:Tuesday Night Book Club
DESCRIPTION:Tuesday Night Book Club is a great way to connect with fellow book lovers. All are welcome! Grab your copy of the month’s book and we’ll talk about it with good company and great conversation. \nSeptember: Go As a River by Shelley Read\nA sweeping epic of a young woman’s journey to becoming\, set against the harsh beauty of mid-century Colorado. \nOctober: The Unmaking of June Farrow by Adrienne Young\nA woman discovers a family secret and embarks on a journey that will not only change both the past and the future\, but also uncover the mysteries of her town. \nNovember: The Frozen River by Ariel Lawhon\nAn historical mystery inspired by the life and diary of Martha Ballard\, a 18th century midwife. \nDecember: Celebrate another year of reading! We’ll enjoy snacks\, a book swap and good company to close out the year.
URL:https://mahometpubliclibrary.org/event/tuesday-night-book-club-2/2025-11-11/
CATEGORIES:Adults
ATTACH;FMTTYPE=image/png:https://mahometpubliclibrary.org/wp-content/uploads/2024/08/Tuesday-Night-Book-Club_Event-Image.png
END:VEVENT
BEGIN:VEVENT
DTSTART;TZID=America/Chicago:20251112T100000
DTEND;TZID=America/Chicago:20251112T103000
DTSTAMP:20260420T014511
CREATED:20250806T120042Z
LAST-MODIFIED:20251229T154237Z
UID:10001479-1762941600-1762943400@mahometpubliclibrary.org
SUMMARY:Preschool Storytime
DESCRIPTION:Drop in for a fun-filled storytime designed for preschool-aged children (3-5 years) and their caregivers!  \nMPL storytimes feature a fun mix of songs\, rhymes\, and books!
URL:https://mahometpubliclibrary.org/event/preschool-storytime-3/2025-11-12/
CATEGORIES:Preschool
ATTACH;FMTTYPE=image/png:https://mahometpubliclibrary.org/wp-content/uploads/2025/08/Preschool-Storytime-Event-Image.png
END:VEVENT
BEGIN:VEVENT
DTSTART;TZID=America/Chicago:20251112T153000
DTEND;TZID=America/Chicago:20251112T163000
DTSTAMP:20260420T014511
CREATED:20250806T120037Z
LAST-MODIFIED:20250808T201503Z
UID:10001595-1762961400-1762965000@mahometpubliclibrary.org
SUMMARY:Elementary Explorers: Lego Club
DESCRIPTION:Students in grades K-5 are welcome to join us after school for an hour of free-building with the library’s massive collection of legos!
URL:https://mahometpubliclibrary.org/event/elementary-explorers-lego-club/2025-11-12/
CATEGORIES:School age
ATTACH;FMTTYPE=image/png:https://mahometpubliclibrary.org/wp-content/uploads/2025/08/Elementary-Explorers-Event-Image-Fall-2025.png
END:VEVENT
BEGIN:VEVENT
DTSTART;TZID=America/Chicago:20251113T100000
DTEND;TZID=America/Chicago:20251113T103000
DTSTAMP:20260420T014511
CREATED:20250808T120045Z
LAST-MODIFIED:20251229T154006Z
UID:10001519-1763028000-1763029800@mahometpubliclibrary.org
SUMMARY:Little Groovers: Music and Movement
DESCRIPTION:This 30-minute program is perfect for children age 2-5 (and their caregivers) with a serious case of the wiggles!  \nWe’ll explore rhythm\, sound\, and movement with a fun selection of songs and dances.
URL:https://mahometpubliclibrary.org/event/little-groovers-music-and-movement/2025-11-13/
CATEGORIES:Preschool
ATTACH;FMTTYPE=image/png:https://mahometpubliclibrary.org/wp-content/uploads/2025/08/Little-Groovers-Event-Image.png
END:VEVENT
BEGIN:VEVENT
DTSTART;TZID=America/Chicago:20251113T183000
DTEND;TZID=America/Chicago:20251113T193000
DTSTAMP:20260420T014511
CREATED:20250806T120043Z
LAST-MODIFIED:20251020T152902Z
UID:10001597-1763058600-1763062200@mahometpubliclibrary.org
SUMMARY:Intro to Canva: Create a Holiday Card
DESCRIPTION:Learn the basics of Canva\, a free and easy-to-use online design tool! In this beginner friendly class\, we’ll walk through the steps to design your own holiday greeting card using Canva’s templates\, images and text tools. Laptops will be provided\, or you’re welcome to bring your own device. \nNo experience needed. \nAdults. Registration required.
URL:https://mahometpubliclibrary.org/event/intro-to-canva/
CATEGORIES:Adults
ATTACH;FMTTYPE=image/png:https://mahometpubliclibrary.org/wp-content/uploads/2025/08/Intro-to-Canva-Event-Image.png
END:VEVENT
BEGIN:VEVENT
DTSTART;TZID=America/Chicago:20251114T100000
DTEND;TZID=America/Chicago:20251114T110000
DTSTAMP:20260420T014511
CREATED:20250806T120041Z
LAST-MODIFIED:20251229T154320Z
UID:10001499-1763114400-1763118000@mahometpubliclibrary.org
SUMMARY:Preschool Playdate
DESCRIPTION:Children (ages 2-5) and their caregivers are welcome to join us on Friday mornings for open-ended playtime!  \nEach session will feature a different assortment of toys and activities.
URL:https://mahometpubliclibrary.org/event/preschool-playdate-3/2025-11-14/
CATEGORIES:Preschool
ATTACH;FMTTYPE=image/png:https://mahometpubliclibrary.org/wp-content/uploads/2025/08/Preschool-Playdate-Event-Image.png
END:VEVENT
BEGIN:VEVENT
DTSTART;TZID=America/Chicago:20251114T160000
DTEND;TZID=America/Chicago:20251114T170000
DTSTAMP:20260420T014511
CREATED:20251027T145153Z
LAST-MODIFIED:20251229T153602Z
UID:10001621-1763136000-1763139600@mahometpubliclibrary.org
SUMMARY:Graphic Novel Book Club
DESCRIPTION:Graphic novel enthusiasts in grades 3-7 are welcome to join us at the Library for a lively discussion of a specific graphic novel at each session. \nIn September\, we’ll discuss Very Bad at Math by Hope Larson and November we’ll discuss First Test by Tamora Pierce.
URL:https://mahometpubliclibrary.org/event/nov25-graphic-novel-book-club/
CATEGORIES:School age
ATTACH;FMTTYPE=image/png:https://mahometpubliclibrary.org/wp-content/uploads/2025/08/Graphic-Novel-Book-Club-Event-Image-Fall-2025.png
END:VEVENT
BEGIN:VEVENT
DTSTART;TZID=America/Chicago:20251118T093000
DTEND;TZID=America/Chicago:20251118T095000
DTSTAMP:20260420T014511
CREATED:20250806T120014Z
LAST-MODIFIED:20251229T154257Z
UID:10001451-1763458200-1763459400@mahometpubliclibrary.org
SUMMARY:Baby Storytime
DESCRIPTION:Bring your baby to the Library for a fun storytime featuring lap bounces\, songs\, rhymes\, and books!  \nThis storytime is designed especially for our littlest library lovers (age 0-18 months) and their caregivers!
URL:https://mahometpubliclibrary.org/event/baby-storytime-3/2025-11-18/
ATTACH;FMTTYPE=image/png:https://mahometpubliclibrary.org/wp-content/uploads/2025/08/Baby-Storytime-Event-Image.png
END:VEVENT
BEGIN:VEVENT
DTSTART;TZID=America/Chicago:20251118T100000
DTEND;TZID=America/Chicago:20251118T103000
DTSTAMP:20260420T014511
CREATED:20250806T120057Z
LAST-MODIFIED:20251229T154206Z
UID:10001466-1763460000-1763461800@mahometpubliclibrary.org
SUMMARY:Toddler Storytime
DESCRIPTION:Join us at the Library for a storytime specifically designed for toddlers (age 18 months to 3 years) and their caregivers\, featuring songs\, rhymes and books!
URL:https://mahometpubliclibrary.org/event/toddler-storytime-3/2025-11-18/
CATEGORIES:Preschool
ATTACH;FMTTYPE=image/png:https://mahometpubliclibrary.org/wp-content/uploads/2025/08/Toddler-Storytime-Event-Image.png
END:VEVENT
BEGIN:VEVENT
DTSTART;TZID=America/Chicago:20251118T130000
DTEND;TZID=America/Chicago:20251118T143000
DTSTAMP:20260420T014511
CREATED:20250801T120013Z
LAST-MODIFIED:20250925T204223Z
UID:10001523-1763470800-1763476200@mahometpubliclibrary.org
SUMMARY:Adult Crafternoon
DESCRIPTION:Join us for an afternoon of crafting! All supplies will be provided for this beginner level projects. \nPlease register. \nNovember:\nPaint Like Me or Paint by Number (?)
URL:https://mahometpubliclibrary.org/event/adult-crafternoon-nov25/
CATEGORIES:Adults
ATTACH;FMTTYPE=image/png:https://mahometpubliclibrary.org/wp-content/uploads/2025/08/Adult-Crafternoon-Event-Image-Fall-2025.png
END:VEVENT
BEGIN:VEVENT
DTSTART;TZID=America/Chicago:20251119T100000
DTEND;TZID=America/Chicago:20251119T103000
DTSTAMP:20260420T014511
CREATED:20250806T120042Z
LAST-MODIFIED:20251229T154237Z
UID:10001480-1763546400-1763548200@mahometpubliclibrary.org
SUMMARY:Preschool Storytime
DESCRIPTION:Drop in for a fun-filled storytime designed for preschool-aged children (3-5 years) and their caregivers!  \nMPL storytimes feature a fun mix of songs\, rhymes\, and books!
URL:https://mahometpubliclibrary.org/event/preschool-storytime-3/2025-11-19/
CATEGORIES:Preschool
ATTACH;FMTTYPE=image/png:https://mahometpubliclibrary.org/wp-content/uploads/2025/08/Preschool-Storytime-Event-Image.png
END:VEVENT
BEGIN:VEVENT
DTSTART;TZID=America/Chicago:20251119T153000
DTEND;TZID=America/Chicago:20251119T163000
DTSTAMP:20260420T014511
CREATED:20250806T120037Z
LAST-MODIFIED:20250808T201503Z
UID:10001596-1763566200-1763569800@mahometpubliclibrary.org
SUMMARY:Elementary Explorers: Lego Club
DESCRIPTION:Students in grades K-5 are welcome to join us after school for an hour of free-building with the library’s massive collection of legos!
URL:https://mahometpubliclibrary.org/event/elementary-explorers-lego-club/2025-11-19/
CATEGORIES:School age
ATTACH;FMTTYPE=image/png:https://mahometpubliclibrary.org/wp-content/uploads/2025/08/Elementary-Explorers-Event-Image-Fall-2025.png
END:VEVENT
BEGIN:VEVENT
DTSTART;TZID=America/Chicago:20251120T183000
DTEND;TZID=America/Chicago:20251120T193000
DTSTAMP:20260420T014511
CREATED:20251020T161645Z
LAST-MODIFIED:20251020T161645Z
UID:10001637-1763663400-1763667000@mahometpubliclibrary.org
SUMMARY:Stargazing in Illinois
DESCRIPTION:Central Illinois is an excellent place to stargaze\, but it can be hard to know where to begin. We’ll talk about sky objects which can be seen from Central Illinois throughout the year and some free-to-use stargazing resources. We’ll also discuss the upcoming Geminid meteor shower\, which peaks in December and is visible from the nearby Middle Fork Dark Sky site. \nPresented by the University of Illinois Astronomy Department \nAll ages. Ages 14 and under should attend with an adult. Please register.
URL:https://mahometpubliclibrary.org/event/stargazing-in-illinois/
CATEGORIES:All Ages
ATTACH;FMTTYPE=image/png:https://mahometpubliclibrary.org/wp-content/uploads/2025/10/Stargazing_Event-Cover_November-2025.png
END:VEVENT
BEGIN:VEVENT
DTSTART;TZID=America/Chicago:20251121T100000
DTEND;TZID=America/Chicago:20251121T110000
DTSTAMP:20260420T014511
CREATED:20250806T120041Z
LAST-MODIFIED:20251229T154320Z
UID:10001500-1763719200-1763722800@mahometpubliclibrary.org
SUMMARY:Preschool Playdate
DESCRIPTION:Children (ages 2-5) and their caregivers are welcome to join us on Friday mornings for open-ended playtime!  \nEach session will feature a different assortment of toys and activities.
URL:https://mahometpubliclibrary.org/event/preschool-playdate-3/2025-11-21/
CATEGORIES:Preschool
ATTACH;FMTTYPE=image/png:https://mahometpubliclibrary.org/wp-content/uploads/2025/08/Preschool-Playdate-Event-Image.png
END:VEVENT
BEGIN:VEVENT
DTSTART;TZID=America/Chicago:20251121T173000
DTEND;TZID=America/Chicago:20251121T203000
DTSTAMP:20260420T014511
CREATED:20250806T120016Z
LAST-MODIFIED:20250808T203436Z
UID:10001612-1763746200-1763757000@mahometpubliclibrary.org
SUMMARY:Teen After-Hours Movie Night: Wicked Part 1
DESCRIPTION:Celebrate opening weekend of Wicked Part 2 with a refresher on Part 1! We’ll have pizza and snacks and watch the first movie on the big screen in the meeting room! \nRegistration is required. \nPlease note: This is an after-hours event reserved for students in grades 6-12.
URL:https://mahometpubliclibrary.org/event/teen-after-hours-movie-night-wicked-part-1/
CATEGORIES:Teens
ATTACH;FMTTYPE=image/png:https://mahometpubliclibrary.org/wp-content/uploads/2025/08/Wicked-Part-One-Event-Image.png
END:VEVENT
BEGIN:VEVENT
DTSTART;TZID=America/Chicago:20251125T093000
DTEND;TZID=America/Chicago:20251125T095000
DTSTAMP:20260420T014511
CREATED:20250806T120014Z
LAST-MODIFIED:20251229T154257Z
UID:10001452-1764063000-1764064200@mahometpubliclibrary.org
SUMMARY:Baby Storytime
DESCRIPTION:Bring your baby to the Library for a fun storytime featuring lap bounces\, songs\, rhymes\, and books!  \nThis storytime is designed especially for our littlest library lovers (age 0-18 months) and their caregivers!
URL:https://mahometpubliclibrary.org/event/baby-storytime-3/2025-11-25/
ATTACH;FMTTYPE=image/png:https://mahometpubliclibrary.org/wp-content/uploads/2025/08/Baby-Storytime-Event-Image.png
END:VEVENT
BEGIN:VEVENT
DTSTART;TZID=America/Chicago:20251125T100000
DTEND;TZID=America/Chicago:20251125T103000
DTSTAMP:20260420T014511
CREATED:20250806T120057Z
LAST-MODIFIED:20251229T154206Z
UID:10001467-1764064800-1764066600@mahometpubliclibrary.org
SUMMARY:Toddler Storytime
DESCRIPTION:Join us at the Library for a storytime specifically designed for toddlers (age 18 months to 3 years) and their caregivers\, featuring songs\, rhymes and books!
URL:https://mahometpubliclibrary.org/event/toddler-storytime-3/2025-11-25/
CATEGORIES:Preschool
ATTACH;FMTTYPE=image/png:https://mahometpubliclibrary.org/wp-content/uploads/2025/08/Toddler-Storytime-Event-Image.png
END:VEVENT
BEGIN:VEVENT
DTSTART;TZID=America/Chicago:20251126T100000
DTEND;TZID=America/Chicago:20251126T103000
DTSTAMP:20260420T014511
CREATED:20250806T120042Z
LAST-MODIFIED:20251229T154237Z
UID:10001481-1764151200-1764153000@mahometpubliclibrary.org
SUMMARY:Preschool Storytime
DESCRIPTION:Drop in for a fun-filled storytime designed for preschool-aged children (3-5 years) and their caregivers!  \nMPL storytimes feature a fun mix of songs\, rhymes\, and books!
URL:https://mahometpubliclibrary.org/event/preschool-storytime-3/2025-11-26/
CATEGORIES:Preschool
ATTACH;FMTTYPE=image/png:https://mahometpubliclibrary.org/wp-content/uploads/2025/08/Preschool-Storytime-Event-Image.png
END:VEVENT
BEGIN:VEVENT
DTSTART;TZID=America/Chicago:20251130T133000
DTEND;TZID=America/Chicago:20251130T163000
DTSTAMP:20260420T014511
CREATED:20250806T120028Z
LAST-MODIFIED:20260105T145353Z
UID:10001608-1764509400-1764520200@mahometpubliclibrary.org
SUMMARY:Teen D&D Club
DESCRIPTION:Library staff member\, Ty\, will lead a group of 6th-12th graders through a 5-part Dungeons and Dragons campaign. The group will meet once every three weeks and play through an extended campaign full of adventure and magic. \n 
URL:https://mahometpubliclibrary.org/event/teen-dd-club/2025-11-30/
CATEGORIES:Teens
ATTACH;FMTTYPE=image/png:https://mahometpubliclibrary.org/wp-content/uploads/2025/08/Teen-DD-Event-Image-FA25.png
END:VEVENT
BEGIN:VEVENT
DTSTART;TZID=America/Chicago:20251130T140000
DTEND;TZID=America/Chicago:20251130T143000
DTSTAMP:20260420T014511
CREATED:20250806T163037Z
LAST-MODIFIED:20250808T192641Z
UID:10001598-1764511200-1764513000@mahometpubliclibrary.org
SUMMARY:Mahomet-Seymour Madrigals
DESCRIPTION:Join us for a special performance by the Mahomet-Seymour High School Madrigals. Dressed in Renaissance costumes\, the ensemble will perform enchanting a cappella holiday selections. \nSeating is first come first served.
URL:https://mahometpubliclibrary.org/event/mahomet-seymour-madrigals/
CATEGORIES:All Ages
ATTACH;FMTTYPE=image/png:https://mahometpubliclibrary.org/wp-content/uploads/2025/10/Madrigals-Fall-2025-Event-Image.png
END:VEVENT
BEGIN:VEVENT
DTSTART;TZID=America/Chicago:20251201T100000
DTEND;TZID=America/Chicago:20251201T140000
DTSTAMP:20260420T014511
CREATED:20251113T213000Z
LAST-MODIFIED:20251113T213111Z
UID:10001638-1764583200-1764597600@mahometpubliclibrary.org
SUMMARY:Mobile DMV Pop-Up Event
DESCRIPTION:Secretary of State Mobile DMV to Appear at the Mahomet Public Library\nTo register or ask questions\, please contact the Mahomet Public Library at (217)586-2611 or staff@mahometpubliclibrary.org.\nRegistration opens Wednesday\, November 19.\n  \nThe Illinois Secretary of State’s Mobile Driver Services unit will be at the Mahomet Public Library on December 1\, 2025. The event will be from 10 a.m. to 2 p.m. at 1702 E Oak Street Mahomet\, IL. \nRepresentatives of the Secretary of State’s office will be on hand to assist with renewing or correcting driver’s licenses\, converting existing standard driver’s licenses into REAL ID driver’s licenses\, obtaining renewed or first time Standard or REAL state IDs\, issuing free state IDs for seniors aged 65 or older\, and purchasing license plate stickers. \nAttendees can also register to be an organ donor/tissue donor and register to vote while applying for a driver’s license or identification card. \nA list of acceptable documents for the issuance of first time ID’s and REAL ID’s can be found at the links below: \nREAL ID’s \nFirst Time ID’s
URL:https://mahometpubliclibrary.org/event/mobile-dmv-12-2025/
CATEGORIES:Adults
ATTACH;FMTTYPE=image/png:https://mahometpubliclibrary.org/wp-content/uploads/2025/11/ILSOS-Mobile-DMV_Event-Image.png
END:VEVENT
BEGIN:VEVENT
DTSTART;TZID=America/Chicago:20251202T093000
DTEND;TZID=America/Chicago:20251202T095000
DTSTAMP:20260420T014511
CREATED:20250806T120014Z
LAST-MODIFIED:20251229T154257Z
UID:10001453-1764667800-1764669000@mahometpubliclibrary.org
SUMMARY:Baby Storytime
DESCRIPTION:Bring your baby to the Library for a fun storytime featuring lap bounces\, songs\, rhymes\, and books!  \nThis storytime is designed especially for our littlest library lovers (age 0-18 months) and their caregivers!
URL:https://mahometpubliclibrary.org/event/baby-storytime-3/2025-12-02/
ATTACH;FMTTYPE=image/png:https://mahometpubliclibrary.org/wp-content/uploads/2025/08/Baby-Storytime-Event-Image.png
END:VEVENT
BEGIN:VEVENT
DTSTART;TZID=America/Chicago:20251202T100000
DTEND;TZID=America/Chicago:20251202T103000
DTSTAMP:20260420T014511
CREATED:20250806T120057Z
LAST-MODIFIED:20251229T154206Z
UID:10001468-1764669600-1764671400@mahometpubliclibrary.org
SUMMARY:Toddler Storytime
DESCRIPTION:Join us at the Library for a storytime specifically designed for toddlers (age 18 months to 3 years) and their caregivers\, featuring songs\, rhymes and books!
URL:https://mahometpubliclibrary.org/event/toddler-storytime-3/2025-12-02/
CATEGORIES:Preschool
ATTACH;FMTTYPE=image/png:https://mahometpubliclibrary.org/wp-content/uploads/2025/08/Toddler-Storytime-Event-Image.png
END:VEVENT
BEGIN:VEVENT
DTSTART;TZID=America/Chicago:20251203T100000
DTEND;TZID=America/Chicago:20251203T103000
DTSTAMP:20260420T014511
CREATED:20250806T120042Z
LAST-MODIFIED:20251229T154237Z
UID:10001482-1764756000-1764757800@mahometpubliclibrary.org
SUMMARY:Preschool Storytime
DESCRIPTION:Drop in for a fun-filled storytime designed for preschool-aged children (3-5 years) and their caregivers!  \nMPL storytimes feature a fun mix of songs\, rhymes\, and books!
URL:https://mahometpubliclibrary.org/event/preschool-storytime-3/2025-12-03/
CATEGORIES:Preschool
ATTACH;FMTTYPE=image/png:https://mahometpubliclibrary.org/wp-content/uploads/2025/08/Preschool-Storytime-Event-Image.png
END:VEVENT
BEGIN:VEVENT
DTSTART;TZID=America/Chicago:20251203T133000
DTEND;TZID=America/Chicago:20251203T143000
DTSTAMP:20260420T014511
CREATED:20250806T120018Z
LAST-MODIFIED:20250808T201743Z
UID:10001599-1764768600-1764772200@mahometpubliclibrary.org
SUMMARY:Elementary Explorers: Maker's Club
DESCRIPTION:Aspiring inventors\, artists\, and engineers in grades K-5 are welcome to join us at the library for an after-school club makerspace! A variety of craft supplies will be available for students to experiment and create with!
URL:https://mahometpubliclibrary.org/event/elementary-explorers-makers-club/2025-12-03/
CATEGORIES:School age
ATTACH;FMTTYPE=image/png:https://mahometpubliclibrary.org/wp-content/uploads/2025/08/Elementary-Explorers-Event-Image-Fall-2025.png
END:VEVENT
END:VCALENDAR