BEGIN:VCALENDAR
VERSION:2.0
PRODID:-//Mahomet Public Library - ECPv6.15.11//NONSGML v1.0//EN
CALSCALE:GREGORIAN
METHOD:PUBLISH
X-WR-CALNAME:Mahomet Public Library
X-ORIGINAL-URL:https://mahometpubliclibrary.org
X-WR-CALDESC:Events for Mahomet Public Library
REFRESH-INTERVAL;VALUE=DURATION:PT1H
X-Robots-Tag:noindex
X-PUBLISHED-TTL:PT1H
BEGIN:VTIMEZONE
TZID:America/Chicago
BEGIN:DAYLIGHT
TZOFFSETFROM:-0600
TZOFFSETTO:-0500
TZNAME:CDT
DTSTART:20240310T080000
END:DAYLIGHT
BEGIN:STANDARD
TZOFFSETFROM:-0500
TZOFFSETTO:-0600
TZNAME:CST
DTSTART:20241103T070000
END:STANDARD
BEGIN:DAYLIGHT
TZOFFSETFROM:-0600
TZOFFSETTO:-0500
TZNAME:CDT
DTSTART:20250309T080000
END:DAYLIGHT
BEGIN:STANDARD
TZOFFSETFROM:-0500
TZOFFSETTO:-0600
TZNAME:CST
DTSTART:20251102T070000
END:STANDARD
BEGIN:DAYLIGHT
TZOFFSETFROM:-0600
TZOFFSETTO:-0500
TZNAME:CDT
DTSTART:20260308T080000
END:DAYLIGHT
BEGIN:STANDARD
TZOFFSETFROM:-0500
TZOFFSETTO:-0600
TZNAME:CST
DTSTART:20261101T070000
END:STANDARD
END:VTIMEZONE
BEGIN:VEVENT
DTSTART;TZID=America/Chicago:20250713T140000
DTEND;TZID=America/Chicago:20250713T160000
DTSTAMP:20260419T180338
CREATED:20250424T152300Z
LAST-MODIFIED:20250626T212237Z
UID:10001374-1752415200-1752422400@mahometpubliclibrary.org
SUMMARY:Ice Cream Social
DESCRIPTION:Get ready for a scoop of community appreciation! Join us for an ice cream social hosted by the Library’s Board of Trustees. Enjoy free ice cream (and toppings!) and connect with the leaders dedicated to serving your Library. Then\, while you eat your ice cream\, listen to live music provided by Isaac & Jack of Hometown Band. \nA sweet celebration awaits! \nA huge thanks to The Main Scoop for the ice cream\, the Board of Trustees for the toppings\, and Friends of the Library for funding the music! \n  \nThere is no cost or registration required to attend the Ice Cream Social. Anyone may attend. Music will be on the lawn (weather permitting) or in the Edgar Room\, if it rains or is scorchingly hot. If you have them\, please bring blankets or lawn chairs to sit in while you eat your ice cream and listen to music! Some lawn games will also be available.
URL:https://mahometpubliclibrary.org/event/ice-cream-social-2025/
CATEGORIES:All Ages
ATTACH;FMTTYPE=image/png:https://mahometpubliclibrary.org/wp-content/uploads/2024/05/Ice-Cream-Social_Event-Image_July-2024.png
END:VEVENT
BEGIN:VEVENT
DTSTART;TZID=America/Chicago:20250715T093000
DTEND;TZID=America/Chicago:20250715T095000
DTSTAMP:20260419T180338
CREATED:20250424T154647Z
LAST-MODIFIED:20250424T154707Z
UID:10001339-1752571800-1752573000@mahometpubliclibrary.org
SUMMARY:Baby Storytime
DESCRIPTION:Bring your baby to storytime on Tuesday mornings in June and July at the Library! There will be songs\, bounces\, and books! \n  \nAges 0-18 months. No registration required.
URL:https://mahometpubliclibrary.org/event/summer-2025-baby-storytime/2025-07-15/
CATEGORIES:Preschool
ATTACH;FMTTYPE=image/png:https://mahometpubliclibrary.org/wp-content/uploads/2024/05/Baby-Storytime_Event-Image_2024.png
END:VEVENT
BEGIN:VEVENT
DTSTART;TZID=America/Chicago:20250715T130000
DTEND;TZID=America/Chicago:20250715T143000
DTSTAMP:20260419T180338
CREATED:20250424T152243Z
LAST-MODIFIED:20250424T152243Z
UID:10001410-1752584400-1752589800@mahometpubliclibrary.org
SUMMARY:Adult Crafternoon: Intro to Cross-Stitching
DESCRIPTION:Enjoy a relaxing afternoon crafting unique projects while connecting with fellow crafters. All supplies are provided. \nDates and Crafts:\nJune 17: Teacup bird feeders \nJuly 15: Introduction to cross-stitching \nAdults. Registration required. No meeting in August.
URL:https://mahometpubliclibrary.org/event/july-2025-crafternoon/
CATEGORIES:Adults
ATTACH;FMTTYPE=image/png:https://mahometpubliclibrary.org/wp-content/uploads/2023/06/September.png
END:VEVENT
BEGIN:VEVENT
DTSTART;TZID=America/Chicago:20250715T150000
DTEND;TZID=America/Chicago:20250715T160000
DTSTAMP:20260419T180338
CREATED:20250424T152207Z
LAST-MODIFIED:20250424T152207Z
UID:10001363-1752591600-1752595200@mahometpubliclibrary.org
SUMMARY:Adventures in Art: Stitched Yarn Art
DESCRIPTION:Join us for an hour of artistic fun! All supplies needed to make each project will be provided. \nDates and Projects:\nJune 3: Splatter Paint \nJune 17: Loom Weaving \nJuly 1: Bubble Paint Flowers \nJuly 15: Stitched Yarn Art \nJuly 29: Perler Bead Pixel Art \nEntering grades 2-5. Registration required.
URL:https://mahometpubliclibrary.org/event/adventures-in-art-yarn-art/
CATEGORIES:School age
ATTACH;FMTTYPE=image/png:https://mahometpubliclibrary.org/wp-content/uploads/2024/05/Adventures-in-Art_Event-Image_Summer-2024.png
END:VEVENT
BEGIN:VEVENT
DTSTART;TZID=America/Chicago:20250716T100000
DTEND;TZID=America/Chicago:20250716T103000
DTSTAMP:20260419T180338
CREATED:20250424T154632Z
LAST-MODIFIED:20250424T154632Z
UID:10001357-1752660000-1752661800@mahometpubliclibrary.org
SUMMARY:All Ages Storytime
DESCRIPTION:Join us for storytime on Wednesday mornings in June and July for children ages 0-5 and caregivers. There will be books\, bouncing\, songs\, and more!
URL:https://mahometpubliclibrary.org/event/all-ages-storytime/2025-07-16/
CATEGORIES:Preschool
ATTACH;FMTTYPE=image/png:https://mahometpubliclibrary.org/wp-content/uploads/2024/05/All-Ages-Storytime_Event-Image.png
END:VEVENT
BEGIN:VEVENT
DTSTART;TZID=America/Chicago:20250716T183000
DTEND;TZID=America/Chicago:20250716T203000
DTSTAMP:20260419T180338
CREATED:20250623T180022Z
LAST-MODIFIED:20250721T161350Z
UID:10001438-1752690600-1752697800@mahometpubliclibrary.org
SUMMARY:Library Expansion Community Meetings
DESCRIPTION:Mahomet Library Expansion is Moving Forward!\nCommunity Meetings this Summer\nAfter many years of planning\, the Board of Trustees of the Mahomet Public Library has decided to move ahead actively with a much needed expansion. This expansion is expected to include a new\, larger children’s library with a dedicated teen room\, a much larger meeting and programming room\, more community space and a covered patio/outdoor program space. \nRead more about the expansion project here: Dreaming of the Future: What the Future Holds for Our Community’s Library Building \nWould you like to learn more\, or volunteer to help in some way with this exciting addition to our community? We are planning three Community Meetings to introduce the details of the project\, answer questions\, and get feedback from the community. The three meetings will be: \nThursday\, June 26th 6:00pm \nWednesday\, July 16th 6:30pm \nSunday\, August 3rd 2:00pm
URL:https://mahometpubliclibrary.org/event/library-expansion-community-meetings/2025-07-16/
CATEGORIES:All Ages
ATTACH;FMTTYPE=image/png:https://mahometpubliclibrary.org/wp-content/uploads/2025/06/Library-Expansion-Community-Meetings-1.png
END:VEVENT
BEGIN:VEVENT
DTSTART;TZID=America/Chicago:20250717T140000
DTEND;TZID=America/Chicago:20250717T160000
DTSTAMP:20260419T180338
CREATED:20250424T154134Z
LAST-MODIFIED:20250424T154156Z
UID:10001394-1752760800-1752768000@mahometpubliclibrary.org
SUMMARY:LEGO Club: Summer Edition
DESCRIPTION:Calling all LEGO lovers! Join us every month this summer for drop-in open play with our huge collection of LEGOs! \nDates:\nJune 19 \nJuly 17 \nEntering grades K-5. No registration required.
URL:https://mahometpubliclibrary.org/event/summer-lego-club/2025-07-17/
CATEGORIES:School age
ATTACH;FMTTYPE=image/png:https://mahometpubliclibrary.org/wp-content/uploads/2025/04/Lego-Club_Event-Image_Summer-2025.png
END:VEVENT
BEGIN:VEVENT
DTSTART;TZID=America/Chicago:20250717T183000
DTEND;TZID=America/Chicago:20250717T193000
DTSTAMP:20260419T180338
CREATED:20250424T152141Z
LAST-MODIFIED:20250424T152141Z
UID:10001415-1752777000-1752780600@mahometpubliclibrary.org
SUMMARY:Intro to Genealogy
DESCRIPTION:Curious about your family history? Join genealogist Wendy Harris for this beginner friendly genealogy workshop where you will learn the basics of tracing your roots. Discover useful resources\, research tips\, and how to organize your findings. \nAdults. Registration required.
URL:https://mahometpubliclibrary.org/event/intro-to-genealogy/
CATEGORIES:Adults
ATTACH;FMTTYPE=image/png:https://mahometpubliclibrary.org/wp-content/uploads/2025/04/Intro-to-genealogy-1920-x-1080-px-1.png
END:VEVENT
BEGIN:VEVENT
DTSTART;TZID=America/Chicago:20250718T100000
DTEND;TZID=America/Chicago:20250718T110000
DTSTAMP:20260419T180338
CREATED:20250424T152118Z
LAST-MODIFIED:20250424T152118Z
UID:10001371-1752832800-1752836400@mahometpubliclibrary.org
SUMMARY:Family Fun Friday: Bigger Bang Bubble Show
DESCRIPTION:Each Friday morning in June and July\, we’ll have a fun event for all ages at the Library! Events will range from drop-in stations and outdoor activities to special presentations from professional performers. \nDates and Events:\nJune 6: Field Day at the Library! (outdoor activities and games; in the case of inclement weather\, this will change to a drop-in craft program) \nJune 13: Magic with Joel Shoemaker* \nJune 20: Unlazy River (outdoor obstacle course; in the case of inclement weather\, this will change to a drop-in craft program) \nJune 27: Do Art! With Do Art Productions* \nJuly 11: Minecraft BINGO \nJuly 18: Bigger Bang Bubble Show with Absolute Science* \nJuly 25: Blast From the Past: Nostalgic Toys Open Play \n  \n*These special presentations end at 11:00 am instead of 11:30 am. \nAll ages. No registration required.
URL:https://mahometpubliclibrary.org/event/family-fun-friday-bubble-show/
CATEGORIES:All Ages
ATTACH;FMTTYPE=image/png:https://mahometpubliclibrary.org/wp-content/uploads/2025/04/6.png
END:VEVENT
BEGIN:VEVENT
DTSTART;TZID=America/Chicago:20250719T130000
DTEND;TZID=America/Chicago:20250719T150000
DTSTAMP:20260419T180338
CREATED:20250424T152103Z
LAST-MODIFIED:20250424T152103Z
UID:10001375-1752930000-1752937200@mahometpubliclibrary.org
SUMMARY:Pokémon Party
DESCRIPTION:Calling all Pokémon fans! Come help us celebrate all things Pokémon at the Library! We’ll have crafts and activities set up all around the Library. \nAll ages. No registration required.
URL:https://mahometpubliclibrary.org/event/pokemon-party/
CATEGORIES:All Ages
ATTACH;FMTTYPE=image/png:https://mahometpubliclibrary.org/wp-content/uploads/2025/04/Pokemon-Party_Event-Image_July-2025.png
END:VEVENT
BEGIN:VEVENT
DTSTART;TZID=America/Chicago:20250720T133000
DTEND;TZID=America/Chicago:20250720T163000
DTSTAMP:20260419T180338
CREATED:20250424T153130Z
LAST-MODIFIED:20250424T153141Z
UID:10001425-1753018200-1753029000@mahometpubliclibrary.org
SUMMARY:Teen D&D Club
DESCRIPTION:Join us for exciting Dungeons and Dragons adventures that encourage creativity\, problem solving\, strategy\, and teamwork! Library staff member\, Ty\, will lead players through exciting one-shot D&D adventures! \nEntering grades 7-12. Registration required.
URL:https://mahometpubliclibrary.org/event/july-20-teen-dnd-club/
CATEGORIES:Teens
ATTACH;FMTTYPE=image/png:https://mahometpubliclibrary.org/wp-content/uploads/2025/04/Teen-Dungeons-and-Dragons-Club_Event-Image.png
END:VEVENT
BEGIN:VEVENT
DTSTART;TZID=America/Chicago:20250722T093000
DTEND;TZID=America/Chicago:20250722T095000
DTSTAMP:20260419T180338
CREATED:20250424T154647Z
LAST-MODIFIED:20250424T154707Z
UID:10001340-1753176600-1753177800@mahometpubliclibrary.org
SUMMARY:Baby Storytime
DESCRIPTION:Bring your baby to storytime on Tuesday mornings in June and July at the Library! There will be songs\, bounces\, and books! \n  \nAges 0-18 months. No registration required.
URL:https://mahometpubliclibrary.org/event/summer-2025-baby-storytime/2025-07-22/
CATEGORIES:Preschool
ATTACH;FMTTYPE=image/png:https://mahometpubliclibrary.org/wp-content/uploads/2024/05/Baby-Storytime_Event-Image_2024.png
END:VEVENT
BEGIN:VEVENT
DTSTART;TZID=America/Chicago:20250722T190000
DTEND;TZID=America/Chicago:20250722T200000
DTSTAMP:20260419T180338
CREATED:20250424T152033Z
LAST-MODIFIED:20250424T152033Z
UID:10001416-1753210800-1753214400@mahometpubliclibrary.org
SUMMARY:DIY Skin Care
DESCRIPTION:Join us as we make some simple\, natural products. There will be three stations making sugar scrub\, lip balm\, and after-sun spray. \nAdults. Registration required.
URL:https://mahometpubliclibrary.org/event/diy-skin-care/
CATEGORIES:Adults
ATTACH;FMTTYPE=image/png:https://mahometpubliclibrary.org/wp-content/uploads/2025/04/DIY-SKIN-CARE-1920-x-1080-px.png
END:VEVENT
BEGIN:VEVENT
DTSTART;TZID=America/Chicago:20250723T100000
DTEND;TZID=America/Chicago:20250723T103000
DTSTAMP:20260419T180338
CREATED:20250424T154632Z
LAST-MODIFIED:20250424T154632Z
UID:10001358-1753264800-1753266600@mahometpubliclibrary.org
SUMMARY:All Ages Storytime
DESCRIPTION:Join us for storytime on Wednesday mornings in June and July for children ages 0-5 and caregivers. There will be books\, bouncing\, songs\, and more!
URL:https://mahometpubliclibrary.org/event/all-ages-storytime/2025-07-23/
CATEGORIES:Preschool
ATTACH;FMTTYPE=image/png:https://mahometpubliclibrary.org/wp-content/uploads/2024/05/All-Ages-Storytime_Event-Image.png
END:VEVENT
BEGIN:VEVENT
DTSTART;TZID=America/Chicago:20250723T150000
DTEND;TZID=America/Chicago:20250723T160000
DTSTAMP:20260419T180338
CREATED:20250424T152008Z
LAST-MODIFIED:20250424T152008Z
UID:10001381-1753282800-1753286400@mahometpubliclibrary.org
SUMMARY:Level Up! STEM: Paper Plate Rollercoasters
DESCRIPTION:Take on a STEM challenge! Level-up your STEM skills with a new challenge each session. \nDates and Challenges:\nJune 11: Egg Drop Challenge \nJune 25: LEGO Derby \nJuly 9: DIY Articulated Grabber \nJuly 23: Paper Plate Rollercoasters \nFor students entering grades 2-5. Registration required. \n 
URL:https://mahometpubliclibrary.org/event/level-up-stem-rollercoasters/
CATEGORIES:School age
ATTACH;FMTTYPE=image/png:https://mahometpubliclibrary.org/wp-content/uploads/2025/04/Level-Up-STEM_Event-Image_Summer-2025-1.png
END:VEVENT
BEGIN:VEVENT
DTSTART;TZID=America/Chicago:20250724T100000
DTEND;TZID=America/Chicago:20250724T103000
DTSTAMP:20260419T180338
CREATED:20250424T154224Z
LAST-MODIFIED:20250424T154252Z
UID:10001391-1753351200-1753353000@mahometpubliclibrary.org
SUMMARY:Little Groovers! Music and Movement
DESCRIPTION:Join us for a fun-filled music and movement program designed for toddlers and preschoolers age 2-5 and their caregivers. In this interactive program\, children will sing\, dance\, and move to a variety of exciting songs that engage their imaginations\, enhance motor skills\, and encourage social interaction. \nFor children ages 2-5 and their caregivers. No registration required. \n  \nDates (every other Thursday): \nJune 12 \nJune 26 \nJuly 10 \nJuly 24
URL:https://mahometpubliclibrary.org/event/little-groover/2025-07-24/
CATEGORIES:Preschool
ATTACH;FMTTYPE=image/png:https://mahometpubliclibrary.org/wp-content/uploads/2024/12/little-groovers-event-cover-1.png
END:VEVENT
BEGIN:VEVENT
DTSTART;TZID=America/Chicago:20250724T150000
DTEND;TZID=America/Chicago:20250724T163000
DTSTAMP:20260419T180338
CREATED:20250424T152653Z
LAST-MODIFIED:20250424T152653Z
UID:10001419-1753369200-1753374600@mahometpubliclibrary.org
SUMMARY:Teen Makerspace: Open Lab
DESCRIPTION:Enjoy 90 minutes of open access to a variety of makerspace materials\, including ChompSaw cardboard cutters\, button makers\, hot glue\, and so much more. A variety of creative materials will be available for use. \nDates:\nThursday\, June 26 \nThursday\, July 24 \nEntering grades 6-12. No registration required.
URL:https://mahometpubliclibrary.org/event/teen-makerspace/2025-07-24/
CATEGORIES:Teens
ATTACH;FMTTYPE=image/png:https://mahometpubliclibrary.org/wp-content/uploads/2025/04/Teen-Makerspace-Open-Lab_Event-Image.png
END:VEVENT
BEGIN:VEVENT
DTSTART;TZID=America/Chicago:20250724T180000
DTEND;TZID=America/Chicago:20250724T190000
DTSTAMP:20260419T180338
CREATED:20250424T153844Z
LAST-MODIFIED:20250424T153853Z
UID:10001408-1753380000-1753383600@mahometpubliclibrary.org
SUMMARY:Yoga on the Lawn
DESCRIPTION:Downward Facing Dog. Warrior Pose. Lotus Position. Summer Yoga with Colleen Crawford is an approachable yoga practice with options offered and demonstrated that allow you to choose whether you want a more challenging or more chill experience. With a different focus in each of the four classes\, expect a unique practice in each class you attend. \nAdults. Registration required. \nAbout the Instructor: \nColleen Crawford is an experienced fitness instructor\, personal trainer\, and yoga teacher. She taught her first group fitness class in 2007 and has pursued and completed numerous continuing education and certification classes in the years since. In her classes\, Colleen strives to provide an experience where all participants feel successful by offering options that allow each individual to tailor the movements to their needs. Colleen’s credentials include RYT-200 hr\, NCSA-CPT\, Certified Pre- and Post-Natal Coach\, Roll Model Method Practitioner\, Barre Above\, PiYo\, TurboKick\, and INSANITY. \n 
URL:https://mahometpubliclibrary.org/event/july24-summer-2025-yoga/
CATEGORIES:Adults
ATTACH;FMTTYPE=image/png:https://mahometpubliclibrary.org/wp-content/uploads/2024/05/Yoga-on-the-Lawn_Facebook-Cover_Summer-2024.png
END:VEVENT
BEGIN:VEVENT
DTSTART;TZID=America/Chicago:20250725T100000
DTEND;TZID=America/Chicago:20250725T113000
DTSTAMP:20260419T180338
CREATED:20250424T151939Z
LAST-MODIFIED:20250424T151939Z
UID:10001370-1753437600-1753443000@mahometpubliclibrary.org
SUMMARY:Family Fun Friday: Blast From the Past - Nostalgic Toys Open Play
DESCRIPTION:Each Friday morning in June and July\, we’ll have a fun event for all ages at the Library! Events will range from drop-in stations and outdoor activities to special presentations from professional performers. \nDates and Events:\nJune 6: Field Day at the Library! (outdoor activities and games; in the case of inclement weather\, this will change to a drop-in craft program) \nJune 13: Magic with Joel Shoemaker* \nJune 20: Unlazy River (outdoor obstacle course; in the case of inclement weather\, this will change to a drop-in craft program) \nJune 27: Do Art! With Do Art Productions* \nJuly 11: Minecraft BINGO \nJuly 18: Bigger Bang Bubble Show with Absolute Science* \nJuly 25: Blast From the Past: Nostalgic Toys Open Play \n  \n*These special presentations end at 11:00 am instead of 11:30 am. \nAll ages. No registration required.
URL:https://mahometpubliclibrary.org/event/family-fun-friday-nostalgic-toys/
CATEGORIES:All Ages
ATTACH;FMTTYPE=image/png:https://mahometpubliclibrary.org/wp-content/uploads/2025/04/7.png
END:VEVENT
BEGIN:VEVENT
DTSTART;TZID=America/Chicago:20250725T160000
DTEND;TZID=America/Chicago:20250725T170000
DTSTAMP:20260419T180338
CREATED:20250424T151823Z
LAST-MODIFIED:20250424T151928Z
UID:10001395-1753459200-1753462800@mahometpubliclibrary.org
SUMMARY:Graphic Novel Book Club: Gamerville
DESCRIPTION:Calling all graphic novel enthusiasts! Join us as we read and discuss a set graphic novel at each book club session. \n  \nDates and Books:\nJune 27: Escape from Mr. Lemoncello’s Library by Chris Grabenstein \nJuly 25: Gamerville by Johnnie Christmas \n  \nGrades 3-7. Please register for each session individually.
URL:https://mahometpubliclibrary.org/event/july-2025-graphic-novel-club/
CATEGORIES:School age
ATTACH;FMTTYPE=image/png:https://mahometpubliclibrary.org/wp-content/uploads/2023/08/Graphic-Novel-Book-Club_Event-Image_Fall-2023.png
END:VEVENT
BEGIN:VEVENT
DTSTART;TZID=America/Chicago:20250729T093000
DTEND;TZID=America/Chicago:20250729T095000
DTSTAMP:20260419T180338
CREATED:20250424T154647Z
LAST-MODIFIED:20250424T154707Z
UID:10001341-1753781400-1753782600@mahometpubliclibrary.org
SUMMARY:Baby Storytime
DESCRIPTION:Bring your baby to storytime on Tuesday mornings in June and July at the Library! There will be songs\, bounces\, and books! \n  \nAges 0-18 months. No registration required.
URL:https://mahometpubliclibrary.org/event/summer-2025-baby-storytime/2025-07-29/
CATEGORIES:Preschool
ATTACH;FMTTYPE=image/png:https://mahometpubliclibrary.org/wp-content/uploads/2024/05/Baby-Storytime_Event-Image_2024.png
END:VEVENT
BEGIN:VEVENT
DTSTART;TZID=America/Chicago:20250729T150000
DTEND;TZID=America/Chicago:20250729T160000
DTSTAMP:20260419T180338
CREATED:20250424T151812Z
LAST-MODIFIED:20250424T151812Z
UID:10001364-1753801200-1753804800@mahometpubliclibrary.org
SUMMARY:Adventures in Art: Perler Bead Pixel Art
DESCRIPTION:Join us for an hour of artistic fun! All supplies needed to make each project will be provided. \nDates and Projects:\nJune 3: Splatter Paint \nJune 17: Loom Weaving \nJuly 1: Bubble Paint Flowers \nJuly 15: Stitched Yarn Art \nJuly 29: Perler Bead Pixel Art \nEntering grades 2-5. Registration required.
URL:https://mahometpubliclibrary.org/event/adventures-in-art-pixel-art/
CATEGORIES:School age
ATTACH;FMTTYPE=image/png:https://mahometpubliclibrary.org/wp-content/uploads/2024/05/Adventures-in-Art_Event-Image_Summer-2024.png
END:VEVENT
BEGIN:VEVENT
DTSTART;TZID=America/Chicago:20250730T100000
DTEND;TZID=America/Chicago:20250730T103000
DTSTAMP:20260419T180338
CREATED:20250424T154632Z
LAST-MODIFIED:20250424T154632Z
UID:10001359-1753869600-1753871400@mahometpubliclibrary.org
SUMMARY:All Ages Storytime
DESCRIPTION:Join us for storytime on Wednesday mornings in June and July for children ages 0-5 and caregivers. There will be books\, bouncing\, songs\, and more!
URL:https://mahometpubliclibrary.org/event/all-ages-storytime/2025-07-30/
CATEGORIES:Preschool
ATTACH;FMTTYPE=image/png:https://mahometpubliclibrary.org/wp-content/uploads/2024/05/All-Ages-Storytime_Event-Image.png
END:VEVENT
BEGIN:VEVENT
DTSTART;TZID=America/Chicago:20250803T140000
DTEND;TZID=America/Chicago:20250803T160000
DTSTAMP:20260419T180338
CREATED:20250623T180022Z
LAST-MODIFIED:20250721T161350Z
UID:10001437-1754229600-1754236800@mahometpubliclibrary.org
SUMMARY:Library Expansion Community Meetings
DESCRIPTION:Mahomet Library Expansion is Moving Forward!\nCommunity Meetings this Summer\nAfter many years of planning\, the Board of Trustees of the Mahomet Public Library has decided to move ahead actively with a much needed expansion. This expansion is expected to include a new\, larger children’s library with a dedicated teen room\, a much larger meeting and programming room\, more community space and a covered patio/outdoor program space. \nRead more about the expansion project here: Dreaming of the Future: What the Future Holds for Our Community’s Library Building \nWould you like to learn more\, or volunteer to help in some way with this exciting addition to our community? We are planning three Community Meetings to introduce the details of the project\, answer questions\, and get feedback from the community. The three meetings will be: \nThursday\, June 26th 6:00pm \nWednesday\, July 16th 6:30pm \nSunday\, August 3rd 2:00pm
URL:https://mahometpubliclibrary.org/event/library-expansion-community-meetings/2025-08-03/
CATEGORIES:All Ages
ATTACH;FMTTYPE=image/png:https://mahometpubliclibrary.org/wp-content/uploads/2025/06/Library-Expansion-Community-Meetings-1.png
END:VEVENT
BEGIN:VEVENT
DTSTART;TZID=America/Chicago:20250809T130000
DTEND;TZID=America/Chicago:20250809T143000
DTSTAMP:20260419T180338
CREATED:20250731T185207Z
LAST-MODIFIED:20250731T190424Z
UID:10001440-1754744400-1754749800@mahometpubliclibrary.org
SUMMARY:Summer Reading 2025 Grand Prize Party!
DESCRIPTION:Foam Party\nMark your calendares for a Foam Party on the Library Lawn!
URL:https://mahometpubliclibrary.org/event/foam-party/
ATTACH;FMTTYPE=image/png:https://mahometpubliclibrary.org/wp-content/uploads/2025/07/Foam-Party-Announcement-SMALLER_slider.png
END:VEVENT
BEGIN:VEVENT
DTSTART;TZID=America/Chicago:20250812T183000
DTEND;TZID=America/Chicago:20250812T200000
DTSTAMP:20260419T180338
CREATED:20250424T154026Z
LAST-MODIFIED:20250424T154046Z
UID:10001404-1755023400-1755028800@mahometpubliclibrary.org
SUMMARY:Tuesday Night Book Club
DESCRIPTION:Connect with fellow book lovers! Join us at the Library on the second Tuesday of each month as we discuss that month’s great read. \nJune 10: The Heaven and Earth Grocery Store by James McBride \nJuly 8: Berry Pickers by Amanda Peters \nAugust 12: Happiness Falls by Angie Kim \nNo registration required. \n  \nWondering what books we’ve previously read for Tuesday Night Book Club? Check out our Tuesday Night Book Club Picks list!
URL:https://mahometpubliclibrary.org/event/tues-book-club/2025-08-12/
CATEGORIES:Adults
ATTACH;FMTTYPE=image/png:https://mahometpubliclibrary.org/wp-content/uploads/2024/08/Tuesday-Night-Book-Club_Event-Image.png
END:VEVENT
BEGIN:VEVENT
DTSTART;TZID=America/Chicago:20250813T100000
DTEND;TZID=America/Chicago:20250813T140000
DTSTAMP:20260419T180338
CREATED:20250728T155435Z
LAST-MODIFIED:20251113T212656Z
UID:10001439-1755079200-1755093600@mahometpubliclibrary.org
SUMMARY:Mobile DMV Pop-Up Event
DESCRIPTION:Secretary of State Mobile DMV to Appear at the\nMahomet Public Library\n  \n\n\nTo register or ask questions\, please contact the Mahomet Public Library at (217)586-2611 or staff@mahometpubliclibrary.org.\n  \n\n\nThe Illinois Secretary of State’s Mobile Driver Services unit will be at the Mahomet Public Library on August 13\, 2025. The event will be from 10 a.m. to 2 p.m. at 1702 E Oak Street\, Mahomet\, IL. \nRepresentatives of the Secretary of State’s office will be on hand to assist with renewing or correcting driver’s licenses\, converting existing standard driver’s licenses into REAL ID driver’s licenses\, obtaining renewed or first time Standard or REAL state IDs\, issuing free state IDs for seniors aged 65 or older\, and purchasing license plate stickers. \nAttendees can also register to be an organ donor/tissue donor and register to vote while applying for a driver’s license or identification card. \nA list of acceptable documents for the issuance of first time ID’s and REAL ID’s can be found at the links below: \nREAL ID’s \nFirst Time ID’s
URL:https://mahometpubliclibrary.org/event/mobile-dmv-pop-up-event/
ATTACH;FMTTYPE=image/png:https://mahometpubliclibrary.org/wp-content/uploads/2025/07/Mobile-DMV-Pop-Up-Event.png
END:VEVENT
BEGIN:VEVENT
DTSTART;TZID=America/Chicago:20250902T093000
DTEND;TZID=America/Chicago:20250902T095000
DTSTAMP:20260419T180338
CREATED:20250806T120014Z
LAST-MODIFIED:20251229T154257Z
UID:10001441-1756805400-1756806600@mahometpubliclibrary.org
SUMMARY:Baby Storytime
DESCRIPTION:Bring your baby to the Library for a fun storytime featuring lap bounces\, songs\, rhymes\, and books!  \nThis storytime is designed especially for our littlest library lovers (age 0-18 months) and their caregivers!
URL:https://mahometpubliclibrary.org/event/baby-storytime-3/2025-09-02/
ATTACH;FMTTYPE=image/png:https://mahometpubliclibrary.org/wp-content/uploads/2025/08/Baby-Storytime-Event-Image.png
END:VEVENT
BEGIN:VEVENT
DTSTART;TZID=America/Chicago:20250902T100000
DTEND;TZID=America/Chicago:20250902T103000
DTSTAMP:20260419T180338
CREATED:20250806T120057Z
LAST-MODIFIED:20251229T154206Z
UID:10001455-1756807200-1756809000@mahometpubliclibrary.org
SUMMARY:Toddler Storytime
DESCRIPTION:Join us at the Library for a storytime specifically designed for toddlers (age 18 months to 3 years) and their caregivers\, featuring songs\, rhymes and books!
URL:https://mahometpubliclibrary.org/event/toddler-storytime-3/2025-09-02/
CATEGORIES:Preschool
ATTACH;FMTTYPE=image/png:https://mahometpubliclibrary.org/wp-content/uploads/2025/08/Toddler-Storytime-Event-Image.png
END:VEVENT
BEGIN:VEVENT
DTSTART;TZID=America/Chicago:20250903T100000
DTEND;TZID=America/Chicago:20250903T103000
DTSTAMP:20260419T180338
CREATED:20250806T120042Z
LAST-MODIFIED:20251229T154237Z
UID:10001470-1756893600-1756895400@mahometpubliclibrary.org
SUMMARY:Preschool Storytime
DESCRIPTION:Drop in for a fun-filled storytime designed for preschool-aged children (3-5 years) and their caregivers!  \nMPL storytimes feature a fun mix of songs\, rhymes\, and books!
URL:https://mahometpubliclibrary.org/event/preschool-storytime-3/2025-09-03/
CATEGORIES:Preschool
ATTACH;FMTTYPE=image/png:https://mahometpubliclibrary.org/wp-content/uploads/2025/08/Preschool-Storytime-Event-Image.png
END:VEVENT
END:VCALENDAR