BEGIN:VCALENDAR
VERSION:2.0
PRODID:-//Mahomet Public Library - ECPv6.15.11//NONSGML v1.0//EN
CALSCALE:GREGORIAN
METHOD:PUBLISH
X-ORIGINAL-URL:https://mahometpubliclibrary.org
X-WR-CALDESC:Events for Mahomet Public Library
REFRESH-INTERVAL;VALUE=DURATION:PT1H
X-Robots-Tag:noindex
X-PUBLISHED-TTL:PT1H
BEGIN:VTIMEZONE
TZID:America/Chicago
BEGIN:DAYLIGHT
TZOFFSETFROM:-0600
TZOFFSETTO:-0500
TZNAME:CDT
DTSTART:20230312T080000
END:DAYLIGHT
BEGIN:STANDARD
TZOFFSETFROM:-0500
TZOFFSETTO:-0600
TZNAME:CST
DTSTART:20231105T070000
END:STANDARD
BEGIN:DAYLIGHT
TZOFFSETFROM:-0600
TZOFFSETTO:-0500
TZNAME:CDT
DTSTART:20240310T080000
END:DAYLIGHT
BEGIN:STANDARD
TZOFFSETFROM:-0500
TZOFFSETTO:-0600
TZNAME:CST
DTSTART:20241103T070000
END:STANDARD
BEGIN:DAYLIGHT
TZOFFSETFROM:-0600
TZOFFSETTO:-0500
TZNAME:CDT
DTSTART:20250309T080000
END:DAYLIGHT
BEGIN:STANDARD
TZOFFSETFROM:-0500
TZOFFSETTO:-0600
TZNAME:CST
DTSTART:20251102T070000
END:STANDARD
END:VTIMEZONE
BEGIN:VEVENT
DTSTART;TZID=America/Chicago:20240727T093000
DTEND;TZID=America/Chicago:20240727T103000
DTSTAMP:20260419T180650
CREATED:20240502T230823Z
LAST-MODIFIED:20240502T230845Z
UID:10000892-1722072600-1722076200@mahometpubliclibrary.org
SUMMARY:Storytime: Weekend Edition
DESCRIPTION:Children and families are welcome to join us for an all ages-style storytime featuring rhymes\, songs\, and books\, followed by a fun\, themed craft! \nNo registration required.
URL:https://mahometpubliclibrary.org/event/weekend-storytime/2024-07-27/
CATEGORIES:All Ages,Preschool,School age
ATTACH;FMTTYPE=image/png:https://mahometpubliclibrary.org/wp-content/uploads/2024/05/Weekend-Storytime_Event-Image.png
END:VEVENT
BEGIN:VEVENT
DTSTART;TZID=America/Chicago:20240727T190000
DTEND;TZID=America/Chicago:20240727T220000
DTSTAMP:20260419T180650
CREATED:20240502T231749Z
LAST-MODIFIED:20240502T231749Z
UID:10000898-1722106800-1722117600@mahometpubliclibrary.org
SUMMARY:Movie on the Lawn
DESCRIPTION:Join us for summer nights of fun and films! June brings “Super Mario Bros” – game on! In July\, dive into the ocean with “Finding Nemo.” Enjoy outdoor games and treats from Ice Daddy’s at 7 pm. Movie starts at 8:30 when the stars light up the sky! Attendees are also welcome to bring their own snacks. Bring along some yard chairs or picnic blankets. \nJune 29: Super Mario Bros \nJuly 27: Finding Nemo  \nIn the event of unfavorable weather conditions\, the program will be canceled and will not be rescheduled.
URL:https://mahometpubliclibrary.org/event/july-movie/
CATEGORIES:All Ages
ATTACH;FMTTYPE=image/png:https://mahometpubliclibrary.org/wp-content/uploads/2023/06/August-Movie-on-the-Lawn_Facebook-Cover_2023.png
END:VEVENT
BEGIN:VEVENT
DTSTART;VALUE=DATE:20240729
DTEND;VALUE=DATE:20240801
DTSTAMP:20260419T180650
CREATED:20240502T235723Z
LAST-MODIFIED:20240502T235902Z
UID:10000905-1722218400-1722391199@mahometpubliclibrary.org
SUMMARY:Adult Take and Make Kit
DESCRIPTION:Take home a craft to make! Our take-and-make crafts come with all the supplies needed for a project. \n  \nDates and Crafts: \nBeginning June 24: Beaded suncatcher \nBeginning July 29: Beeswax wraps \n  \nStop by the Library to pick up a free kit. Kits are available while supplies last. Limit one kit per person\, please! \nAdult take-and-make crafts are part of our Adult Craft Connection series.
URL:https://mahometpubliclibrary.org/event/adult-take-and-make-kit/2024-07-29/
CATEGORIES:Adults
ATTACH;FMTTYPE=image/png:https://mahometpubliclibrary.org/wp-content/uploads/2023/12/Adult-Take-and-Makes_Event-Image.png
END:VEVENT
BEGIN:VEVENT
DTSTART;VALUE=DATE:20240729
DTEND;VALUE=DATE:20240801
DTSTAMP:20260419T180650
CREATED:20240503T000325Z
LAST-MODIFIED:20240503T000433Z
UID:10000907-1722218400-1722391199@mahometpubliclibrary.org
SUMMARY:Take and Make Kits for Kids
DESCRIPTION:Take home a craft kit each month! Kits will include instructions and supplies for a craft. \nDates and Crafts: \nBeginning June 24: DIY Freeze Pop Sleeves \nBeginning July 29: Popsicle Stick Airplanes \nSuggested age range: 6-12. First come\, first served. While supplies last. Limit one kit per child\, please!
URL:https://mahometpubliclibrary.org/event/take-and-make-kits-for-kids/2024-07-29/
CATEGORIES:School age
ATTACH;FMTTYPE=image/png:https://mahometpubliclibrary.org/wp-content/uploads/2024/05/Take-and-Make-Kits_Event-Image_Summer-2024.png
END:VEVENT
BEGIN:VEVENT
DTSTART;TZID=America/Chicago:20240730T093000
DTEND;TZID=America/Chicago:20240730T095000
DTSTAMP:20260419T180650
CREATED:20240502T191746Z
LAST-MODIFIED:20240502T191746Z
UID:10000834-1722331800-1722333000@mahometpubliclibrary.org
SUMMARY:Baby Storytime
DESCRIPTION:Bring your baby to storytime on Tuesday mornings at the Library! There will be songs\, bounces\, and books!
URL:https://mahometpubliclibrary.org/event/summerbabystorytime/2024-07-30/
CATEGORIES:Preschool
ATTACH;FMTTYPE=image/png:https://mahometpubliclibrary.org/wp-content/uploads/2024/05/Baby-Storytime_Event-Image_2024.png
END:VEVENT
BEGIN:VEVENT
DTSTART;TZID=America/Chicago:20240730T153000
DTEND;TZID=America/Chicago:20240730T163000
DTSTAMP:20260419T180650
CREATED:20240502T202345Z
LAST-MODIFIED:20240502T202345Z
UID:10000856-1722353400-1722357000@mahometpubliclibrary.org
SUMMARY:Adventures in Art: Shrinky Dinks
DESCRIPTION:Attention all budding artists in grades 2-5! Join us for an unforgettable journey of artistic exploration this summer and bring home a masterpiece. \nDates and Projects: \nJune 4: DIY Stamps \nJune 18: Beaded Windchime \nJuly 2: 3D Doodlebug \nJuly 16: Popsicle Stick Lantern \nJuly 30: Shrinky Dinks \nFor students entering grades 2-5. Please register for each session individually.
URL:https://mahometpubliclibrary.org/event/adventures-in-art-shrinky-dinks/
CATEGORIES:School age
ATTACH;FMTTYPE=image/png:https://mahometpubliclibrary.org/wp-content/uploads/2024/05/Adventures-in-Art_Event-Image_Summer-2024.png
END:VEVENT
BEGIN:VEVENT
DTSTART;TZID=America/Chicago:20240731T100000
DTEND;TZID=America/Chicago:20240731T103000
DTSTAMP:20260419T180650
CREATED:20240502T192159Z
LAST-MODIFIED:20240502T192315Z
UID:10000843-1722420000-1722421800@mahometpubliclibrary.org
SUMMARY:All Ages Storytime
DESCRIPTION:Join us on Wednesday mornings for storytime for children ages 0-5 and caregivers. There will be books\, bouncing\, songs\, and more!
URL:https://mahometpubliclibrary.org/event/summer-all-ages-storytime/2024-07-31/
CATEGORIES:Preschool
ATTACH;FMTTYPE=image/png:https://mahometpubliclibrary.org/wp-content/uploads/2024/05/All-Ages-Storytime_Event-Image.png
END:VEVENT
BEGIN:VEVENT
DTSTART;TZID=America/Chicago:20240803T150000
DTEND;TZID=America/Chicago:20240803T190000
DTSTAMP:20260419T180650
CREATED:20240723T160710Z
LAST-MODIFIED:20240723T160710Z
UID:10000915-1722697200-1722711600@mahometpubliclibrary.org
SUMMARY:Mini Golf in the Library
DESCRIPTION:We’re almost there! Assuming we read 175\,000 minutes by August 1\, we’ll earn our final Summer Reading Program community prize – Mini Golf in the Library! \nStop by the Library anytime between 3:00-7:00 pm to enjoy two 9-hole mini golf courses through the book stacks at the Library! \nAll ages are welcome. No registration required.
URL:https://mahometpubliclibrary.org/event/mini-golf-in-the-library/
CATEGORIES:All Ages
ATTACH;FMTTYPE=image/png:https://mahometpubliclibrary.org/wp-content/uploads/2024/07/Mini-Golf_Facebook-Cover_August-2024.png
END:VEVENT
BEGIN:VEVENT
DTSTART;TZID=America/Chicago:20240813T183000
DTEND;TZID=America/Chicago:20240813T200000
DTSTAMP:20260419T180650
CREATED:20231207T213017Z
LAST-MODIFIED:20240502T222257Z
UID:10000876-1723573800-1723579200@mahometpubliclibrary.org
SUMMARY:Tuesday Night Book Club
DESCRIPTION:Join us at the Library on the second Tuesday of each month as we discuss that month’s great read! \nJanuary 16: The Lager Queen of Minnesota by J. Ryan Stradal\nFebruary 13: Maame by Jessica George\nMarch 12: The Dictionary of Lost Words by Pip Williams\nApril 9: Hello Beautiful by Ann Napolitano\nMay 14: Lessons in Chemistry by Bonnie Garmus\nJune 11: Vera Wong’s Unsolicited Advice for Murderers by Jesse Q. Sutano\nJuly 9: Remarkably Bright Creatures by Shelby Van Pelt\nAugust 13: The Wishing Game by Meg Shaffer \nNo registration required. \n  \nWondering what books we’ve previously read for Tuesday Night Book Club? Check out our Tuesday Night Book Club Picks list!
URL:https://mahometpubliclibrary.org/event/tuesday-book-club/2024-08-13/
CATEGORIES:Adults
ATTACH;FMTTYPE=image/png:https://mahometpubliclibrary.org/wp-content/uploads/2023/12/Tuesday-Night-Book-Club_Event-Image_Winter-Spring-2024.png
END:VEVENT
BEGIN:VEVENT
DTSTART;TZID=America/Chicago:20240903T093000
DTEND;TZID=America/Chicago:20240903T095000
DTSTAMP:20260419T180650
CREATED:20240806T190842Z
LAST-MODIFIED:20240806T190946Z
UID:10000918-1725355800-1725357000@mahometpubliclibrary.org
SUMMARY:Baby Storytime
DESCRIPTION:Bring your baby to storytime on Tuesday mornings at the Library! There will be songs\, bounces\, and books! \n  \nAges 0-18 months. No registration required. \nPlease Note: There will not be Baby Storytime on October 8 or November 5.
URL:https://mahometpubliclibrary.org/event/fall-baby-storytime/2024-09-03/
CATEGORIES:Preschool
ATTACH;FMTTYPE=image/png:https://mahometpubliclibrary.org/wp-content/uploads/2024/05/Baby-Storytime_Event-Image_2024.png
END:VEVENT
BEGIN:VEVENT
DTSTART;TZID=America/Chicago:20240903T100000
DTEND;TZID=America/Chicago:20240903T103000
DTSTAMP:20260419T180650
CREATED:20240806T191552Z
LAST-MODIFIED:20240806T191629Z
UID:10000931-1725357600-1725359400@mahometpubliclibrary.org
SUMMARY:Toddler Storytime
DESCRIPTION:Join us on Tuesday mornings to enjoy storytime for toddlers and caregivers. There will be songs\, rhymes\, and stories! \nAges 18 months-3 years. No registration required. \nPlease note: There will NOT be Toddler Storytime on October 8 or November 5.
URL:https://mahometpubliclibrary.org/event/fall-toddler-storytime/2024-09-03/
CATEGORIES:Preschool
ATTACH;FMTTYPE=image/png:https://mahometpubliclibrary.org/wp-content/uploads/2024/08/Toddler-Storytime_Event-Image.png
END:VEVENT
BEGIN:VEVENT
DTSTART;TZID=America/Chicago:20240903T180000
DTEND;TZID=America/Chicago:20240903T193000
DTSTAMP:20260419T180650
CREATED:20240806T185450Z
LAST-MODIFIED:20240806T190305Z
UID:10000916-1725386400-1725391800@mahometpubliclibrary.org
SUMMARY:Cookbook Club: The Weekday Vegetarians
DESCRIPTION:Join us at the Library to explore new recipes\, share cooking tips\, and enjoy delicious food together! This program is intended for adults who enjoy cooking and sharing food together. All experience levels are welcome. Each Cookbook Club will feature a selected cookbook and attendees will bring a dish from the book to share. \nCopies of the cookbook will be available one month in advance at the Library’s Circulation Desk. Registered participants will receive a link to a Google form to include the name of the dish they will be bringing. Participants may contact Alyssa with any questions. \nRegistration is required. \n  \nDates and Cookbooks: \nTuesday\, September 3: The Weekday Vegetarians by Jenny Rosenstrach \nThursday\, November 7: Brilliant Bites by Maegan Brown
URL:https://mahometpubliclibrary.org/event/september-cookbook-club/
CATEGORIES:Adults
ATTACH;FMTTYPE=image/png:https://mahometpubliclibrary.org/wp-content/uploads/2023/08/Cookbook-Club_Event-Image_Fall-2023.png
END:VEVENT
BEGIN:VEVENT
DTSTART;TZID=America/Chicago:20240904T100000
DTEND;TZID=America/Chicago:20240904T103000
DTSTAMP:20260419T180650
CREATED:20240806T195649Z
LAST-MODIFIED:20240806T195852Z
UID:10000974-1725444000-1725445800@mahometpubliclibrary.org
SUMMARY:Preschool Storytime
DESCRIPTION:Join us on Wednesday mornings for storytime for preschoolers and caregivers. There will be songs\, movement\, and books! \nAges 3-5. No registration required. \nPlease note: There will NOT be Preschool Storytime on October 9 or November 6.
URL:https://mahometpubliclibrary.org/event/fall-preschool-storytime/2024-09-04/
CATEGORIES:Preschool
ATTACH;FMTTYPE=image/png:https://mahometpubliclibrary.org/wp-content/uploads/2024/08/Preschool-Storytime_Event-Image.png
END:VEVENT
BEGIN:VEVENT
DTSTART;TZID=America/Chicago:20240904T153000
DTEND;TZID=America/Chicago:20240904T163000
DTSTAMP:20260419T180650
CREATED:20240806T192828Z
LAST-MODIFIED:20240806T193626Z
UID:10000944-1725463800-1725467400@mahometpubliclibrary.org
SUMMARY:Elementary Explorers
DESCRIPTION:Join us every Wednesday for a fun\, one hour after school program! Activities will rotate monthly. We’ll usually meet from 3:30-4:30 pm\, but we’ll move it up to 1:30-2:30 pm on early dismissal days. \nSeptember: Art Club \n\nSeptember 4\, 11\, 25: regular time (3:30-4:30 pm)\nSeptember 18: early dismissal (1:30-2:30 pm)\n\nOctober: Pokémon Club \n\nOctober 2\, 16\, 30: regular time (3:30-4:30 pm)\nOctober 9: no meeting\nOctober 23: early dismissal (1:30-2:30 pm)\n\nNovember: LEGO Club \n\nNovember 6 and 27: no meeting\nNovember 13: early dismissal (1:30-2:30 pm)\nNovember 20: regular time (3:30-4:30 pm)\n\nDecember: Art Club \n\nDecember 4\, 11: regular time (3:30-4:30 pm)\n\nGrades K-5. No registration required.
URL:https://mahometpubliclibrary.org/event/fall-elementary-explorers/2024-09-04/
CATEGORIES:School age
ATTACH;FMTTYPE=image/png:https://mahometpubliclibrary.org/wp-content/uploads/2024/08/Elementary-Explorers_Event-Image_Fall-2024.png
END:VEVENT
BEGIN:VEVENT
DTSTART;TZID=America/Chicago:20240906T100000
DTEND;TZID=America/Chicago:20240906T110000
DTSTAMP:20260419T180650
CREATED:20240806T201423Z
LAST-MODIFIED:20240818T025142Z
UID:10000987-1725616800-1725620400@mahometpubliclibrary.org
SUMMARY:Preschool Playdate
DESCRIPTION:Children (ages 3-5) and their caregivers are welcome to join us on Friday mornings for open-ended playtime! Each session will feature a different assortment of toys and activities. \nAges 3-5. No registration required. \nPlease note: There will NOT be Preschool Playdate on October 11 or November 29.
URL:https://mahometpubliclibrary.org/event/fall-preschool-playdate/2024-09-06/
CATEGORIES:Preschool
ATTACH;FMTTYPE=image/png:https://mahometpubliclibrary.org/wp-content/uploads/2023/07/Preschool-Playdate_Event-Image_Fall-2023.png
END:VEVENT
BEGIN:VEVENT
DTSTART;TZID=America/Chicago:20240907T100000
DTEND;TZID=America/Chicago:20240907T113000
DTSTAMP:20260419T180650
CREATED:20240806T204138Z
LAST-MODIFIED:20240806T204212Z
UID:10000999-1725703200-1725708600@mahometpubliclibrary.org
SUMMARY:Stitching Circle
DESCRIPTION:Connect with fellow crafters\, share your skills\, and learn from others! Whether you are an expert or novice\, there is something for everyone in our circle. We’ll provide some materials\, or you can bring your own project (maybe one you’ve been procrastinating on!). \nAll skill levels are welcome and there is not need to register. Spread the word and invite your friends. We can’t wait to see you there! \n\nDates and Times: \nSaturday\, September 7: 10:00-11:30 am \nSaturday\, October 5: 10:00-11:30 am \nSaturday\, November 2: 1:00-2:30 pm \n  \nStitching Circle is a part of our Adult Craft Connection Program series. No registration required. \n 
URL:https://mahometpubliclibrary.org/event/fall-stitching-circle/2024-09-07/
CATEGORIES:Adults
ATTACH;FMTTYPE=image/png:https://mahometpubliclibrary.org/wp-content/uploads/2024/08/Stitching-Circle_Event-Image_2024.png
END:VEVENT
BEGIN:VEVENT
DTSTART;TZID=America/Chicago:20240910T093000
DTEND;TZID=America/Chicago:20240910T095000
DTSTAMP:20260419T180650
CREATED:20240806T190842Z
LAST-MODIFIED:20240806T190946Z
UID:10000919-1725960600-1725961800@mahometpubliclibrary.org
SUMMARY:Baby Storytime
DESCRIPTION:Bring your baby to storytime on Tuesday mornings at the Library! There will be songs\, bounces\, and books! \n  \nAges 0-18 months. No registration required. \nPlease Note: There will not be Baby Storytime on October 8 or November 5.
URL:https://mahometpubliclibrary.org/event/fall-baby-storytime/2024-09-10/
CATEGORIES:Preschool
ATTACH;FMTTYPE=image/png:https://mahometpubliclibrary.org/wp-content/uploads/2024/05/Baby-Storytime_Event-Image_2024.png
END:VEVENT
BEGIN:VEVENT
DTSTART;TZID=America/Chicago:20240910T100000
DTEND;TZID=America/Chicago:20240910T103000
DTSTAMP:20260419T180650
CREATED:20240806T191552Z
LAST-MODIFIED:20240806T191629Z
UID:10000932-1725962400-1725964200@mahometpubliclibrary.org
SUMMARY:Toddler Storytime
DESCRIPTION:Join us on Tuesday mornings to enjoy storytime for toddlers and caregivers. There will be songs\, rhymes\, and stories! \nAges 18 months-3 years. No registration required. \nPlease note: There will NOT be Toddler Storytime on October 8 or November 5.
URL:https://mahometpubliclibrary.org/event/fall-toddler-storytime/2024-09-10/
CATEGORIES:Preschool
ATTACH;FMTTYPE=image/png:https://mahometpubliclibrary.org/wp-content/uploads/2024/08/Toddler-Storytime_Event-Image.png
END:VEVENT
BEGIN:VEVENT
DTSTART;TZID=America/Chicago:20240910T183000
DTEND;TZID=America/Chicago:20240910T200000
DTSTAMP:20260419T180650
CREATED:20240806T205139Z
LAST-MODIFIED:20241114T171351Z
UID:10001002-1725993000-1725998400@mahometpubliclibrary.org
SUMMARY:Tuesday Night Book Club
DESCRIPTION:Join us at the Library on the second Tuesday of each month as we discuss that month’s great read! \nAugust 13: The Wishing Game by Meg Shaffer \nSeptember 10: Once Upon a Wardrobe by Patti Callahan Henry \nOctober 8: Yellowface by R.F. Kuang \nNovember 12: Lady Tan’s Circle of Women by Lisa See \nDecember 10: Holiday Party \nNo registration required. \n  \nMore information about our December meeting: \nOur December meeting will be a festive gathering to celebrate a year of reading! We will not feature a specific book\, but we will have bookish fun and camaraderie. We will play some games (including gifts and free books)\, enjoy snacks\, and reflect on our favorite reads from the past year. No need to bring anything but yourself and a list of some of your favorite recent reads.  \n  \nWondering what books we’ve previously read for Tuesday Night Book Club? Check out our Tuesday Night Book Club Picks list!
URL:https://mahometpubliclibrary.org/event/fall-tuesday-night-book-club/2024-09-10/
CATEGORIES:Adults
ATTACH;FMTTYPE=image/png:https://mahometpubliclibrary.org/wp-content/uploads/2024/08/Tuesday-Night-Book-Club_Event-Image.png
END:VEVENT
BEGIN:VEVENT
DTSTART;TZID=America/Chicago:20240911T100000
DTEND;TZID=America/Chicago:20240911T103000
DTSTAMP:20260419T180650
CREATED:20240806T195649Z
LAST-MODIFIED:20240806T195852Z
UID:10000975-1726048800-1726050600@mahometpubliclibrary.org
SUMMARY:Preschool Storytime
DESCRIPTION:Join us on Wednesday mornings for storytime for preschoolers and caregivers. There will be songs\, movement\, and books! \nAges 3-5. No registration required. \nPlease note: There will NOT be Preschool Storytime on October 9 or November 6.
URL:https://mahometpubliclibrary.org/event/fall-preschool-storytime/2024-09-11/
CATEGORIES:Preschool
ATTACH;FMTTYPE=image/png:https://mahometpubliclibrary.org/wp-content/uploads/2024/08/Preschool-Storytime_Event-Image.png
END:VEVENT
BEGIN:VEVENT
DTSTART;TZID=America/Chicago:20240911T143000
DTEND;TZID=America/Chicago:20240911T163000
DTSTAMP:20260419T180650
CREATED:20240906T031841Z
LAST-MODIFIED:20240906T031841Z
UID:10001070-1726065000-1726072200@mahometpubliclibrary.org
SUMMARY:Voter Registration & Voting Information Table
DESCRIPTION:Your vote matters! Volunteers from the nonpartisan Champaign County League of Women Voters will have a voter information-registration table at the Mahomet Library on Wednesday\, September 11 from 2:30-4:30 pm. \nStop by the table to: \n\nConfirm you’re registered to vote at your current address.\nRegister to vote if you’re not already registered.\nLearn about upcoming candidate forums\, candidate meet-and-great opportunities\, and nonpartisan candidate resources.\nGet answers to your questions about voting and elections.
URL:https://mahometpubliclibrary.org/event/september-voting-table/
CATEGORIES:Adults
ATTACH;FMTTYPE=image/png:https://mahometpubliclibrary.org/wp-content/uploads/2024/09/Voting-Information-Table_Event-Image.png
END:VEVENT
BEGIN:VEVENT
DTSTART;TZID=America/Chicago:20240911T153000
DTEND;TZID=America/Chicago:20240911T163000
DTSTAMP:20260419T180650
CREATED:20240806T192828Z
LAST-MODIFIED:20240806T193626Z
UID:10000945-1726068600-1726072200@mahometpubliclibrary.org
SUMMARY:Elementary Explorers
DESCRIPTION:Join us every Wednesday for a fun\, one hour after school program! Activities will rotate monthly. We’ll usually meet from 3:30-4:30 pm\, but we’ll move it up to 1:30-2:30 pm on early dismissal days. \nSeptember: Art Club \n\nSeptember 4\, 11\, 25: regular time (3:30-4:30 pm)\nSeptember 18: early dismissal (1:30-2:30 pm)\n\nOctober: Pokémon Club \n\nOctober 2\, 16\, 30: regular time (3:30-4:30 pm)\nOctober 9: no meeting\nOctober 23: early dismissal (1:30-2:30 pm)\n\nNovember: LEGO Club \n\nNovember 6 and 27: no meeting\nNovember 13: early dismissal (1:30-2:30 pm)\nNovember 20: regular time (3:30-4:30 pm)\n\nDecember: Art Club \n\nDecember 4\, 11: regular time (3:30-4:30 pm)\n\nGrades K-5. No registration required.
URL:https://mahometpubliclibrary.org/event/fall-elementary-explorers/2024-09-11/
CATEGORIES:School age
ATTACH;FMTTYPE=image/png:https://mahometpubliclibrary.org/wp-content/uploads/2024/08/Elementary-Explorers_Event-Image_Fall-2024.png
END:VEVENT
BEGIN:VEVENT
DTSTART;TZID=America/Chicago:20240912T100000
DTEND;TZID=America/Chicago:20240912T110000
DTSTAMP:20260419T180650
CREATED:20240813T152932Z
LAST-MODIFIED:20240829T210324Z
UID:10001006-1726135200-1726138800@mahometpubliclibrary.org
SUMMARY:Senior Treats and Topics
DESCRIPTION:Join us for a thrilling blend of knowledge…and indulgence! Each month promises an exciting speaker with insights on various topics\, accompanied by delightful treats! It is not necessary to be a senior to attend. \nDates and Topics: \n\nSeptember 12: Adult Healthcare Options with Sandy Hockman from Evergreen Place\n\nThis session will explore the senior living options in the area and covers the spectrum from independent living and assisted living to skilled nursing and hospice care. \n\nOctober 3: Estate Planning with Theodore Facer from Facer Law Office\n\nEstate planning is a necessary\, but often complex area of legal and financial management. This session will cover key topics to help you understand and navigate the process. \n\nNovember 7: Dementia and Communication with Sandy Hockman from Evergreen Place\n\nCommunicating with someone living with dementia can be challenging. This session will provide knowledge on how to positively interact to create a successful and less frustrating experience for everyone involved. \n\nDecember 12: Holiday Music Memory Game with Library Staff\n\nEnjoy a festive activity to challenge your memory! \n  \nFor adults. No registration required.
URL:https://mahometpubliclibrary.org/event/senior-treats-and-topics/2024-09-12/
CATEGORIES:Adults
ATTACH;FMTTYPE=image/png:https://mahometpubliclibrary.org/wp-content/uploads/2023/12/Treats-Topics_Event-Image_Winter-Spring-2024.png
END:VEVENT
BEGIN:VEVENT
DTSTART;TZID=America/Chicago:20240913T100000
DTEND;TZID=America/Chicago:20240913T110000
DTSTAMP:20260419T180650
CREATED:20240806T201423Z
LAST-MODIFIED:20240818T025142Z
UID:10001029-1726221600-1726225200@mahometpubliclibrary.org
SUMMARY:Preschool Playdate
DESCRIPTION:Children (ages 3-5) and their caregivers are welcome to join us on Friday mornings for open-ended playtime! Each session will feature a different assortment of toys and activities. \nAges 3-5. No registration required. \nPlease note: There will NOT be Preschool Playdate on October 11 or November 29.
URL:https://mahometpubliclibrary.org/event/fall-preschool-playdate/2024-09-13/
CATEGORIES:Preschool
ATTACH;FMTTYPE=image/png:https://mahometpubliclibrary.org/wp-content/uploads/2023/07/Preschool-Playdate_Event-Image_Fall-2023.png
END:VEVENT
BEGIN:VEVENT
DTSTART;TZID=America/Chicago:20240914T100000
DTEND;TZID=America/Chicago:20240914T110000
DTSTAMP:20260419T180650
CREATED:20240813T153332Z
LAST-MODIFIED:20240813T153332Z
UID:10001010-1726308000-1726311600@mahometpubliclibrary.org
SUMMARY:Firm Foundations Social: Baby Playdate
DESCRIPTION:Enjoy playtime with new and old friends! Meet at the Library to play\, socialize\, and connect. \nThis is a social mixer for children ages 0-2 who are enrolled in our Firm Foundations program and their caregivers. \nNo registration required\, but you must be enrolled in our Firm Foundations program.
URL:https://mahometpubliclibrary.org/event/baby-playdate/
CATEGORIES:Preschool
ATTACH;FMTTYPE=image/png:https://mahometpubliclibrary.org/wp-content/uploads/2023/12/2.png
END:VEVENT
BEGIN:VEVENT
DTSTART;TZID=America/Chicago:20240915T133000
DTEND;TZID=America/Chicago:20240915T160000
DTSTAMP:20260419T180650
CREATED:20240818T032553Z
LAST-MODIFIED:20240822T142050Z
UID:10001041-1726407000-1726416000@mahometpubliclibrary.org
SUMMARY:Dungeons & Dragons Club
DESCRIPTION:Join us for exciting DnD adventures that encourage creativity\, strategy\, and teamwork! There’s sure to be fun at every session. \nGrades 6-12. Registration required (register for each session individually). There is a max of 7 students for each session\, so participants should be ready to commit to attending if they register. \n  \nDates and Registration: \n\nSeptember 15\nSeptember 29\nOctober 20\nNovember 10\n\nNote: Please click on one of the dates above to register for that specific session.
URL:https://mahometpubliclibrary.org/event/dungeons-dragons-club/2024-09-15/
CATEGORIES:Teens
ATTACH;FMTTYPE=image/png:https://mahometpubliclibrary.org/wp-content/uploads/2024/08/Dungeons-and-Dragons-Club_Event-Image.png
END:VEVENT
BEGIN:VEVENT
DTSTART;TZID=America/Chicago:20240917T093000
DTEND;TZID=America/Chicago:20240917T095000
DTSTAMP:20260419T180650
CREATED:20240806T190842Z
LAST-MODIFIED:20240806T190946Z
UID:10000920-1726565400-1726566600@mahometpubliclibrary.org
SUMMARY:Baby Storytime
DESCRIPTION:Bring your baby to storytime on Tuesday mornings at the Library! There will be songs\, bounces\, and books! \n  \nAges 0-18 months. No registration required. \nPlease Note: There will not be Baby Storytime on October 8 or November 5.
URL:https://mahometpubliclibrary.org/event/fall-baby-storytime/2024-09-17/
CATEGORIES:Preschool
ATTACH;FMTTYPE=image/png:https://mahometpubliclibrary.org/wp-content/uploads/2024/05/Baby-Storytime_Event-Image_2024.png
END:VEVENT
BEGIN:VEVENT
DTSTART;TZID=America/Chicago:20240917T100000
DTEND;TZID=America/Chicago:20240917T103000
DTSTAMP:20260419T180650
CREATED:20240806T191552Z
LAST-MODIFIED:20240806T191629Z
UID:10000933-1726567200-1726569000@mahometpubliclibrary.org
SUMMARY:Toddler Storytime
DESCRIPTION:Join us on Tuesday mornings to enjoy storytime for toddlers and caregivers. There will be songs\, rhymes\, and stories! \nAges 18 months-3 years. No registration required. \nPlease note: There will NOT be Toddler Storytime on October 8 or November 5.
URL:https://mahometpubliclibrary.org/event/fall-toddler-storytime/2024-09-17/
CATEGORIES:Preschool
ATTACH;FMTTYPE=image/png:https://mahometpubliclibrary.org/wp-content/uploads/2024/08/Toddler-Storytime_Event-Image.png
END:VEVENT
BEGIN:VEVENT
DTSTART;TZID=America/Chicago:20240917T130000
DTEND;TZID=America/Chicago:20240917T140000
DTSTAMP:20260419T180650
CREATED:20240813T154003Z
LAST-MODIFIED:20240813T154021Z
UID:10001011-1726578000-1726581600@mahometpubliclibrary.org
SUMMARY:Adult Crafternoon: Painted Quilt Block
DESCRIPTION:Join us for creativity\, conversation\, and fun each month at the Library! Learn a new skill and make a craft with supplies provided by the Library. \nDates and Crafts: \nSeptember 17: Painted Quilt Block \nOctober 15: Upcycled Ghost Painting \nNovember 19: Intro to Needle Felting \nFor adults. Registration required (register for each session individually).
URL:https://mahometpubliclibrary.org/event/fall-crafternoon-2024-09-17/
CATEGORIES:Adults
ATTACH;FMTTYPE=image/png:https://mahometpubliclibrary.org/wp-content/uploads/2023/06/September.png
END:VEVENT
BEGIN:VEVENT
DTSTART;TZID=America/Chicago:20240918T100000
DTEND;TZID=America/Chicago:20240918T103000
DTSTAMP:20260419T180650
CREATED:20240806T195649Z
LAST-MODIFIED:20240806T195852Z
UID:10000976-1726653600-1726655400@mahometpubliclibrary.org
SUMMARY:Preschool Storytime
DESCRIPTION:Join us on Wednesday mornings for storytime for preschoolers and caregivers. There will be songs\, movement\, and books! \nAges 3-5. No registration required. \nPlease note: There will NOT be Preschool Storytime on October 9 or November 6.
URL:https://mahometpubliclibrary.org/event/fall-preschool-storytime/2024-09-18/
CATEGORIES:Preschool
ATTACH;FMTTYPE=image/png:https://mahometpubliclibrary.org/wp-content/uploads/2024/08/Preschool-Storytime_Event-Image.png
END:VEVENT
END:VCALENDAR