BEGIN:VCALENDAR
VERSION:2.0
PRODID:-//Mahomet Public Library - ECPv6.15.11//NONSGML v1.0//EN
CALSCALE:GREGORIAN
METHOD:PUBLISH
X-ORIGINAL-URL:https://mahometpubliclibrary.org
X-WR-CALDESC:Events for Mahomet Public Library
REFRESH-INTERVAL;VALUE=DURATION:PT1H
X-Robots-Tag:noindex
X-PUBLISHED-TTL:PT1H
BEGIN:VTIMEZONE
TZID:America/Chicago
BEGIN:DAYLIGHT
TZOFFSETFROM:-0600
TZOFFSETTO:-0500
TZNAME:CDT
DTSTART:20240310T080000
END:DAYLIGHT
BEGIN:STANDARD
TZOFFSETFROM:-0500
TZOFFSETTO:-0600
TZNAME:CST
DTSTART:20241103T070000
END:STANDARD
BEGIN:DAYLIGHT
TZOFFSETFROM:-0600
TZOFFSETTO:-0500
TZNAME:CDT
DTSTART:20250309T080000
END:DAYLIGHT
BEGIN:STANDARD
TZOFFSETFROM:-0500
TZOFFSETTO:-0600
TZNAME:CST
DTSTART:20251102T070000
END:STANDARD
BEGIN:DAYLIGHT
TZOFFSETFROM:-0600
TZOFFSETTO:-0500
TZNAME:CDT
DTSTART:20260308T080000
END:DAYLIGHT
BEGIN:STANDARD
TZOFFSETFROM:-0500
TZOFFSETTO:-0600
TZNAME:CST
DTSTART:20261101T070000
END:STANDARD
BEGIN:DAYLIGHT
TZOFFSETFROM:-0600
TZOFFSETTO:-0500
TZNAME:CDT
DTSTART:20270314T080000
END:DAYLIGHT
BEGIN:STANDARD
TZOFFSETFROM:-0500
TZOFFSETTO:-0600
TZNAME:CST
DTSTART:20271107T070000
END:STANDARD
END:VTIMEZONE
BEGIN:VEVENT
DTSTART;TZID=America/Chicago:20251217T090000
DTEND;TZID=America/Chicago:20251217T220000
DTSTAMP:20260420T212724
CREATED:20251201T204630Z
LAST-MODIFIED:20251201T204657Z
UID:10001643-1765962000-1766008800@mahometpubliclibrary.org
SUMMARY:Teen Finals Studying and Extended Hours
DESCRIPTION:Study for finals at the Library! \nTo give you even more study time\, the Library will be open 2 hours later (until 10pm) on three nights leading up to finals! \n  \nExtended Hours and Edgar Room Availability: \nTuesday\, December 16: 9:00 am – 10:00 pm \nWednesday\, December 17: 9:00 am – 10:00 pm \nThursday\, December 18: 9:00 am – 10:00 pm
URL:https://mahometpubliclibrary.org/event/teen-extended-hours/2025-12-17/
CATEGORIES:Teens
ATTACH;FMTTYPE=image/png:https://mahometpubliclibrary.org/wp-content/uploads/2023/11/Extended-Hours-and-Studying_Event-Image_December-2023.png
END:VEVENT
BEGIN:VEVENT
DTSTART;TZID=America/Chicago:20251218T090000
DTEND;TZID=America/Chicago:20251218T220000
DTSTAMP:20260420T212724
CREATED:20251201T204630Z
LAST-MODIFIED:20251201T204657Z
UID:10001644-1766048400-1766095200@mahometpubliclibrary.org
SUMMARY:Teen Finals Studying and Extended Hours
DESCRIPTION:Study for finals at the Library! \nTo give you even more study time\, the Library will be open 2 hours later (until 10pm) on three nights leading up to finals! \n  \nExtended Hours and Edgar Room Availability: \nTuesday\, December 16: 9:00 am – 10:00 pm \nWednesday\, December 17: 9:00 am – 10:00 pm \nThursday\, December 18: 9:00 am – 10:00 pm
URL:https://mahometpubliclibrary.org/event/teen-extended-hours/2025-12-18/
CATEGORIES:Teens
ATTACH;FMTTYPE=image/png:https://mahometpubliclibrary.org/wp-content/uploads/2023/11/Extended-Hours-and-Studying_Event-Image_December-2023.png
END:VEVENT
BEGIN:VEVENT
DTSTART;VALUE=DATE:20260102
DTEND;VALUE=DATE:20260302
DTSTAMP:20260420T212724
CREATED:20251229T173237Z
LAST-MODIFIED:20251229T173237Z
UID:10001823-1767319200-1772330399@mahometpubliclibrary.org
SUMMARY:Warm Up with a Good Book! Winter Reading Challenge for Adults and Teens
DESCRIPTION:Cozy up and read this winter with our Winter Reading Challenge for Teens & Adults! Pick up a reading log from the Library and earn a raffle entry for every 10 hours you spend reading. Four prize baskets are up for grabs! Whether you like novels\, audiobooks\, or graphic novels\, every hour counts. \nRaffle tickets can be submitted at the Library for your choice of 4 different prize baskets. Winners will be announced in the first week of March.
URL:https://mahometpubliclibrary.org/event/winter-reading-program-2026/
CATEGORIES:Adults,Teens
ATTACH;FMTTYPE=image/png:https://mahometpubliclibrary.org/wp-content/uploads/2023/12/Winter-Reading-Program_Facebook-Cover_Winter-2024.png
END:VEVENT
BEGIN:VEVENT
DTSTART;TZID=America/Chicago:20260113T093000
DTEND;TZID=America/Chicago:20260113T095000
DTSTAMP:20260420T212724
CREATED:20251229T154913Z
LAST-MODIFIED:20251229T155019Z
UID:10001660-1768296600-1768297800@mahometpubliclibrary.org
SUMMARY:Baby Storytime
DESCRIPTION:Bring your baby to the Library for a fun storytime featuring lap bounces\, songs\, rhymes\, and books!  \nThis storytime is designed especially for our littlest library lovers (age 0-18 months) and their caregivers!
URL:https://mahometpubliclibrary.org/event/baby-storytime-ws2026/2026-01-13/
CATEGORIES:Preschool
ATTACH;FMTTYPE=image/png:https://mahometpubliclibrary.org/wp-content/uploads/2025/08/Baby-Storytime-Event-Image.png
END:VEVENT
BEGIN:VEVENT
DTSTART;TZID=America/Chicago:20260113T100000
DTEND;TZID=America/Chicago:20260113T103000
DTSTAMP:20260420T212724
CREATED:20251229T155135Z
LAST-MODIFIED:20251229T155201Z
UID:10001689-1768298400-1768300200@mahometpubliclibrary.org
SUMMARY:Toddler Storytime
DESCRIPTION:Join us at the Library for a storytime specifically designed for toddlers (ages 18 months to 3 years) and their caregivers\, featuring songs\, rhymes and books!
URL:https://mahometpubliclibrary.org/event/toddler-storytime-ws-2026/2026-01-13/
CATEGORIES:Preschool
ATTACH;FMTTYPE=image/png:https://mahometpubliclibrary.org/wp-content/uploads/2025/08/Toddler-Storytime-Event-Image.png
END:VEVENT
BEGIN:VEVENT
DTSTART;TZID=America/Chicago:20260113T183000
DTEND;TZID=America/Chicago:20260113T193000
DTSTAMP:20260420T212724
CREATED:20251229T174736Z
LAST-MODIFIED:20251229T175608Z
UID:10001828-1768329000-1768332600@mahometpubliclibrary.org
SUMMARY:Tuesday Night Book Club
DESCRIPTION:Tuesday Night Book Club is a great way to connect with fellow book lovers. All are welcome! Grab your copy of the month’s book and we’ll talk about it with good company and great conversation. \nJanuary: The Reading List by Sara Nisha Adams\nFebruary: James by Percival Everett\nMarch: The Hidden Life of Cecily Larson by Ellen Baker\nApril: Lula Dean’s Little Library of Banned Books by Kirsten Miller\nMay: Sandwich by Catherine Newman \nAdults. No registration required. \n  \nWondering what books we’ve previously read for Tuesday Night Book Club? Check out our Tuesday Night Book Club Picks list!
URL:https://mahometpubliclibrary.org/event/tuesday-night-book-club-ws-2026/2026-01-13/
CATEGORIES:Adults
ATTACH;FMTTYPE=image/png:https://mahometpubliclibrary.org/wp-content/uploads/2024/08/Tuesday-Night-Book-Club_Event-Image.png
END:VEVENT
BEGIN:VEVENT
DTSTART;TZID=America/Chicago:20260114T100000
DTEND;TZID=America/Chicago:20260114T103000
DTSTAMP:20260420T212724
CREATED:20251229T155843Z
LAST-MODIFIED:20251229T155900Z
UID:10001718-1768384800-1768386600@mahometpubliclibrary.org
SUMMARY:Preschool Storytime
DESCRIPTION:Drop in for a fun-filled storytime designed for preschool-aged children (3-5 years) and their caregivers!  \nMPL storytimes feature a fun mix of songs\, rhymes\, and books!
URL:https://mahometpubliclibrary.org/event/preschool-storytime-ws-2026/2026-01-14/
CATEGORIES:Preschool
ATTACH;FMTTYPE=image/png:https://mahometpubliclibrary.org/wp-content/uploads/2025/08/Preschool-Storytime-Event-Image.png
END:VEVENT
BEGIN:VEVENT
DTSTART;TZID=America/Chicago:20260114T153000
DTEND;TZID=America/Chicago:20260114T163000
DTSTAMP:20260420T212724
CREATED:20251229T160352Z
LAST-MODIFIED:20251229T222525Z
UID:10001748-1768404600-1768408200@mahometpubliclibrary.org
SUMMARY:Elementary Explorers
DESCRIPTION:Join us every Wednesday for a fun\, one hour after school program! Activities will rotate monthly. We’ll usually meet from 3:30-4:30 pm\, but we’ll move it up to 1:30-2:30 pm on early dismissal days. \nJanuary: STEM Club \n\nJanuary 14 & 28: regular time (3:30-4:30 pm)\nJanuary 21: early dismissal (1:30-2:30 pm)\n\nFebruary: Art Club \n\nFebruary 4\, 11\, 25: regular time (3:30-4:30 pm)\nFebruary 18: early dismissal (1:30-2:30 pm)\n\nMarch: LEGO Club \n\nMarch 4 & 25: regular time (3:30-4:30 pm)\nMarch 11: early dismissal (1:30-2:30 pm)\nMarch 18: no meeting\n\nApril: Drama Club \n\nApril 1\, 8\, 22\, 29: regular time (3:30-4:30 pm)\nApril 15: early dismissal (1:30-2:30 pm)\n\nGrades K-5. No registration required.
URL:https://mahometpubliclibrary.org/event/elementary-explorers-ws2026/2026-01-14/
CATEGORIES:School age
ATTACH;FMTTYPE=image/png:https://mahometpubliclibrary.org/wp-content/uploads/2025/12/Elementary-Explorers-Event-Image-WinterSpring-2026.png
END:VEVENT
BEGIN:VEVENT
DTSTART;TZID=America/Chicago:20260115T100000
DTEND;TZID=America/Chicago:20260115T103000
DTSTAMP:20260420T212724
CREATED:20251229T161156Z
LAST-MODIFIED:20251229T161224Z
UID:10001785-1768471200-1768473000@mahometpubliclibrary.org
SUMMARY:Little Groovers: Music and Movement
DESCRIPTION:Your littles are invited to wiggle\, giggle\, and groove their way to fun while engaging their imaginations\, enhancing motor skills\, and building social connections! \nWe’ll explore rhythm\, sound\, and movement with a fun selection of songs and dances. \nAges 2-5 and caregivers. No registration required.
URL:https://mahometpubliclibrary.org/event/little-groovers-ws2026/2026-01-15/
CATEGORIES:Preschool
ATTACH;FMTTYPE=image/png:https://mahometpubliclibrary.org/wp-content/uploads/2025/08/Little-Groovers-Event-Image.png
END:VEVENT
BEGIN:VEVENT
DTSTART;TZID=America/Chicago:20260115T183000
DTEND;TZID=America/Chicago:20260115T193000
DTSTAMP:20260420T212724
CREATED:20251229T203145Z
LAST-MODIFIED:20251229T203145Z
UID:10001844-1768501800-1768505400@mahometpubliclibrary.org
SUMMARY:Create Your 2026 Vision Board
DESCRIPTION:Set your intentions for the year ahead by creating a personalized vision board. Choose to craft your with traditional materials or design a digital version in Canva that we’ll print for you. You’ll be guided through the process to help you visualize your goals and dreams for 2026. All supplies provided\, but feel free to bring any personal materials or images you’d like to include. \nAdults. Registration required.
URL:https://mahometpubliclibrary.org/event/2026-vision-board/
CATEGORIES:Adults
ATTACH;FMTTYPE=image/png:https://mahometpubliclibrary.org/wp-content/uploads/2025/12/Create-a-Vision-Board-FB-Event-Cover.png
END:VEVENT
BEGIN:VEVENT
DTSTART;TZID=America/Chicago:20260116T100000
DTEND;TZID=America/Chicago:20260116T110000
DTSTAMP:20260420T212724
CREATED:20251229T160755Z
LAST-MODIFIED:20251229T160817Z
UID:10001766-1768557600-1768561200@mahometpubliclibrary.org
SUMMARY:Preschool Playdate
DESCRIPTION:Children (ages 2-5) and their caregivers are welcome to join us on Friday mornings for open-ended playtime!  \nEach session will feature a different assortment of toys and activities.
URL:https://mahometpubliclibrary.org/event/preschool-playdate-ws2026/2026-01-16/
CATEGORIES:Preschool
ATTACH;FMTTYPE=image/png:https://mahometpubliclibrary.org/wp-content/uploads/2025/08/Preschool-Playdate-Event-Image.png
END:VEVENT
BEGIN:VEVENT
DTSTART;TZID=America/Chicago:20260116T173000
DTEND;TZID=America/Chicago:20260116T190000
DTSTAMP:20260420T212724
CREATED:20251229T214726Z
LAST-MODIFIED:20251229T220458Z
UID:10001851-1768584600-1768590000@mahometpubliclibrary.org
SUMMARY:Teen After Hours Game Night: Switch Party Games!
DESCRIPTION:Join us for an after-hours game night just for students in grades 6-12! We’ll play Switch party games on the big screen\, and pizza and refreshments will be provided. \nGrades 6-12. Registration required.
URL:https://mahometpubliclibrary.org/event/teen-switch-party-games/
CATEGORIES:Teens
ATTACH;FMTTYPE=image/png:https://mahometpubliclibrary.org/wp-content/uploads/2025/12/Switch-Party-Games-Event-Cover.png
END:VEVENT
BEGIN:VEVENT
DTSTART;TZID=America/Chicago:20260118T133000
DTEND;TZID=America/Chicago:20260118T163000
DTSTAMP:20260420T212724
CREATED:20260105T145638Z
LAST-MODIFIED:20260105T145835Z
UID:10001869-1768743000-1768753800@mahometpubliclibrary.org
SUMMARY:Teen D&D Club
DESCRIPTION:Library staff member\, Ty\, will lead a group of 6th-12th graders through a 5-part Dungeons and Dragons campaign. The group will meet once every three weeks and play through an extended campaign full of adventure and magic. \nGrades 6-12. Registration required. \nDates and Times: \nJanuary 18\, 1:30-4:30 pm \nFebruary 8\, 1:30-4:30 pm \nMarch 1\, 1:30-4:30 pm \nMarch 22\, 1:30-4:30 pm \n 
URL:https://mahometpubliclibrary.org/event/teen-dd-club-ws-2026/2026-01-18/
CATEGORIES:Teens
ATTACH;FMTTYPE=image/png:https://mahometpubliclibrary.org/wp-content/uploads/2025/08/Teen-DD-Event-Image-FA25.png
END:VEVENT
BEGIN:VEVENT
DTSTART;TZID=America/Chicago:20260119T140000
DTEND;TZID=America/Chicago:20260119T160000
DTSTAMP:20260420T212724
CREATED:20251229T161708Z
LAST-MODIFIED:20251229T161708Z
UID:10001792-1768831200-1768838400@mahometpubliclibrary.org
SUMMARY:School's Out! Monday Movie Matinee
DESCRIPTION:Join us for a special movie on the big screen at the Library! Snacks will be provided. \nJanuary 19: Dog Man\nFebruary 16: The Wild Robot\nApril 6: The One and Only Ivan \nRecommended for ages 5 and up. No registration required.
URL:https://mahometpubliclibrary.org/event/monday-movie/2026-01-19/
CATEGORIES:School age
ATTACH;FMTTYPE=image/png:https://mahometpubliclibrary.org/wp-content/uploads/2025/12/Monday-Movie-Matinee-Event-Cover.png
END:VEVENT
BEGIN:VEVENT
DTSTART;TZID=America/Chicago:20260120T093000
DTEND;TZID=America/Chicago:20260120T095000
DTSTAMP:20260420T212724
CREATED:20251229T154913Z
LAST-MODIFIED:20251229T155019Z
UID:10001661-1768901400-1768902600@mahometpubliclibrary.org
SUMMARY:Baby Storytime
DESCRIPTION:Bring your baby to the Library for a fun storytime featuring lap bounces\, songs\, rhymes\, and books!  \nThis storytime is designed especially for our littlest library lovers (age 0-18 months) and their caregivers!
URL:https://mahometpubliclibrary.org/event/baby-storytime-ws2026/2026-01-20/
CATEGORIES:Preschool
ATTACH;FMTTYPE=image/png:https://mahometpubliclibrary.org/wp-content/uploads/2025/08/Baby-Storytime-Event-Image.png
END:VEVENT
BEGIN:VEVENT
DTSTART;TZID=America/Chicago:20260120T100000
DTEND;TZID=America/Chicago:20260120T103000
DTSTAMP:20260420T212724
CREATED:20251229T155135Z
LAST-MODIFIED:20251229T155201Z
UID:10001690-1768903200-1768905000@mahometpubliclibrary.org
SUMMARY:Toddler Storytime
DESCRIPTION:Join us at the Library for a storytime specifically designed for toddlers (ages 18 months to 3 years) and their caregivers\, featuring songs\, rhymes and books!
URL:https://mahometpubliclibrary.org/event/toddler-storytime-ws-2026/2026-01-20/
CATEGORIES:Preschool
ATTACH;FMTTYPE=image/png:https://mahometpubliclibrary.org/wp-content/uploads/2025/08/Toddler-Storytime-Event-Image.png
END:VEVENT
BEGIN:VEVENT
DTSTART;TZID=America/Chicago:20260120T130000
DTEND;TZID=America/Chicago:20260120T143000
DTSTAMP:20260420T212724
CREATED:20251229T181855Z
LAST-MODIFIED:20251229T181855Z
UID:10001835-1768914000-1768919400@mahometpubliclibrary.org
SUMMARY:Adult Crafternoon: Woven Mug Rug
DESCRIPTION:Join us for creativity\, conversation\, and fun! Learn a new skill and make a craft with supplies provided by the Library. \nDates and Crafts:\nJanuary 20: Woven Mug Rug \nFebruary 17: Paper Cone Wreath \nMarch 24: Pressed Flower Luminary \nApril 21: Beaded Succulents \nMay19: Perler Bead Magnets \n  \nAdults. Registration required.
URL:https://mahometpubliclibrary.org/event/adult-crafternoon-01-2026/
CATEGORIES:Adults
ATTACH;FMTTYPE=image/png:https://mahometpubliclibrary.org/wp-content/uploads/2025/08/Adult-Crafternoon-Event-Image-Fall-2025.png
END:VEVENT
BEGIN:VEVENT
DTSTART;TZID=America/Chicago:20260121T100000
DTEND;TZID=America/Chicago:20260121T103000
DTSTAMP:20260420T212724
CREATED:20251229T155843Z
LAST-MODIFIED:20251229T155900Z
UID:10001719-1768989600-1768991400@mahometpubliclibrary.org
SUMMARY:Preschool Storytime
DESCRIPTION:Drop in for a fun-filled storytime designed for preschool-aged children (3-5 years) and their caregivers!  \nMPL storytimes feature a fun mix of songs\, rhymes\, and books!
URL:https://mahometpubliclibrary.org/event/preschool-storytime-ws-2026/2026-01-21/
CATEGORIES:Preschool
ATTACH;FMTTYPE=image/png:https://mahometpubliclibrary.org/wp-content/uploads/2025/08/Preschool-Storytime-Event-Image.png
END:VEVENT
BEGIN:VEVENT
DTSTART;TZID=America/Chicago:20260121T133000
DTEND;TZID=America/Chicago:20260121T143000
DTSTAMP:20260420T212724
CREATED:20251229T160537Z
LAST-MODIFIED:20251229T160613Z
UID:10001749-1769002200-1769005800@mahometpubliclibrary.org
SUMMARY:Elementary Explorers
DESCRIPTION:Join us every Wednesday for a fun\, one hour after school program! Activities will rotate monthly. We’ll usually meet from 3:30-4:30 pm\, but we’ll move it up to 1:30-2:30 pm on early dismissal days. \nJanuary: STEM Club \n\nJanuary 14 & 28: regular time (3:30-4:30 pm)\nJanuary 21: early dismissal (1:30-2:30 pm)\n\nFebruary: Art Club \n\nFebruary 4\, 11\, 25: regular time (3:30-4:30 pm)\nFebruary 18: early dismissal (1:30-2:30 pm)\n\nMarch: LEGO Club \n\nMarch 4 & 25: regular time (3:30-4:30 pm)\nMarch 11: early dismissal (1:30-2:30 pm)\nMarch 18: no meeting\n\nApril: Drama Club \n\nApril 1\, 8\, 22\, 29: regular time (3:30-4:30 pm)\nApril 15: early dismissal (1:30-2:30 pm)\n\nGrades K-5. No registration required.
URL:https://mahometpubliclibrary.org/event/elementary-explorers-ws-2026/2026-01-21/
CATEGORIES:School age
ATTACH;FMTTYPE=image/png:https://mahometpubliclibrary.org/wp-content/uploads/2025/12/Elementary-Explorers-Event-Image-WinterSpring-2026.png
END:VEVENT
BEGIN:VEVENT
DTSTART;TZID=America/Chicago:20260122T183000
DTEND;TZID=America/Chicago:20260122T193000
DTSTAMP:20260420T212724
CREATED:20251229T210504Z
LAST-MODIFIED:20251229T210504Z
UID:10001845-1769106600-1769110200@mahometpubliclibrary.org
SUMMARY:Budget Basics
DESCRIPTION:Join Nick Schneider from First State Bank of Forrest for a practical\, easy-to-follow introduction to personal budgeting. Learn how to track income and expenses\, set realistic goals and create a budget that works for you. Whether you want to save more\, spend smarter\, or simply feel more in control\, this session will help you create a fresh financial start for the year ahead. \nAdults. Registration required.
URL:https://mahometpubliclibrary.org/event/budget-basics/
CATEGORIES:Adults
ATTACH;FMTTYPE=image/png:https://mahometpubliclibrary.org/wp-content/uploads/2025/12/Budget-Basics-Workshop-Event-Cover.png
END:VEVENT
BEGIN:VEVENT
DTSTART;TZID=America/Chicago:20260123T100000
DTEND;TZID=America/Chicago:20260123T110000
DTSTAMP:20260420T212724
CREATED:20251229T160755Z
LAST-MODIFIED:20251229T160817Z
UID:10001767-1769162400-1769166000@mahometpubliclibrary.org
SUMMARY:Preschool Playdate
DESCRIPTION:Children (ages 2-5) and their caregivers are welcome to join us on Friday mornings for open-ended playtime!  \nEach session will feature a different assortment of toys and activities.
URL:https://mahometpubliclibrary.org/event/preschool-playdate-ws2026/2026-01-23/
CATEGORIES:Preschool
ATTACH;FMTTYPE=image/png:https://mahometpubliclibrary.org/wp-content/uploads/2025/08/Preschool-Playdate-Event-Image.png
END:VEVENT
BEGIN:VEVENT
DTSTART;TZID=America/Chicago:20260123T160000
DTEND;TZID=America/Chicago:20260123T170000
DTSTAMP:20260420T212724
CREATED:20251229T162135Z
LAST-MODIFIED:20251229T162135Z
UID:10001795-1769184000-1769187600@mahometpubliclibrary.org
SUMMARY:Graphic Novel Book Club: Schoolbot 9000
DESCRIPTION:Calling all graphic novel enthusiasts! Join us as we read and discuss a set graphic novel at each book club session. \nJanuary: Schoolbot 9000 by Sam Hepburn \nMarch: DnDoggos: Get the Party Started! by Scout Underhill \n  \nGrades 3-7. Registration required.
URL:https://mahometpubliclibrary.org/event/graphic-novel-book-club-01-2026/
CATEGORIES:School age
ATTACH;FMTTYPE=image/png:https://mahometpubliclibrary.org/wp-content/uploads/2025/08/Graphic-Novel-Book-Club-Event-Image-Fall-2025.png
END:VEVENT
BEGIN:VEVENT
DTSTART;TZID=America/Chicago:20260124T140000
DTEND;TZID=America/Chicago:20260124T150000
DTSTAMP:20260420T212724
CREATED:20251229T165207Z
LAST-MODIFIED:20251229T165207Z
UID:10001797-1769263200-1769266800@mahometpubliclibrary.org
SUMMARY:Library Lab: Robot Mazes
DESCRIPTION:A-maze-ing! Work with a group to design your own maze\, and then use our library iPads to navigate a robot through the course! \nGrades 2-5. Registration required.
URL:https://mahometpubliclibrary.org/event/robot-mazes/
CATEGORIES:School age
ATTACH;FMTTYPE=image/png:https://mahometpubliclibrary.org/wp-content/uploads/2025/12/Robot-Mazes-Event-Cover.png
END:VEVENT
BEGIN:VEVENT
DTSTART;TZID=America/Chicago:20260127T093000
DTEND;TZID=America/Chicago:20260127T095000
DTSTAMP:20260420T212724
CREATED:20251229T154913Z
LAST-MODIFIED:20251229T155019Z
UID:10001662-1769506200-1769507400@mahometpubliclibrary.org
SUMMARY:Baby Storytime
DESCRIPTION:Bring your baby to the Library for a fun storytime featuring lap bounces\, songs\, rhymes\, and books!  \nThis storytime is designed especially for our littlest library lovers (age 0-18 months) and their caregivers!
URL:https://mahometpubliclibrary.org/event/baby-storytime-ws2026/2026-01-27/
CATEGORIES:Preschool
ATTACH;FMTTYPE=image/png:https://mahometpubliclibrary.org/wp-content/uploads/2025/08/Baby-Storytime-Event-Image.png
END:VEVENT
BEGIN:VEVENT
DTSTART;TZID=America/Chicago:20260127T100000
DTEND;TZID=America/Chicago:20260127T103000
DTSTAMP:20260420T212724
CREATED:20251229T155135Z
LAST-MODIFIED:20251229T155201Z
UID:10001691-1769508000-1769509800@mahometpubliclibrary.org
SUMMARY:Toddler Storytime
DESCRIPTION:Join us at the Library for a storytime specifically designed for toddlers (ages 18 months to 3 years) and their caregivers\, featuring songs\, rhymes and books!
URL:https://mahometpubliclibrary.org/event/toddler-storytime-ws-2026/2026-01-27/
CATEGORIES:Preschool
ATTACH;FMTTYPE=image/png:https://mahometpubliclibrary.org/wp-content/uploads/2025/08/Toddler-Storytime-Event-Image.png
END:VEVENT
BEGIN:VEVENT
DTSTART;TZID=America/Chicago:20260127T183000
DTEND;TZID=America/Chicago:20260127T200000
DTSTAMP:20260420T212724
CREATED:20251229T210926Z
LAST-MODIFIED:20251229T210926Z
UID:10001847-1769538600-1769544000@mahometpubliclibrary.org
SUMMARY:Beginner Sourdough Workshop
DESCRIPTION:Join us for a beginner sourdough class at the Library! This class is perfect for anyone interested in learning the art of sourdough baking. We’ll learn how to make and maintain a starter\, the science behind the sourdough fermentation process\, and tips for making the perfect loaf. Attendees will be provided with some starter and instructions to take home. \nAdults. Registration required.
URL:https://mahometpubliclibrary.org/event/beginner-sourdough-workshop-2026/
CATEGORIES:Adults
ATTACH;FMTTYPE=image/png:https://mahometpubliclibrary.org/wp-content/uploads/2024/08/Sourdough-Workshop_Event-Image.png
END:VEVENT
BEGIN:VEVENT
DTSTART;TZID=America/Chicago:20260128T100000
DTEND;TZID=America/Chicago:20260128T103000
DTSTAMP:20260420T212724
CREATED:20251229T155843Z
LAST-MODIFIED:20251229T155900Z
UID:10001720-1769594400-1769596200@mahometpubliclibrary.org
SUMMARY:Preschool Storytime
DESCRIPTION:Drop in for a fun-filled storytime designed for preschool-aged children (3-5 years) and their caregivers!  \nMPL storytimes feature a fun mix of songs\, rhymes\, and books!
URL:https://mahometpubliclibrary.org/event/preschool-storytime-ws-2026/2026-01-28/
CATEGORIES:Preschool
ATTACH;FMTTYPE=image/png:https://mahometpubliclibrary.org/wp-content/uploads/2025/08/Preschool-Storytime-Event-Image.png
END:VEVENT
BEGIN:VEVENT
DTSTART;TZID=America/Chicago:20260128T153000
DTEND;TZID=America/Chicago:20260128T163000
DTSTAMP:20260420T212724
CREATED:20251229T160352Z
LAST-MODIFIED:20251229T222525Z
UID:10001854-1769614200-1769617800@mahometpubliclibrary.org
SUMMARY:Elementary Explorers
DESCRIPTION:Join us every Wednesday for a fun\, one hour after school program! Activities will rotate monthly. We’ll usually meet from 3:30-4:30 pm\, but we’ll move it up to 1:30-2:30 pm on early dismissal days. \nJanuary: STEM Club \n\nJanuary 14 & 28: regular time (3:30-4:30 pm)\nJanuary 21: early dismissal (1:30-2:30 pm)\n\nFebruary: Art Club \n\nFebruary 4\, 11\, 25: regular time (3:30-4:30 pm)\nFebruary 18: early dismissal (1:30-2:30 pm)\n\nMarch: LEGO Club \n\nMarch 4 & 25: regular time (3:30-4:30 pm)\nMarch 11: early dismissal (1:30-2:30 pm)\nMarch 18: no meeting\n\nApril: Drama Club \n\nApril 1\, 8\, 22\, 29: regular time (3:30-4:30 pm)\nApril 15: early dismissal (1:30-2:30 pm)\n\nGrades K-5. No registration required.
URL:https://mahometpubliclibrary.org/event/elementary-explorers-ws2026/2026-01-28/
CATEGORIES:School age
ATTACH;FMTTYPE=image/png:https://mahometpubliclibrary.org/wp-content/uploads/2025/12/Elementary-Explorers-Event-Image-WinterSpring-2026.png
END:VEVENT
BEGIN:VEVENT
DTSTART;TZID=America/Chicago:20260129T100000
DTEND;TZID=America/Chicago:20260129T103000
DTSTAMP:20260420T212724
CREATED:20251229T161156Z
LAST-MODIFIED:20251229T161224Z
UID:10001786-1769680800-1769682600@mahometpubliclibrary.org
SUMMARY:Little Groovers: Music and Movement
DESCRIPTION:Your littles are invited to wiggle\, giggle\, and groove their way to fun while engaging their imaginations\, enhancing motor skills\, and building social connections! \nWe’ll explore rhythm\, sound\, and movement with a fun selection of songs and dances. \nAges 2-5 and caregivers. No registration required.
URL:https://mahometpubliclibrary.org/event/little-groovers-ws2026/2026-01-29/
CATEGORIES:Preschool
ATTACH;FMTTYPE=image/png:https://mahometpubliclibrary.org/wp-content/uploads/2025/08/Little-Groovers-Event-Image.png
END:VEVENT
BEGIN:VEVENT
DTSTART;TZID=America/Chicago:20260130T100000
DTEND;TZID=America/Chicago:20260130T110000
DTSTAMP:20260420T212724
CREATED:20251229T160755Z
LAST-MODIFIED:20251229T160817Z
UID:10001768-1769767200-1769770800@mahometpubliclibrary.org
SUMMARY:Preschool Playdate
DESCRIPTION:Children (ages 2-5) and their caregivers are welcome to join us on Friday mornings for open-ended playtime!  \nEach session will feature a different assortment of toys and activities.
URL:https://mahometpubliclibrary.org/event/preschool-playdate-ws2026/2026-01-30/
CATEGORIES:Preschool
ATTACH;FMTTYPE=image/png:https://mahometpubliclibrary.org/wp-content/uploads/2025/08/Preschool-Playdate-Event-Image.png
END:VEVENT
END:VCALENDAR