BEGIN:VCALENDAR
VERSION:2.0
PRODID:-//Mahomet Public Library - ECPv6.15.11//NONSGML v1.0//EN
CALSCALE:GREGORIAN
METHOD:PUBLISH
X-ORIGINAL-URL:https://mahometpubliclibrary.org
X-WR-CALDESC:Events for Mahomet Public Library
REFRESH-INTERVAL;VALUE=DURATION:PT1H
X-Robots-Tag:noindex
X-PUBLISHED-TTL:PT1H
BEGIN:VTIMEZONE
TZID:America/Chicago
BEGIN:DAYLIGHT
TZOFFSETFROM:-0600
TZOFFSETTO:-0500
TZNAME:CDT
DTSTART:20240310T080000
END:DAYLIGHT
BEGIN:STANDARD
TZOFFSETFROM:-0500
TZOFFSETTO:-0600
TZNAME:CST
DTSTART:20241103T070000
END:STANDARD
BEGIN:DAYLIGHT
TZOFFSETFROM:-0600
TZOFFSETTO:-0500
TZNAME:CDT
DTSTART:20250309T080000
END:DAYLIGHT
BEGIN:STANDARD
TZOFFSETFROM:-0500
TZOFFSETTO:-0600
TZNAME:CST
DTSTART:20251102T070000
END:STANDARD
BEGIN:DAYLIGHT
TZOFFSETFROM:-0600
TZOFFSETTO:-0500
TZNAME:CDT
DTSTART:20260308T080000
END:DAYLIGHT
BEGIN:STANDARD
TZOFFSETFROM:-0500
TZOFFSETTO:-0600
TZNAME:CST
DTSTART:20261101T070000
END:STANDARD
END:VTIMEZONE
BEGIN:VEVENT
DTSTART;TZID=America/Chicago:20250913T100000
DTEND;TZID=America/Chicago:20250913T120000
DTSTAMP:20260420T001302
CREATED:20250806T134838Z
LAST-MODIFIED:20250811T155335Z
UID:10001508-1757757600-1757764800@mahometpubliclibrary.org
SUMMARY:Teens Teach Tech!
DESCRIPTION:Need help with your phone\, tablet\, or computer? Want to learn how to use social media\, download apps\, or troubleshoot a tech issue?  \nStop by for free one-on-one help from local high school volunteers from the Mahomet-Seymour Interact Club. Bring your device and your questions.  \nAll ages welcome. No registration required\, drop in anytime between 10:00am and 12:00pm.
URL:https://mahometpubliclibrary.org/event/teens-teach-tech/
CATEGORIES:Adults,All Ages
ATTACH;FMTTYPE=image/png:https://mahometpubliclibrary.org/wp-content/uploads/2025/08/Teens-Teach-Tech-Event-Image.png
END:VEVENT
BEGIN:VEVENT
DTSTART;TZID=America/Chicago:20250913T130000
DTEND;TZID=America/Chicago:20250913T150000
DTSTAMP:20260420T001302
CREATED:20250806T120034Z
LAST-MODIFIED:20250808T194655Z
UID:10001509-1757768400-1757775600@mahometpubliclibrary.org
SUMMARY:Craft Lab: Makerspace for Adults
DESCRIPTION:We will provide space to create\, experiment and connect with fellow makers. You can bring your own project to work on or try something new. \nCricut machine\, sewing machine\, ChompSaw cardboard cutter\, button (pin/magnet) maker and more. Plus some supplies available to use\, such as yarn\, thread\, paper\, crochet hooks\, knitting needles and more. \nAll skill levels are welcome. \nRegistration preferred but not required. You can drop in or stay the whole time.
URL:https://mahometpubliclibrary.org/event/craft-lab-makerspace-for-adults/2025-09-13/
CATEGORIES:Adults
ATTACH;FMTTYPE=image/png:https://mahometpubliclibrary.org/wp-content/uploads/2025/08/Adult-CraftLab-Makerspade-Fall-2025-1920-x-1080-px.png
END:VEVENT
BEGIN:VEVENT
DTSTART;TZID=America/Chicago:20250916T093000
DTEND;TZID=America/Chicago:20250916T095000
DTSTAMP:20260420T001302
CREATED:20250806T120014Z
LAST-MODIFIED:20251229T154257Z
UID:10001443-1758015000-1758016200@mahometpubliclibrary.org
SUMMARY:Baby Storytime
DESCRIPTION:Bring your baby to the Library for a fun storytime featuring lap bounces\, songs\, rhymes\, and books!  \nThis storytime is designed especially for our littlest library lovers (age 0-18 months) and their caregivers!
URL:https://mahometpubliclibrary.org/event/baby-storytime-3/2025-09-16/
ATTACH;FMTTYPE=image/png:https://mahometpubliclibrary.org/wp-content/uploads/2025/08/Baby-Storytime-Event-Image.png
END:VEVENT
BEGIN:VEVENT
DTSTART;TZID=America/Chicago:20250916T100000
DTEND;TZID=America/Chicago:20250916T103000
DTSTAMP:20260420T001302
CREATED:20250806T120057Z
LAST-MODIFIED:20251229T154206Z
UID:10001457-1758016800-1758018600@mahometpubliclibrary.org
SUMMARY:Toddler Storytime
DESCRIPTION:Join us at the Library for a storytime specifically designed for toddlers (age 18 months to 3 years) and their caregivers\, featuring songs\, rhymes and books!
URL:https://mahometpubliclibrary.org/event/toddler-storytime-3/2025-09-16/
CATEGORIES:Preschool
ATTACH;FMTTYPE=image/png:https://mahometpubliclibrary.org/wp-content/uploads/2025/08/Toddler-Storytime-Event-Image.png
END:VEVENT
BEGIN:VEVENT
DTSTART;TZID=America/Chicago:20250916T130000
DTEND;TZID=America/Chicago:20250916T143000
DTSTAMP:20260420T001302
CREATED:20250801T120018Z
LAST-MODIFIED:20251229T153318Z
UID:10001521-1758027600-1758033000@mahometpubliclibrary.org
SUMMARY:Adult Crafternoon
DESCRIPTION:Join us for an afternoon of crafting! All supplies will be provided for this beginner level projects. \nPlease register. \nSeptember:\nYarn Wrapped Coil Baskets \nOctober:\nTerrarium or “Terrorium” (spooky theme optional) \nNovember:\nPaint Like Me or Paint by Number (?)
URL:https://mahometpubliclibrary.org/event/adult-crafternoon-2/
CATEGORIES:Adults
ATTACH;FMTTYPE=image/png:https://mahometpubliclibrary.org/wp-content/uploads/2025/08/Adult-Crafternoon-Event-Image-Fall-2025.png
END:VEVENT
BEGIN:VEVENT
DTSTART;TZID=America/Chicago:20250916T153000
DTEND;TZID=America/Chicago:20250916T164500
DTSTAMP:20260420T001302
CREATED:20250806T120053Z
LAST-MODIFIED:20250925T172738Z
UID:10001504-1758036600-1758041100@mahometpubliclibrary.org
SUMMARY:CANCELED: Chapter by Chapter: Read-Aloud Book Club for Kids
DESCRIPTION:PLEASE NOTE: This program has been canceled. \nJoin us each week as Ms. Becca reads Flora and Ulysses by Kate DiCamillo! After listening to a few chapters\, stay for a brief discussion and themed activity! \n For students in grades K-5.
URL:https://mahometpubliclibrary.org/event/chapter-by-chapter-read-aloud-book-club-for-kids/2025-09-16/
CATEGORIES:School age
ATTACH;FMTTYPE=image/png:https://mahometpubliclibrary.org/wp-content/uploads/2025/08/Chapter-by-Chapter-Event-Image.png
END:VEVENT
BEGIN:VEVENT
DTSTART;TZID=America/Chicago:20250917T100000
DTEND;TZID=America/Chicago:20250917T103000
DTSTAMP:20260420T001302
CREATED:20250806T120042Z
LAST-MODIFIED:20251229T154237Z
UID:10001472-1758103200-1758105000@mahometpubliclibrary.org
SUMMARY:Preschool Storytime
DESCRIPTION:Drop in for a fun-filled storytime designed for preschool-aged children (3-5 years) and their caregivers!  \nMPL storytimes feature a fun mix of songs\, rhymes\, and books!
URL:https://mahometpubliclibrary.org/event/preschool-storytime-3/2025-09-17/
CATEGORIES:Preschool
ATTACH;FMTTYPE=image/png:https://mahometpubliclibrary.org/wp-content/uploads/2025/08/Preschool-Storytime-Event-Image.png
END:VEVENT
BEGIN:VEVENT
DTSTART;TZID=America/Chicago:20250917T133000
DTEND;TZID=America/Chicago:20250917T143000
DTSTAMP:20260420T001302
CREATED:20250806T120042Z
LAST-MODIFIED:20250808T193413Z
UID:10001486-1758115800-1758119400@mahometpubliclibrary.org
SUMMARY:Elementary Explorers: Art Club
DESCRIPTION:Join us after school for an hour of artistic expression and fun! This program is reserved for students in grades K-5. Younger siblings and caregivers are welcome to browse the library or play in the children’s area while the program is in session. \nPlease note: on early dismissal days (9/17)\, the program will run from 1:30-2:30.
URL:https://mahometpubliclibrary.org/event/elementary-explorers-art-club/2025-09-17/
CATEGORIES:School age
ATTACH;FMTTYPE=image/png:https://mahometpubliclibrary.org/wp-content/uploads/2025/08/Elementary-Explorers-Event-Image-Fall-2025.png
END:VEVENT
BEGIN:VEVENT
DTSTART;TZID=America/Chicago:20250918T173000
DTEND;TZID=America/Chicago:20250918T193000
DTSTAMP:20260420T001302
CREATED:20250806T144917Z
LAST-MODIFIED:20250915T210531Z
UID:10001526-1758216600-1758223800@mahometpubliclibrary.org
SUMMARY:An Evening with Dr. William Gingold: A Holocaust Survivor's Story
DESCRIPTION:Join us for a powerful and personal presentation by Dr. William Gingold\, a Holocaust survivor and retired professor. \nDr. Gingold will share his family’s story of survival and resilience after escaping Nazi persecution during World War II. Born in Poland in 1939\, Dr. Gingold spent part of his early childhood in the Warsaw Ghetto and displacement camps before coming to the United States. \nRegistration recommended. Due to high interest\, we anticipate a large crowd with standing room only. We encourage registration – there are 70 chairs available. Walk-ins are welcome\, but you may not have a chair.
URL:https://mahometpubliclibrary.org/event/an-evening-with-dr-william-gingold-a-holocaust-survivors-story/
CATEGORIES:Adults,Teens
ATTACH;FMTTYPE=image/png:https://mahometpubliclibrary.org/wp-content/uploads/2025/08/Evening-With-Dr.-Gingold-Event-Image.png
END:VEVENT
BEGIN:VEVENT
DTSTART;TZID=America/Chicago:20250919T100000
DTEND;TZID=America/Chicago:20250919T110000
DTSTAMP:20260420T001302
CREATED:20250806T120041Z
LAST-MODIFIED:20251229T154320Z
UID:10001492-1758276000-1758279600@mahometpubliclibrary.org
SUMMARY:Preschool Playdate
DESCRIPTION:Children (ages 2-5) and their caregivers are welcome to join us on Friday mornings for open-ended playtime!  \nEach session will feature a different assortment of toys and activities.
URL:https://mahometpubliclibrary.org/event/preschool-playdate-3/2025-09-19/
CATEGORIES:Preschool
ATTACH;FMTTYPE=image/png:https://mahometpubliclibrary.org/wp-content/uploads/2025/08/Preschool-Playdate-Event-Image.png
END:VEVENT
BEGIN:VEVENT
DTSTART;TZID=America/Chicago:20250919T160000
DTEND;TZID=America/Chicago:20250919T170000
DTSTAMP:20260420T001302
CREATED:20250806T120025Z
LAST-MODIFIED:20251229T153447Z
UID:10001527-1758297600-1758301200@mahometpubliclibrary.org
SUMMARY:Graphic Novel Book Club
DESCRIPTION:Graphic novel enthusiasts in grades 3-7 are welcome to join us at the Library for a lively discussion of a specific graphic novel at each session. \nIn September\, we’ll discuss Very Bad at Math by Hope Larson and November we’ll discuss First Test by Tamora Pierce.
URL:https://mahometpubliclibrary.org/event/graphic-novel-book-club/
CATEGORIES:School age
ATTACH;FMTTYPE=image/png:https://mahometpubliclibrary.org/wp-content/uploads/2025/08/Graphic-Novel-Book-Club-Event-Image-Fall-2025.png
END:VEVENT
BEGIN:VEVENT
DTSTART;TZID=America/Chicago:20250920T133000
DTEND;TZID=America/Chicago:20250920T153000
DTSTAMP:20260420T001302
CREATED:20250806T120023Z
LAST-MODIFIED:20251229T153910Z
UID:10001613-1758375000-1758382200@mahometpubliclibrary.org
SUMMARY:Jr. D&D Club
DESCRIPTION:Calling all young adventurers in grades 3-5! Join us at the Library for a series of one-shot D&D games led by community member Joe Trotter! \nPlayers will practice problem solving and teamwork while engaging in exciting adventures filled with magic and action!
URL:https://mahometpubliclibrary.org/event/jr-dd-club/
CATEGORIES:School age
ATTACH;FMTTYPE=image/png:https://mahometpubliclibrary.org/wp-content/uploads/2025/08/Junior-DD-Event-Image.png
END:VEVENT
BEGIN:VEVENT
DTSTART;TZID=America/Chicago:20250923T093000
DTEND;TZID=America/Chicago:20250923T095000
DTSTAMP:20260420T001302
CREATED:20250806T120014Z
LAST-MODIFIED:20251229T154257Z
UID:10001444-1758619800-1758621000@mahometpubliclibrary.org
SUMMARY:Baby Storytime
DESCRIPTION:Bring your baby to the Library for a fun storytime featuring lap bounces\, songs\, rhymes\, and books!  \nThis storytime is designed especially for our littlest library lovers (age 0-18 months) and their caregivers!
URL:https://mahometpubliclibrary.org/event/baby-storytime-3/2025-09-23/
ATTACH;FMTTYPE=image/png:https://mahometpubliclibrary.org/wp-content/uploads/2025/08/Baby-Storytime-Event-Image.png
END:VEVENT
BEGIN:VEVENT
DTSTART;TZID=America/Chicago:20250923T100000
DTEND;TZID=America/Chicago:20250923T103000
DTSTAMP:20260420T001302
CREATED:20250806T120057Z
LAST-MODIFIED:20251229T154206Z
UID:10001458-1758621600-1758623400@mahometpubliclibrary.org
SUMMARY:Toddler Storytime
DESCRIPTION:Join us at the Library for a storytime specifically designed for toddlers (age 18 months to 3 years) and their caregivers\, featuring songs\, rhymes and books!
URL:https://mahometpubliclibrary.org/event/toddler-storytime-3/2025-09-23/
CATEGORIES:Preschool
ATTACH;FMTTYPE=image/png:https://mahometpubliclibrary.org/wp-content/uploads/2025/08/Toddler-Storytime-Event-Image.png
END:VEVENT
BEGIN:VEVENT
DTSTART;TZID=America/Chicago:20250923T153000
DTEND;TZID=America/Chicago:20250923T164500
DTSTAMP:20260420T001302
CREATED:20250806T120053Z
LAST-MODIFIED:20250925T172738Z
UID:10001505-1758641400-1758645900@mahometpubliclibrary.org
SUMMARY:CANCELED: Chapter by Chapter: Read-Aloud Book Club for Kids
DESCRIPTION:PLEASE NOTE: This program has been canceled. \nJoin us each week as Ms. Becca reads Flora and Ulysses by Kate DiCamillo! After listening to a few chapters\, stay for a brief discussion and themed activity! \n For students in grades K-5.
URL:https://mahometpubliclibrary.org/event/chapter-by-chapter-read-aloud-book-club-for-kids/2025-09-23/
CATEGORIES:School age
ATTACH;FMTTYPE=image/png:https://mahometpubliclibrary.org/wp-content/uploads/2025/08/Chapter-by-Chapter-Event-Image.png
END:VEVENT
BEGIN:VEVENT
DTSTART;TZID=America/Chicago:20250923T183000
DTEND;TZID=America/Chicago:20250923T193000
DTSTAMP:20260420T001302
CREATED:20250806T151940Z
LAST-MODIFIED:20250808T195415Z
UID:10001529-1758652200-1758655800@mahometpubliclibrary.org
SUMMARY:Learn to Can
DESCRIPTION:Presented by Rachel Mannen at the University of Illinois Extension Master the art of canning! \nLearn valuable skills to preserve your harvest and enjoy delicious homemade canned good year-round.
URL:https://mahometpubliclibrary.org/event/learn-to-can/
CATEGORIES:Adults
ATTACH;FMTTYPE=image/png:https://mahometpubliclibrary.org/wp-content/uploads/2025/08/Learn-to-Can-Event-Image.png
END:VEVENT
BEGIN:VEVENT
DTSTART;TZID=America/Chicago:20250924T100000
DTEND;TZID=America/Chicago:20250924T103000
DTSTAMP:20260420T001302
CREATED:20250806T120042Z
LAST-MODIFIED:20251229T154237Z
UID:10001473-1758708000-1758709800@mahometpubliclibrary.org
SUMMARY:Preschool Storytime
DESCRIPTION:Drop in for a fun-filled storytime designed for preschool-aged children (3-5 years) and their caregivers!  \nMPL storytimes feature a fun mix of songs\, rhymes\, and books!
URL:https://mahometpubliclibrary.org/event/preschool-storytime-3/2025-09-24/
CATEGORIES:Preschool
ATTACH;FMTTYPE=image/png:https://mahometpubliclibrary.org/wp-content/uploads/2025/08/Preschool-Storytime-Event-Image.png
END:VEVENT
BEGIN:VEVENT
DTSTART;TZID=America/Chicago:20250924T153000
DTEND;TZID=America/Chicago:20250924T163000
DTSTAMP:20260420T001302
CREATED:20250806T120042Z
LAST-MODIFIED:20250808T193413Z
UID:10001487-1758727800-1758731400@mahometpubliclibrary.org
SUMMARY:Elementary Explorers: Art Club
DESCRIPTION:Join us after school for an hour of artistic expression and fun! This program is reserved for students in grades K-5. Younger siblings and caregivers are welcome to browse the library or play in the children’s area while the program is in session. \nPlease note: on early dismissal days (9/17)\, the program will run from 1:30-2:30.
URL:https://mahometpubliclibrary.org/event/elementary-explorers-art-club/2025-09-24/
CATEGORIES:School age
ATTACH;FMTTYPE=image/png:https://mahometpubliclibrary.org/wp-content/uploads/2025/08/Elementary-Explorers-Event-Image-Fall-2025.png
END:VEVENT
BEGIN:VEVENT
DTSTART;TZID=America/Chicago:20250925T100000
DTEND;TZID=America/Chicago:20250925T103000
DTSTAMP:20260420T001302
CREATED:20250808T120045Z
LAST-MODIFIED:20251229T154006Z
UID:10001516-1758794400-1758796200@mahometpubliclibrary.org
SUMMARY:Little Groovers: Music and Movement
DESCRIPTION:This 30-minute program is perfect for children age 2-5 (and their caregivers) with a serious case of the wiggles!  \nWe’ll explore rhythm\, sound\, and movement with a fun selection of songs and dances.
URL:https://mahometpubliclibrary.org/event/little-groovers-music-and-movement/2025-09-25/
CATEGORIES:Preschool
ATTACH;FMTTYPE=image/png:https://mahometpubliclibrary.org/wp-content/uploads/2025/08/Little-Groovers-Event-Image.png
END:VEVENT
BEGIN:VEVENT
DTSTART;TZID=America/Chicago:20250925T183000
DTEND;TZID=America/Chicago:20250925T193000
DTSTAMP:20260420T001302
CREATED:20250806T152300Z
LAST-MODIFIED:20250808T195516Z
UID:10001530-1758825000-1758828600@mahometpubliclibrary.org
SUMMARY:Planting a Tree
DESCRIPTION:Join Tyler Courson\, an arborist from Green View\, for an engaging and practical talk on how to select\, plant and care for trees that will thrive in central Illinois. Learn the best timing\, placement and techniques to give your tree a healthy start and avoid common mistakes. \nRegistration recommended.
URL:https://mahometpubliclibrary.org/event/plant-a-tree/
CATEGORIES:Adults,Teens
ATTACH;FMTTYPE=image/png:https://mahometpubliclibrary.org/wp-content/uploads/2025/08/Planting-a-Tree-Event-Image.png
END:VEVENT
BEGIN:VEVENT
DTSTART;TZID=America/Chicago:20250926T100000
DTEND;TZID=America/Chicago:20250926T110000
DTSTAMP:20260420T001302
CREATED:20250806T120041Z
LAST-MODIFIED:20251229T154320Z
UID:10001493-1758880800-1758884400@mahometpubliclibrary.org
SUMMARY:Preschool Playdate
DESCRIPTION:Children (ages 2-5) and their caregivers are welcome to join us on Friday mornings for open-ended playtime!  \nEach session will feature a different assortment of toys and activities.
URL:https://mahometpubliclibrary.org/event/preschool-playdate-3/2025-09-26/
CATEGORIES:Preschool
ATTACH;FMTTYPE=image/png:https://mahometpubliclibrary.org/wp-content/uploads/2025/08/Preschool-Playdate-Event-Image.png
END:VEVENT
BEGIN:VEVENT
DTSTART;TZID=America/Chicago:20250927T093000
DTEND;TZID=America/Chicago:20250927T110000
DTSTAMP:20260420T001302
CREATED:20250806T120026Z
LAST-MODIFIED:20250808T195601Z
UID:10001531-1758965400-1758970800@mahometpubliclibrary.org
SUMMARY:Wackadoo!
DESCRIPTION:Calling all fans of our favorite blue heeler dog and family! Join us at the library for games\, crafts\, and activities based around the hit Australian children’s show. \nBluey will make an appearance for meet-and-greet and photos starting at 10 AM.
URL:https://mahometpubliclibrary.org/event/wackadoo-2/
CATEGORIES:All Ages
ATTACH;FMTTYPE=image/png:https://mahometpubliclibrary.org/wp-content/uploads/2025/08/Wackadoo-Event-Image-2025.png
END:VEVENT
BEGIN:VEVENT
DTSTART;TZID=America/Chicago:20250928T133000
DTEND;TZID=America/Chicago:20250928T163000
DTSTAMP:20260420T001302
CREATED:20250806T120028Z
LAST-MODIFIED:20260105T145353Z
UID:10001605-1759066200-1759077000@mahometpubliclibrary.org
SUMMARY:Teen D&D Club
DESCRIPTION:Library staff member\, Ty\, will lead a group of 6th-12th graders through a 5-part Dungeons and Dragons campaign. The group will meet once every three weeks and play through an extended campaign full of adventure and magic. \n 
URL:https://mahometpubliclibrary.org/event/teen-dd-club/2025-09-28/
CATEGORIES:Teens
ATTACH;FMTTYPE=image/png:https://mahometpubliclibrary.org/wp-content/uploads/2025/08/Teen-DD-Event-Image-FA25.png
END:VEVENT
BEGIN:VEVENT
DTSTART;TZID=America/Chicago:20250929T183000
DTEND;TZID=America/Chicago:20250929T200000
DTSTAMP:20260420T001302
CREATED:20250925T185005Z
LAST-MODIFIED:20250925T185128Z
UID:10001633-1759170600-1759176000@mahometpubliclibrary.org
SUMMARY:Kickoff Meeting for our Library Expansion Campaign
DESCRIPTION:We’re thrilled to invite you to the Kickoff Meeting for our Library Expansion Campaign—a chance for neighbors\, friends\, and library supporters to come together and celebrate the exciting future of our library. \nWhen: Monday\, September 29th 6:30 p.m. \nWhere: Mahomet Public Library Edgar Room \nAt this gathering you’ll: \n\nHear an overview of the expansion plans and what they’ll mean for our community\nEnjoy heartfelt testimonials from fellow community members\nCelebrate as we announce some important gifts to the campaignAfter the main program\, volunteers who are helping with fundraising and communications will have a chance to meet up\, share ideas\, and plan their next steps together.\n\nYour presence will help set the tone for this community effort. Whether you’re curious about the project or already involved\, we’d love to see you there.\nThank you for helping our library grow right alongside our community!
URL:https://mahometpubliclibrary.org/event/expansion-kickoff-meeting/
CATEGORIES:Adults
ATTACH;FMTTYPE=image/png:https://mahometpubliclibrary.org/wp-content/uploads/2025/09/Expansion-Campaign-Kickoff_Event-Cover_September-2025.png
END:VEVENT
BEGIN:VEVENT
DTSTART;TZID=America/Chicago:20250930T093000
DTEND;TZID=America/Chicago:20250930T095000
DTSTAMP:20260420T001302
CREATED:20250806T120014Z
LAST-MODIFIED:20251229T154257Z
UID:10001445-1759224600-1759225800@mahometpubliclibrary.org
SUMMARY:Baby Storytime
DESCRIPTION:Bring your baby to the Library for a fun storytime featuring lap bounces\, songs\, rhymes\, and books!  \nThis storytime is designed especially for our littlest library lovers (age 0-18 months) and their caregivers!
URL:https://mahometpubliclibrary.org/event/baby-storytime-3/2025-09-30/
ATTACH;FMTTYPE=image/png:https://mahometpubliclibrary.org/wp-content/uploads/2025/08/Baby-Storytime-Event-Image.png
END:VEVENT
BEGIN:VEVENT
DTSTART;TZID=America/Chicago:20250930T100000
DTEND;TZID=America/Chicago:20250930T103000
DTSTAMP:20260420T001302
CREATED:20250806T120057Z
LAST-MODIFIED:20251229T154206Z
UID:10001459-1759226400-1759228200@mahometpubliclibrary.org
SUMMARY:Toddler Storytime
DESCRIPTION:Join us at the Library for a storytime specifically designed for toddlers (age 18 months to 3 years) and their caregivers\, featuring songs\, rhymes and books!
URL:https://mahometpubliclibrary.org/event/toddler-storytime-3/2025-09-30/
CATEGORIES:Preschool
ATTACH;FMTTYPE=image/png:https://mahometpubliclibrary.org/wp-content/uploads/2025/08/Toddler-Storytime-Event-Image.png
END:VEVENT
BEGIN:VEVENT
DTSTART;TZID=America/Chicago:20250930T153000
DTEND;TZID=America/Chicago:20250930T164500
DTSTAMP:20260420T001302
CREATED:20250806T120053Z
LAST-MODIFIED:20250925T172738Z
UID:10001506-1759246200-1759250700@mahometpubliclibrary.org
SUMMARY:CANCELED: Chapter by Chapter: Read-Aloud Book Club for Kids
DESCRIPTION:PLEASE NOTE: This program has been canceled. \nJoin us each week as Ms. Becca reads Flora and Ulysses by Kate DiCamillo! After listening to a few chapters\, stay for a brief discussion and themed activity! \n For students in grades K-5.
URL:https://mahometpubliclibrary.org/event/chapter-by-chapter-read-aloud-book-club-for-kids/2025-09-30/
CATEGORIES:School age
ATTACH;FMTTYPE=image/png:https://mahometpubliclibrary.org/wp-content/uploads/2025/08/Chapter-by-Chapter-Event-Image.png
END:VEVENT
BEGIN:VEVENT
DTSTART;VALUE=DATE:20251001
DTEND;VALUE=DATE:20251102
DTSTAMP:20260420T001302
CREATED:20251002T145630Z
LAST-MODIFIED:20251002T151727Z
UID:10001635-1759284000-1761962399@mahometpubliclibrary.org
SUMMARY:7th Annual Library Crawl
DESCRIPTION:Welcome to the 7th Annual IHLS Library Crawl! As a bibliophile\, we know you will enjoy the interesting and beautiful buildings that house our library collections throughout central and southern Illinois. \nHow It Works: \n\nPick up your official passport from the Mahomet Library.\nTravel around central and southern Illinois visiting participating public libraries. Go to each library’s circulation desk to get your passport stamped.\nVisit 5 or more participating libraries (map here) throughout October to complete the Library Crawl. Discover the many library collections your library card gives you access to! Each library has a page in the 2025 Library Crawl Guidebook. Be sure to check this out for a list of local eateries and places of interest the library staff recommend. Remember\, you can use your library card along the way to check out items at the libraries you visit. Then simply return them at your home library. Our statewide courier service will take care of the rest. This awesome service brings items back and forth making our collections available to all patrons.\nShare the joy – take pictures along the way and post them with #IHLSLibraryCrawl2025 on social media.\nReturn your stamped passport to the Mahomet Library by the end of October for a freebie and raffle entry for a gift card!
URL:https://mahometpubliclibrary.org/event/7th-annual-library-crawl/
CATEGORIES:All Ages
ATTACH;FMTTYPE=image/png:https://mahometpubliclibrary.org/wp-content/uploads/2025/10/Library-Crawl_Event-Cover_October-2025.png
END:VEVENT
BEGIN:VEVENT
DTSTART;TZID=America/Chicago:20251001T100000
DTEND;TZID=America/Chicago:20251001T103000
DTSTAMP:20260420T001302
CREATED:20250806T120042Z
LAST-MODIFIED:20251229T154237Z
UID:10001474-1759312800-1759314600@mahometpubliclibrary.org
SUMMARY:Preschool Storytime
DESCRIPTION:Drop in for a fun-filled storytime designed for preschool-aged children (3-5 years) and their caregivers!  \nMPL storytimes feature a fun mix of songs\, rhymes\, and books!
URL:https://mahometpubliclibrary.org/event/preschool-storytime-3/2025-10-01/
CATEGORIES:Preschool
ATTACH;FMTTYPE=image/png:https://mahometpubliclibrary.org/wp-content/uploads/2025/08/Preschool-Storytime-Event-Image.png
END:VEVENT
BEGIN:VEVENT
DTSTART;TZID=America/Chicago:20251001T153000
DTEND;TZID=America/Chicago:20251001T163000
DTSTAMP:20260420T001302
CREATED:20250806T120023Z
LAST-MODIFIED:20250808T200439Z
UID:10001532-1759332600-1759336200@mahometpubliclibrary.org
SUMMARY:Elementary Explorers: Gamers Club
DESCRIPTION:Join us for an after-school club perfect for gamers in grades K-5! Each week\, we’ll do an activity centered around a different video game. \n10/1: Pokemon BINGO \n10/15: DIY Roblox Avatars \n10/22 (Early Out): Minecraft Trivia \n10/29: Super Mario Perler Beads \nPlease note: on early dismissal days (10/22)\, the program will run from 1:30-2:30.
URL:https://mahometpubliclibrary.org/event/elementary-explorers-gamers-club/2025-10-01/
CATEGORIES:School age
ATTACH;FMTTYPE=image/png:https://mahometpubliclibrary.org/wp-content/uploads/2025/08/Elementary-Explorers-Event-Image-Fall-2025.png
END:VEVENT
END:VCALENDAR