BEGIN:VCALENDAR
VERSION:2.0
PRODID:-//Mahomet Public Library - ECPv6.15.11//NONSGML v1.0//EN
CALSCALE:GREGORIAN
METHOD:PUBLISH
X-ORIGINAL-URL:https://mahometpubliclibrary.org
X-WR-CALDESC:Events for Mahomet Public Library
REFRESH-INTERVAL;VALUE=DURATION:PT1H
X-Robots-Tag:noindex
X-PUBLISHED-TTL:PT1H
BEGIN:VTIMEZONE
TZID:America/Chicago
BEGIN:DAYLIGHT
TZOFFSETFROM:-0600
TZOFFSETTO:-0500
TZNAME:CDT
DTSTART:20240310T080000
END:DAYLIGHT
BEGIN:STANDARD
TZOFFSETFROM:-0500
TZOFFSETTO:-0600
TZNAME:CST
DTSTART:20241103T070000
END:STANDARD
BEGIN:DAYLIGHT
TZOFFSETFROM:-0600
TZOFFSETTO:-0500
TZNAME:CDT
DTSTART:20250309T080000
END:DAYLIGHT
BEGIN:STANDARD
TZOFFSETFROM:-0500
TZOFFSETTO:-0600
TZNAME:CST
DTSTART:20251102T070000
END:STANDARD
BEGIN:DAYLIGHT
TZOFFSETFROM:-0600
TZOFFSETTO:-0500
TZNAME:CDT
DTSTART:20260308T080000
END:DAYLIGHT
BEGIN:STANDARD
TZOFFSETFROM:-0500
TZOFFSETTO:-0600
TZNAME:CST
DTSTART:20261101T070000
END:STANDARD
END:VTIMEZONE
BEGIN:VEVENT
DTSTART;VALUE=DATE:20250521
DTEND;VALUE=DATE:20250803
DTSTAMP:20260419T091842
CREATED:20250424T151745Z
LAST-MODIFIED:20250424T151745Z
UID:10001317-1747792800-1754099999@mahometpubliclibrary.org
SUMMARY:Summer Reading Programs
DESCRIPTION:Summer reading time is here! The much-anticipated Summer Reading Programs kick off on May 21\, the last day of school (you can sign up that day!)\, and conclude on August 1 (the last day to log minutes). This year’s iREAD 2025 theme is “Level Up! at Your Library\,” an all ages summer reading program based around puzzles and games. Play is one of the ways we learn to relate to others\, to think in new ways\, and to foster friendships\, new and old. Level Up! reminds us that libraries are not just a space for knowledge\, they’re a space for fun! There will be child\, teen\, and adult prizes (even prizes for the community) based on minutes read. \n  \nKids (Birth-Fifth Grade):\n\nUse your reading log to track your minutes read and earn beads for your brag tag!\nFinish your whole log and receive a FREE BOOK\, Monicals coupon\, and star to put up on the wall in the children’s area.\nEarn stickers for your badge book full of bonus reading challenges. Complete all the challenges get a water bottle or tote bag.\n\n\nTeens (Sixth-Ninth Grade):\n\nUse your reading log to track your minutes read.\nGet a raffle ticket for every hour you read.\nFinish your whole log and receive a FREE BOOK and Monicals coupon.\n\n\nAdults (Tenth Grade and Up): \nFor every 10 hours you read\, fill out a raffle ticket for a chance to win a gift card from a local business! \n\nCommunity Prizes: Help Us “Unlock” Prizes for Everyone!\n\nDownload the “Reader Zone” app or log in on their website.\nEnter your total number of minutes read.\nIf the community reads a certain number of minutes in total\, we will unlock the following special community prizes:\n\n25\,000 Minutes: New train set for the train table\n75\,000 Minutes: Botley 2.0 Coding Robot\n150\,000 Minutes: 6 new Wonderbooks\n200\,000 Minutes: Foam party
URL:https://mahometpubliclibrary.org/event/summer-reading-2025/
CATEGORIES:All Ages
ATTACH;FMTTYPE=image/png:https://mahometpubliclibrary.org/wp-content/uploads/2025/04/Summer-Reading_Event-Image_2025.png
END:VEVENT
BEGIN:VEVENT
DTSTART;TZID=America/Chicago:20250617T093000
DTEND;TZID=America/Chicago:20250617T095000
DTSTAMP:20260419T091842
CREATED:20250424T154647Z
LAST-MODIFIED:20250424T154707Z
UID:10001335-1750152600-1750153800@mahometpubliclibrary.org
SUMMARY:Baby Storytime
DESCRIPTION:Bring your baby to storytime on Tuesday mornings in June and July at the Library! There will be songs\, bounces\, and books! \n  \nAges 0-18 months. No registration required.
URL:https://mahometpubliclibrary.org/event/summer-2025-baby-storytime/2025-06-17/
CATEGORIES:Preschool
ATTACH;FMTTYPE=image/png:https://mahometpubliclibrary.org/wp-content/uploads/2024/05/Baby-Storytime_Event-Image_2024.png
END:VEVENT
BEGIN:VEVENT
DTSTART;TZID=America/Chicago:20250617T130000
DTEND;TZID=America/Chicago:20250617T143000
DTSTAMP:20260419T091842
CREATED:20250424T153610Z
LAST-MODIFIED:20250424T153610Z
UID:10001409-1750165200-1750170600@mahometpubliclibrary.org
SUMMARY:Adult Crafternoon: Teacup Bird Feeder
DESCRIPTION:Enjoy a relaxing afternoon crafting unique projects while connecting with fellow crafters. All supplies are provided. \nDates and Crafts:\nJune 17: Teacup bird feeders \nJuly 15: Introduction to cross-stitching \nAdults. Registration required. No meeting in August.
URL:https://mahometpubliclibrary.org/event/june-2025-crafternoon/
CATEGORIES:Adults
ATTACH;FMTTYPE=image/png:https://mahometpubliclibrary.org/wp-content/uploads/2023/06/September.png
END:VEVENT
BEGIN:VEVENT
DTSTART;TZID=America/Chicago:20250617T150000
DTEND;TZID=America/Chicago:20250617T160000
DTSTAMP:20260419T091842
CREATED:20250424T154519Z
LAST-MODIFIED:20250424T154519Z
UID:10001361-1750172400-1750176000@mahometpubliclibrary.org
SUMMARY:Adventures in Art: Loom Weaving
DESCRIPTION:Join us for an hour of artistic fun! All supplies needed to make each project will be provided. \nDates and Projects:\nJune 3: Splatter Paint \nJune 17: Loom Weaving \nJuly 1: Bubble Paint Flowers \nJuly 15: Stitched Yarn Art \nJuly 29: Perler Bead Pixel Art \nEntering grades 2-5. Registration required.
URL:https://mahometpubliclibrary.org/event/adventures-in-art-loom-weaving/
CATEGORIES:School age
ATTACH;FMTTYPE=image/png:https://mahometpubliclibrary.org/wp-content/uploads/2024/05/Adventures-in-Art_Event-Image_Summer-2024.png
END:VEVENT
BEGIN:VEVENT
DTSTART;TZID=America/Chicago:20250618T100000
DTEND;TZID=America/Chicago:20250618T103000
DTSTAMP:20260419T091842
CREATED:20250424T154632Z
LAST-MODIFIED:20250424T154632Z
UID:10001353-1750240800-1750242600@mahometpubliclibrary.org
SUMMARY:All Ages Storytime
DESCRIPTION:Join us for storytime on Wednesday mornings in June and July for children ages 0-5 and caregivers. There will be books\, bouncing\, songs\, and more!
URL:https://mahometpubliclibrary.org/event/all-ages-storytime/2025-06-18/
CATEGORIES:Preschool
ATTACH;FMTTYPE=image/png:https://mahometpubliclibrary.org/wp-content/uploads/2024/05/All-Ages-Storytime_Event-Image.png
END:VEVENT
BEGIN:VEVENT
DTSTART;TZID=America/Chicago:20250618T150000
DTEND;TZID=America/Chicago:20250618T160000
DTSTAMP:20260419T091842
CREATED:20250424T154208Z
LAST-MODIFIED:20250424T154208Z
UID:10001392-1750258800-1750262400@mahometpubliclibrary.org
SUMMARY:Live Action Choose Your Own Adventure
DESCRIPTION:Join us for a live reading of Endlessly Ever After by Laurel Snyder. Participants will have to make choices in real-time to determine how the story will end. \nAges 5 and up. No registration required.
URL:https://mahometpubliclibrary.org/event/choose-your-adventure/
CATEGORIES:School age
ATTACH;FMTTYPE=image/png:https://mahometpubliclibrary.org/wp-content/uploads/2025/04/Live-Action_Event-Image_June-2025.png
END:VEVENT
BEGIN:VEVENT
DTSTART;TZID=America/Chicago:20250619T140000
DTEND;TZID=America/Chicago:20250619T160000
DTSTAMP:20260419T091842
CREATED:20250424T154134Z
LAST-MODIFIED:20250424T154156Z
UID:10001393-1750341600-1750348800@mahometpubliclibrary.org
SUMMARY:LEGO Club: Summer Edition
DESCRIPTION:Calling all LEGO lovers! Join us every month this summer for drop-in open play with our huge collection of LEGOs! \nDates:\nJune 19 \nJuly 17 \nEntering grades K-5. No registration required.
URL:https://mahometpubliclibrary.org/event/summer-lego-club/2025-06-19/
CATEGORIES:School age
ATTACH;FMTTYPE=image/png:https://mahometpubliclibrary.org/wp-content/uploads/2025/04/Lego-Club_Event-Image_Summer-2025.png
END:VEVENT
BEGIN:VEVENT
DTSTART;TZID=America/Chicago:20250619T183000
DTEND;TZID=America/Chicago:20250619T193000
DTSTAMP:20260419T091842
CREATED:20250424T153547Z
LAST-MODIFIED:20250424T153547Z
UID:10001411-1750357800-1750361400@mahometpubliclibrary.org
SUMMARY:Summer Mocktails
DESCRIPTION:Enjoy an interactive session where attendees will learn to make easy\, refreshing non-alcoholic drinks. Bartender Riley Mueller will teach us the basics of drink-mixing\, samples\, and share some tips. \nAdults. Registration required.
URL:https://mahometpubliclibrary.org/event/summer-mocktails/
CATEGORIES:Adults
ATTACH;FMTTYPE=image/png:https://mahometpubliclibrary.org/wp-content/uploads/2025/04/2_Summer_Mocktails_event_covers-1.png
END:VEVENT
BEGIN:VEVENT
DTSTART;TZID=America/Chicago:20250620T100000
DTEND;TZID=America/Chicago:20250620T113000
DTSTAMP:20260419T091842
CREATED:20250424T154419Z
LAST-MODIFIED:20250424T154419Z
UID:10001367-1750413600-1750419000@mahometpubliclibrary.org
SUMMARY:Family Fun Friday: Unlazy River
DESCRIPTION:Each Friday morning in June and July\, we’ll have a fun event for all ages at the Library! Events will range from drop-in stations and outdoor activities to special presentations from professional performers. \nDates and Events:\nJune 6: Field Day at the Library! (outdoor activities and games; in the case of inclement weather\, this will change to a drop-in craft program) \nJune 13: Magic with Joel Shoemaker* \nJune 20: Unlazy River (outdoor obstacle course; in the case of inclement weather\, this will change to a drop-in craft program) \nJune 27: Do Art! With Do Art Productions* \nJuly 11: Minecraft BINGO \nJuly 18: Bigger Bang Bubble Show with Absolute Science* \nJuly 25: Blast From the Past: Nostalgic Toys Open Play \n  \n*These special presentations end at 11:00 am instead of 11:30 am. \nAll ages. No registration required.
URL:https://mahometpubliclibrary.org/event/family-fun-friday-unlazy-river/
CATEGORIES:All Ages
ATTACH;FMTTYPE=image/png:https://mahometpubliclibrary.org/wp-content/uploads/2025/04/3.png
END:VEVENT
BEGIN:VEVENT
DTSTART;TZID=America/Chicago:20250621T130000
DTEND;TZID=America/Chicago:20250621T150000
DTSTAMP:20260419T091842
CREATED:20250424T153525Z
LAST-MODIFIED:20250424T153525Z
UID:10001412-1750510800-1750518000@mahometpubliclibrary.org
SUMMARY:Craft Lab: Makerspace for Adults
DESCRIPTION:Now offering special hands-on sessions through out the year where you can explore a variety of creative projects! We will provide space to create\, experiment and connect with fellow makers. You can bring your own project to work on or try something new. A Cricut machine\, sewing machine\, ChompSaw cardboard cutter\, button maker and more will be available\, as well as some supplies such as yarn\, thread\, paper\, crochet hooks\, knitting needles and more. All skill levels are welcome. Drop in or stay the whole time. \nAdults. Registration preferred (but not required).
URL:https://mahometpubliclibrary.org/event/adult-craft-lab/
CATEGORIES:Adults
END:VEVENT
BEGIN:VEVENT
DTSTART;TZID=America/Chicago:20250622T133000
DTEND;TZID=America/Chicago:20250622T163000
DTSTAMP:20260419T091842
CREATED:20250424T153046Z
LAST-MODIFIED:20250424T153058Z
UID:10001424-1750599000-1750609800@mahometpubliclibrary.org
SUMMARY:Teen D&D Club
DESCRIPTION:Join us for exciting Dungeons and Dragons adventures that encourage creativity\, problem solving\, strategy\, and teamwork! Library staff member\, Ty\, will lead players through exciting one-shot D&D adventures! \nEntering grades 7-12. Registration required.
URL:https://mahometpubliclibrary.org/event/june-22-teen-dnd-club/
CATEGORIES:Teens
ATTACH;FMTTYPE=image/png:https://mahometpubliclibrary.org/wp-content/uploads/2025/04/Teen-Dungeons-and-Dragons-Club_Event-Image.png
END:VEVENT
BEGIN:VEVENT
DTSTART;TZID=America/Chicago:20250624T093000
DTEND;TZID=America/Chicago:20250624T095000
DTSTAMP:20260419T091842
CREATED:20250424T154647Z
LAST-MODIFIED:20250424T154707Z
UID:10001336-1750757400-1750758600@mahometpubliclibrary.org
SUMMARY:Baby Storytime
DESCRIPTION:Bring your baby to storytime on Tuesday mornings in June and July at the Library! There will be songs\, bounces\, and books! \n  \nAges 0-18 months. No registration required.
URL:https://mahometpubliclibrary.org/event/summer-2025-baby-storytime/2025-06-24/
CATEGORIES:Preschool
ATTACH;FMTTYPE=image/png:https://mahometpubliclibrary.org/wp-content/uploads/2024/05/Baby-Storytime_Event-Image_2024.png
END:VEVENT
BEGIN:VEVENT
DTSTART;TZID=America/Chicago:20250624T183000
DTEND;TZID=America/Chicago:20250624T193000
DTSTAMP:20260419T091842
CREATED:20250424T153459Z
LAST-MODIFIED:20250424T153459Z
UID:10001413-1750789800-1750793400@mahometpubliclibrary.org
SUMMARY:Armchair Travel: London
DESCRIPTION:Join us for a virtual journey to London\, England! Explore iconic landmarks like Big Ben\, Buckingham Palace and the Tower of London. Learn about London’s history\, culture and traditions – all from the comfort of the Library! Enjoy a taste of Britain with a themed snack as we enjoy the sights of the city. \nAdults. Registration required.
URL:https://mahometpubliclibrary.org/event/armchair-travel-london/
CATEGORIES:Adults
ATTACH;FMTTYPE=image/png:https://mahometpubliclibrary.org/wp-content/uploads/2025/04/Armchair-Travel_Event-Image_June-2025.png
END:VEVENT
BEGIN:VEVENT
DTSTART;TZID=America/Chicago:20250625T100000
DTEND;TZID=America/Chicago:20250625T103000
DTSTAMP:20260419T091842
CREATED:20250424T154632Z
LAST-MODIFIED:20250424T154632Z
UID:10001354-1750845600-1750847400@mahometpubliclibrary.org
SUMMARY:All Ages Storytime
DESCRIPTION:Join us for storytime on Wednesday mornings in June and July for children ages 0-5 and caregivers. There will be books\, bouncing\, songs\, and more!
URL:https://mahometpubliclibrary.org/event/all-ages-storytime/2025-06-25/
CATEGORIES:Preschool
ATTACH;FMTTYPE=image/png:https://mahometpubliclibrary.org/wp-content/uploads/2024/05/All-Ages-Storytime_Event-Image.png
END:VEVENT
BEGIN:VEVENT
DTSTART;TZID=America/Chicago:20250625T150000
DTEND;TZID=America/Chicago:20250625T160000
DTSTAMP:20260419T091842
CREATED:20250424T154322Z
LAST-MODIFIED:20250424T154322Z
UID:10001379-1750863600-1750867200@mahometpubliclibrary.org
SUMMARY:Level Up! STEM: LEGO Derby
DESCRIPTION:Take on a STEM challenge! Level-up your STEM skills with a new challenge each session. \nDates and Challenges:\nJune 11: Egg Drop Challenge \nJune 25: LEGO Derby \nJuly 9: DIY Articulated Grabber \nJuly 23: Paper Plate Rollercoasters \nFor students entering grades 2-5. Registration required. \n 
URL:https://mahometpubliclibrary.org/event/level-up-stem-lego-derby/
CATEGORIES:School age
ATTACH;FMTTYPE=image/png:https://mahometpubliclibrary.org/wp-content/uploads/2025/04/Level-Up-STEM_Event-Image_Summer-2025-1.png
END:VEVENT
BEGIN:VEVENT
DTSTART;TZID=America/Chicago:20250626T100000
DTEND;TZID=America/Chicago:20250626T103000
DTSTAMP:20260419T091842
CREATED:20250424T154224Z
LAST-MODIFIED:20250424T154252Z
UID:10001389-1750932000-1750933800@mahometpubliclibrary.org
SUMMARY:Little Groovers! Music and Movement
DESCRIPTION:Join us for a fun-filled music and movement program designed for toddlers and preschoolers age 2-5 and their caregivers. In this interactive program\, children will sing\, dance\, and move to a variety of exciting songs that engage their imaginations\, enhance motor skills\, and encourage social interaction. \nFor children ages 2-5 and their caregivers. No registration required. \n  \nDates (every other Thursday): \nJune 12 \nJune 26 \nJuly 10 \nJuly 24
URL:https://mahometpubliclibrary.org/event/little-groover/2025-06-26/
CATEGORIES:Preschool
ATTACH;FMTTYPE=image/png:https://mahometpubliclibrary.org/wp-content/uploads/2024/12/little-groovers-event-cover-1.png
END:VEVENT
BEGIN:VEVENT
DTSTART;TZID=America/Chicago:20250626T150000
DTEND;TZID=America/Chicago:20250626T163000
DTSTAMP:20260419T091842
CREATED:20250424T152653Z
LAST-MODIFIED:20250424T152653Z
UID:10001418-1750950000-1750955400@mahometpubliclibrary.org
SUMMARY:Teen Makerspace: Open Lab
DESCRIPTION:Enjoy 90 minutes of open access to a variety of makerspace materials\, including ChompSaw cardboard cutters\, button makers\, hot glue\, and so much more. A variety of creative materials will be available for use. \nDates:\nThursday\, June 26 \nThursday\, July 24 \nEntering grades 6-12. No registration required.
URL:https://mahometpubliclibrary.org/event/teen-makerspace/2025-06-26/
CATEGORIES:Teens
ATTACH;FMTTYPE=image/png:https://mahometpubliclibrary.org/wp-content/uploads/2025/04/Teen-Makerspace-Open-Lab_Event-Image.png
END:VEVENT
BEGIN:VEVENT
DTSTART;TZID=America/Chicago:20250626T180000
DTEND;TZID=America/Chicago:20250626T200000
DTSTAMP:20260419T091842
CREATED:20250623T180022Z
LAST-MODIFIED:20250721T161350Z
UID:10001433-1750960800-1750968000@mahometpubliclibrary.org
SUMMARY:Library Expansion Community Meetings
DESCRIPTION:Mahomet Library Expansion is Moving Forward!\nCommunity Meetings this Summer\nAfter many years of planning\, the Board of Trustees of the Mahomet Public Library has decided to move ahead actively with a much needed expansion. This expansion is expected to include a new\, larger children’s library with a dedicated teen room\, a much larger meeting and programming room\, more community space and a covered patio/outdoor program space. \nRead more about the expansion project here: Dreaming of the Future: What the Future Holds for Our Community’s Library Building \nWould you like to learn more\, or volunteer to help in some way with this exciting addition to our community? We are planning three Community Meetings to introduce the details of the project\, answer questions\, and get feedback from the community. The three meetings will be: \nThursday\, June 26th 6:00pm \nWednesday\, July 16th 6:30pm \nSunday\, August 3rd 2:00pm
URL:https://mahometpubliclibrary.org/event/library-expansion-community-meetings/2025-06-26/
CATEGORIES:All Ages
ATTACH;FMTTYPE=image/png:https://mahometpubliclibrary.org/wp-content/uploads/2025/06/Library-Expansion-Community-Meetings-1.png
END:VEVENT
BEGIN:VEVENT
DTSTART;TZID=America/Chicago:20250627T100000
DTEND;TZID=America/Chicago:20250627T110000
DTSTAMP:20260419T091842
CREATED:20250424T152628Z
LAST-MODIFIED:20250424T152628Z
UID:10001368-1751018400-1751022000@mahometpubliclibrary.org
SUMMARY:Family Fun Friday: Do Art!
DESCRIPTION:Each Friday morning in June and July\, we’ll have a fun event for all ages at the Library! Events will range from drop-in stations and outdoor activities to special presentations from professional performers. \nDates and Events:\nJune 6: Field Day at the Library! (outdoor activities and games; in the case of inclement weather\, this will change to a drop-in craft program) \nJune 13: Magic with Joel Shoemaker* \nJune 20: Unlazy River (outdoor obstacle course; in the case of inclement weather\, this will change to a drop-in craft program) \nJune 27: Do Art! With Do Art Productions* \nJuly 11: Minecraft BINGO \nJuly 18: Bigger Bang Bubble Show with Absolute Science* \nJuly 25: Blast From the Past: Nostalgic Toys Open Play \n  \n*These special presentations end at 11:00 am instead of 11:30 am. \nAll ages. No registration required.
URL:https://mahometpubliclibrary.org/event/family-fun-friday-do-art/
CATEGORIES:All Ages
ATTACH;FMTTYPE=image/png:https://mahometpubliclibrary.org/wp-content/uploads/2025/04/4.png
END:VEVENT
BEGIN:VEVENT
DTSTART;TZID=America/Chicago:20250627T160000
DTEND;TZID=America/Chicago:20250627T170000
DTSTAMP:20260419T091842
CREATED:20241220T010605Z
LAST-MODIFIED:20250424T152610Z
UID:10001276-1751040000-1751043600@mahometpubliclibrary.org
SUMMARY:Graphic Novel Book Club: Escape from Mr. Lemoncello's Library
DESCRIPTION:Calling all graphic novel enthusiasts! Join us as we read and discuss a set graphic novel at each book club session. \n  \nDates and Books:\nJune 27: Escape from Mr. Lemoncello’s Library by Chris Grabenstein \nJuly 25: Gamerville by Johnnie Christmas \n  \nGrades 3-7. Please register for each session individually.
URL:https://mahometpubliclibrary.org/event/june-2025-graphic-novel-club/
CATEGORIES:School age
ATTACH;FMTTYPE=image/png:https://mahometpubliclibrary.org/wp-content/uploads/2023/08/Graphic-Novel-Book-Club_Event-Image_Fall-2023.png
END:VEVENT
BEGIN:VEVENT
DTSTART;TZID=America/Chicago:20250628T130000
DTEND;TZID=America/Chicago:20250628T150000
DTSTAMP:20260419T091842
CREATED:20250424T152547Z
LAST-MODIFIED:20250424T152547Z
UID:10001372-1751115600-1751122800@mahometpubliclibrary.org
SUMMARY:Book Character Scavenger Hunt
DESCRIPTION:Search the Library for photos of your favorite children’s book characters! When you’ve found them all\, enjoy a popsicle and yard games on the Library lawn. \nAll ages. No registration required.
URL:https://mahometpubliclibrary.org/event/book-character-scavenger-hunt/
CATEGORIES:All Ages
ATTACH;FMTTYPE=image/png:https://mahometpubliclibrary.org/wp-content/uploads/2025/04/Book-Character-Scavenger-Hunt_Event-Image_June-2025.png
END:VEVENT
BEGIN:VEVENT
DTSTART;TZID=America/Chicago:20250701T093000
DTEND;TZID=America/Chicago:20250701T095000
DTSTAMP:20260419T091842
CREATED:20250424T154647Z
LAST-MODIFIED:20250424T154707Z
UID:10001337-1751362200-1751363400@mahometpubliclibrary.org
SUMMARY:Baby Storytime
DESCRIPTION:Bring your baby to storytime on Tuesday mornings in June and July at the Library! There will be songs\, bounces\, and books! \n  \nAges 0-18 months. No registration required.
URL:https://mahometpubliclibrary.org/event/summer-2025-baby-storytime/2025-07-01/
CATEGORIES:Preschool
ATTACH;FMTTYPE=image/png:https://mahometpubliclibrary.org/wp-content/uploads/2024/05/Baby-Storytime_Event-Image_2024.png
END:VEVENT
BEGIN:VEVENT
DTSTART;TZID=America/Chicago:20250701T150000
DTEND;TZID=America/Chicago:20250701T160000
DTSTAMP:20260419T091842
CREATED:20250424T152533Z
LAST-MODIFIED:20250424T152533Z
UID:10001362-1751382000-1751385600@mahometpubliclibrary.org
SUMMARY:Adventures in Art: Bubble Paint Flowers
DESCRIPTION:Join us for an hour of artistic fun! All supplies needed to make each project will be provided. \nDates and Projects:\nJune 3: Splatter Paint \nJune 17: Loom Weaving \nJuly 1: Bubble Paint Flowers \nJuly 15: Stitched Yarn Art \nJuly 29: Perler Bead Pixel Art \nEntering grades 2-5. Registration required.
URL:https://mahometpubliclibrary.org/event/adventures-in-art-flowers/
CATEGORIES:School age
ATTACH;FMTTYPE=image/png:https://mahometpubliclibrary.org/wp-content/uploads/2024/05/Adventures-in-Art_Event-Image_Summer-2024.png
END:VEVENT
BEGIN:VEVENT
DTSTART;TZID=America/Chicago:20250701T183000
DTEND;TZID=America/Chicago:20250701T200000
DTSTAMP:20260419T091842
CREATED:20250424T152505Z
LAST-MODIFIED:20250424T152505Z
UID:10001414-1751394600-1751400000@mahometpubliclibrary.org
SUMMARY:Library Hacks: Getting the Most from Your Library
DESCRIPTION:Did you know your library offers more than just books? Join director John Howard and library staff for Library Hacks\, a hands-on session where we’ll show you insider tips and tricks to make the most of your library’s resources.  \nLearn how to:  \n\naccess e-books\, audiobooks\, and digital magazines\nstream movies and TV shows from our Roku Sticks\nuse the library’s catalog\nuse the library’s online resources\n\nBring your device and we’ll help you get everything set up! Great for library regulars or those just getting started. \nAdults. Registration required.
URL:https://mahometpubliclibrary.org/event/library-hacks/
CATEGORIES:Adults
ATTACH;FMTTYPE=image/png:https://mahometpubliclibrary.org/wp-content/uploads/2025/04/Library-Hacks_Event-Image_July-2025.png
END:VEVENT
BEGIN:VEVENT
DTSTART;TZID=America/Chicago:20250702T100000
DTEND;TZID=America/Chicago:20250702T103000
DTSTAMP:20260419T091842
CREATED:20250424T154632Z
LAST-MODIFIED:20250424T154632Z
UID:10001355-1751450400-1751452200@mahometpubliclibrary.org
SUMMARY:All Ages Storytime
DESCRIPTION:Join us for storytime on Wednesday mornings in June and July for children ages 0-5 and caregivers. There will be books\, bouncing\, songs\, and more!
URL:https://mahometpubliclibrary.org/event/all-ages-storytime/2025-07-02/
CATEGORIES:Preschool
ATTACH;FMTTYPE=image/png:https://mahometpubliclibrary.org/wp-content/uploads/2024/05/All-Ages-Storytime_Event-Image.png
END:VEVENT
BEGIN:VEVENT
DTSTART;TZID=America/Chicago:20250703T100000
DTEND;TZID=America/Chicago:20250703T113000
DTSTAMP:20260419T091842
CREATED:20250424T154357Z
LAST-MODIFIED:20250424T154407Z
UID:10001377-1751536800-1751542200@mahometpubliclibrary.org
SUMMARY:Drop-In Sensory Time
DESCRIPTION:Join us for drop-in stations that encourage sensory exploration! \nDates (First Thursdays): \nJune 5 \nJuly 3 \nStations designed for children ages 3-7 and their caregivers. No registration required.
URL:https://mahometpubliclibrary.org/event/sensory-time/2025-07-03/
CATEGORIES:Preschool,School age
ATTACH;FMTTYPE=image/png:https://mahometpubliclibrary.org/wp-content/uploads/2025/04/Sensory-Stations_Event-Image_Summer-2025.png
END:VEVENT
BEGIN:VEVENT
DTSTART;TZID=America/Chicago:20250708T093000
DTEND;TZID=America/Chicago:20250708T095000
DTSTAMP:20260419T091842
CREATED:20250424T154647Z
LAST-MODIFIED:20250424T154707Z
UID:10001338-1751967000-1751968200@mahometpubliclibrary.org
SUMMARY:Baby Storytime
DESCRIPTION:Bring your baby to storytime on Tuesday mornings in June and July at the Library! There will be songs\, bounces\, and books! \n  \nAges 0-18 months. No registration required.
URL:https://mahometpubliclibrary.org/event/summer-2025-baby-storytime/2025-07-08/
CATEGORIES:Preschool
ATTACH;FMTTYPE=image/png:https://mahometpubliclibrary.org/wp-content/uploads/2024/05/Baby-Storytime_Event-Image_2024.png
END:VEVENT
BEGIN:VEVENT
DTSTART;TZID=America/Chicago:20250708T183000
DTEND;TZID=America/Chicago:20250708T200000
DTSTAMP:20260419T091842
CREATED:20250424T154026Z
LAST-MODIFIED:20250424T154046Z
UID:10001403-1751999400-1752004800@mahometpubliclibrary.org
SUMMARY:Tuesday Night Book Club
DESCRIPTION:Connect with fellow book lovers! Join us at the Library on the second Tuesday of each month as we discuss that month’s great read. \nJune 10: The Heaven and Earth Grocery Store by James McBride \nJuly 8: Berry Pickers by Amanda Peters \nAugust 12: Happiness Falls by Angie Kim \nNo registration required. \n  \nWondering what books we’ve previously read for Tuesday Night Book Club? Check out our Tuesday Night Book Club Picks list!
URL:https://mahometpubliclibrary.org/event/tues-book-club/2025-07-08/
CATEGORIES:Adults
ATTACH;FMTTYPE=image/png:https://mahometpubliclibrary.org/wp-content/uploads/2024/08/Tuesday-Night-Book-Club_Event-Image.png
END:VEVENT
BEGIN:VEVENT
DTSTART;TZID=America/Chicago:20250709T100000
DTEND;TZID=America/Chicago:20250709T103000
DTSTAMP:20260419T091842
CREATED:20250424T154632Z
LAST-MODIFIED:20250424T154632Z
UID:10001356-1752055200-1752057000@mahometpubliclibrary.org
SUMMARY:All Ages Storytime
DESCRIPTION:Join us for storytime on Wednesday mornings in June and July for children ages 0-5 and caregivers. There will be books\, bouncing\, songs\, and more!
URL:https://mahometpubliclibrary.org/event/all-ages-storytime/2025-07-09/
CATEGORIES:Preschool
ATTACH;FMTTYPE=image/png:https://mahometpubliclibrary.org/wp-content/uploads/2024/05/All-Ages-Storytime_Event-Image.png
END:VEVENT
BEGIN:VEVENT
DTSTART;TZID=America/Chicago:20250709T150000
DTEND;TZID=America/Chicago:20250709T160000
DTSTAMP:20260419T091842
CREATED:20250424T152435Z
LAST-MODIFIED:20250424T152435Z
UID:10001380-1752073200-1752076800@mahometpubliclibrary.org
SUMMARY:Level Up! STEM: DIY Articulated Grabber
DESCRIPTION:Take on a STEM challenge! Level-up your STEM skills with a new challenge each session. \nDates and Challenges:\nJune 11: Egg Drop Challenge \nJune 25: LEGO Derby \nJuly 9: DIY Articulated Grabber \nJuly 23: Paper Plate Rollercoasters \nFor students entering grades 2-5. Registration required. \n 
URL:https://mahometpubliclibrary.org/event/level-up-stem-articulated-grabber/
CATEGORIES:School age
ATTACH;FMTTYPE=image/png:https://mahometpubliclibrary.org/wp-content/uploads/2025/04/Level-Up-STEM_Event-Image_Summer-2025-1.png
END:VEVENT
END:VCALENDAR