BEGIN:VCALENDAR
VERSION:2.0
PRODID:-//Mahomet Public Library - ECPv6.15.11//NONSGML v1.0//EN
CALSCALE:GREGORIAN
METHOD:PUBLISH
X-ORIGINAL-URL:https://mahometpubliclibrary.org
X-WR-CALDESC:Events for Mahomet Public Library
REFRESH-INTERVAL;VALUE=DURATION:PT1H
X-Robots-Tag:noindex
X-PUBLISHED-TTL:PT1H
BEGIN:VTIMEZONE
TZID:America/Chicago
BEGIN:DAYLIGHT
TZOFFSETFROM:-0600
TZOFFSETTO:-0500
TZNAME:CDT
DTSTART:20230312T080000
END:DAYLIGHT
BEGIN:STANDARD
TZOFFSETFROM:-0500
TZOFFSETTO:-0600
TZNAME:CST
DTSTART:20231105T070000
END:STANDARD
BEGIN:DAYLIGHT
TZOFFSETFROM:-0600
TZOFFSETTO:-0500
TZNAME:CDT
DTSTART:20240310T080000
END:DAYLIGHT
BEGIN:STANDARD
TZOFFSETFROM:-0500
TZOFFSETTO:-0600
TZNAME:CST
DTSTART:20241103T070000
END:STANDARD
BEGIN:DAYLIGHT
TZOFFSETFROM:-0600
TZOFFSETTO:-0500
TZNAME:CDT
DTSTART:20250309T080000
END:DAYLIGHT
BEGIN:STANDARD
TZOFFSETFROM:-0500
TZOFFSETTO:-0600
TZNAME:CST
DTSTART:20251102T070000
END:STANDARD
END:VTIMEZONE
BEGIN:VEVENT
DTSTART;TZID=America/Chicago:20240229T180000
DTEND;TZID=America/Chicago:20240229T193000
DTSTAMP:20260419T091546
CREATED:20231205T200358Z
LAST-MODIFIED:20231205T200525Z
UID:10000747-1709229600-1709235000@mahometpubliclibrary.org
SUMMARY:Teen Art Night: Book Nook
DESCRIPTION:Calling all creative teens! Each session is a unique opportunity to explore a craft or art project tailored just for you. This program is open to students in grades 6-12. Unleash your artistic talents and join us for a fantastic journey of creativity and self-expression! \n  \nDates and Projects: \nFebruary 29: Book Nook \nApril 25: Beaded Friendship Bracelet or Keychain \n  \nGrades 6-12. Registration is required.
URL:https://mahometpubliclibrary.org/event/februaryteenartnight/
CATEGORIES:Teens
ATTACH;FMTTYPE=image/png:https://mahometpubliclibrary.org/wp-content/uploads/2023/12/Teen-Art-Night_Facebook-Cover_Winter-Spring-2024.png
END:VEVENT
END:VCALENDAR