BEGIN:VCALENDAR
VERSION:2.0
PRODID:-//Mahomet Public Library - ECPv6.15.11//NONSGML v1.0//EN
CALSCALE:GREGORIAN
METHOD:PUBLISH
X-ORIGINAL-URL:https://mahometpubliclibrary.org
X-WR-CALDESC:Events for Mahomet Public Library
REFRESH-INTERVAL;VALUE=DURATION:PT1H
X-Robots-Tag:noindex
X-PUBLISHED-TTL:PT1H
BEGIN:VTIMEZONE
TZID:America/Chicago
BEGIN:DAYLIGHT
TZOFFSETFROM:-0600
TZOFFSETTO:-0500
TZNAME:CDT
DTSTART:20220313T080000
END:DAYLIGHT
BEGIN:STANDARD
TZOFFSETFROM:-0500
TZOFFSETTO:-0600
TZNAME:CST
DTSTART:20221106T070000
END:STANDARD
BEGIN:DAYLIGHT
TZOFFSETFROM:-0600
TZOFFSETTO:-0500
TZNAME:CDT
DTSTART:20230312T080000
END:DAYLIGHT
BEGIN:STANDARD
TZOFFSETFROM:-0500
TZOFFSETTO:-0600
TZNAME:CST
DTSTART:20231105T070000
END:STANDARD
BEGIN:DAYLIGHT
TZOFFSETFROM:-0600
TZOFFSETTO:-0500
TZNAME:CDT
DTSTART:20240310T080000
END:DAYLIGHT
BEGIN:STANDARD
TZOFFSETFROM:-0500
TZOFFSETTO:-0600
TZNAME:CST
DTSTART:20241103T070000
END:STANDARD
END:VTIMEZONE
BEGIN:VEVENT
DTSTART;TZID=America/Chicago:20231214T183000
DTEND;TZID=America/Chicago:20231214T193000
DTSTAMP:20260419T115521
CREATED:20230805T233808Z
LAST-MODIFIED:20231101T145706Z
UID:10000339-1702578600-1702582200@mahometpubliclibrary.org
SUMMARY:Cookie Decorating Workshop
DESCRIPTION:Good things crumb to those who wait! Come decorate sugar cookies at the Library\, just before the holidays. We’ll use piping and flooding techniques with royal icing. You don’t want to miss this dough-lightful workshop! \nCookies and supplies will be provided by the Library. \n  \nThis program is for teens and adults. Registration is required. Registration opens November 1.
URL:https://mahometpubliclibrary.org/event/cookieworkshop/
CATEGORIES:Adults,Teens
ATTACH;FMTTYPE=image/png:https://mahometpubliclibrary.org/wp-content/uploads/2023/08/Cookie-Decorating-Workshop_Event-Cover_December-2023.png
END:VEVENT
BEGIN:VEVENT
DTSTART;TZID=America/Chicago:20231218T090000
DTEND;TZID=America/Chicago:20231218T220000
DTSTAMP:20260419T115521
CREATED:20231130T180217Z
LAST-MODIFIED:20231130T235530Z
UID:10000546-1702890000-1702936800@mahometpubliclibrary.org
SUMMARY:Teen Finals Studying and Extended Hours
DESCRIPTION:Study for finals at the Library! \nDuring Finals week at Mahomet-Seymour High School\, the Library’s meeting room is dedicated as group study space for teens after school. Of course\, you can also study anywhere else in the Library. \nTo give you even more study time\, the Library will be open 2 hours later (until 10pm) on several nights leading up to finals! \n  \nExtended Hours and Edgar Room Availability: \nMonday\, December 18: 9:00 am – 10:00 pm (Edgar Room open 3:30-10:00 pm) \nTuesday\, December 19: 9:00 am – 10:00 pm \nWednesday\, December 20: 9:00 am – 10:00 pm \nThursday\, December 21: 9:00 am – 8:00 pm
URL:https://mahometpubliclibrary.org/event/finalsstudying/2023-12-18/
CATEGORIES:Teens
ATTACH;FMTTYPE=image/png:https://mahometpubliclibrary.org/wp-content/uploads/2023/11/Extended-Hours-and-Studying_Event-Image_December-2023.png
END:VEVENT
BEGIN:VEVENT
DTSTART;TZID=America/Chicago:20231219T090000
DTEND;TZID=America/Chicago:20231219T220000
DTSTAMP:20260419T115521
CREATED:20231130T180217Z
LAST-MODIFIED:20231130T235530Z
UID:10000547-1702976400-1703023200@mahometpubliclibrary.org
SUMMARY:Teen Finals Studying and Extended Hours
DESCRIPTION:Study for finals at the Library! \nDuring Finals week at Mahomet-Seymour High School\, the Library’s meeting room is dedicated as group study space for teens after school. Of course\, you can also study anywhere else in the Library. \nTo give you even more study time\, the Library will be open 2 hours later (until 10pm) on several nights leading up to finals! \n  \nExtended Hours and Edgar Room Availability: \nMonday\, December 18: 9:00 am – 10:00 pm (Edgar Room open 3:30-10:00 pm) \nTuesday\, December 19: 9:00 am – 10:00 pm \nWednesday\, December 20: 9:00 am – 10:00 pm \nThursday\, December 21: 9:00 am – 8:00 pm
URL:https://mahometpubliclibrary.org/event/finalsstudying/2023-12-19/
CATEGORIES:Teens
ATTACH;FMTTYPE=image/png:https://mahometpubliclibrary.org/wp-content/uploads/2023/11/Extended-Hours-and-Studying_Event-Image_December-2023.png
END:VEVENT
BEGIN:VEVENT
DTSTART;TZID=America/Chicago:20231220T090000
DTEND;TZID=America/Chicago:20231220T220000
DTSTAMP:20260419T115521
CREATED:20231130T180217Z
LAST-MODIFIED:20231130T235530Z
UID:10000548-1703062800-1703109600@mahometpubliclibrary.org
SUMMARY:Teen Finals Studying and Extended Hours
DESCRIPTION:Study for finals at the Library! \nDuring Finals week at Mahomet-Seymour High School\, the Library’s meeting room is dedicated as group study space for teens after school. Of course\, you can also study anywhere else in the Library. \nTo give you even more study time\, the Library will be open 2 hours later (until 10pm) on several nights leading up to finals! \n  \nExtended Hours and Edgar Room Availability: \nMonday\, December 18: 9:00 am – 10:00 pm (Edgar Room open 3:30-10:00 pm) \nTuesday\, December 19: 9:00 am – 10:00 pm \nWednesday\, December 20: 9:00 am – 10:00 pm \nThursday\, December 21: 9:00 am – 8:00 pm
URL:https://mahometpubliclibrary.org/event/finalsstudying/2023-12-20/
CATEGORIES:Teens
ATTACH;FMTTYPE=image/png:https://mahometpubliclibrary.org/wp-content/uploads/2023/11/Extended-Hours-and-Studying_Event-Image_December-2023.png
END:VEVENT
BEGIN:VEVENT
DTSTART;TZID=America/Chicago:20231221T090000
DTEND;TZID=America/Chicago:20231221T200000
DTSTAMP:20260419T115521
CREATED:20231130T180217Z
LAST-MODIFIED:20231130T235530Z
UID:10000549-1703149200-1703188800@mahometpubliclibrary.org
SUMMARY:Teen Finals Studying and Extended Hours
DESCRIPTION:Study for finals at the Library! \nDuring Finals week at Mahomet-Seymour High School\, the Library’s meeting room is dedicated as group study space for teens after school. Of course\, you can also study anywhere else in the Library. \nTo give you even more study time\, the Library will be open 2 hours later (until 10pm) on several nights leading up to finals! \n  \nExtended Hours and Edgar Room Availability: \nMonday\, December 18: 9:00 am – 10:00 pm (Edgar Room open 3:30-10:00 pm) \nTuesday\, December 19: 9:00 am – 10:00 pm \nWednesday\, December 20: 9:00 am – 10:00 pm \nThursday\, December 21: 9:00 am – 8:00 pm
URL:https://mahometpubliclibrary.org/event/finalsstudying/2023-12-21/
CATEGORIES:Teens
ATTACH;FMTTYPE=image/png:https://mahometpubliclibrary.org/wp-content/uploads/2023/11/Extended-Hours-and-Studying_Event-Image_December-2023.png
END:VEVENT
END:VCALENDAR