BEGIN:VCALENDAR
VERSION:2.0
PRODID:-//Mahomet Public Library - ECPv6.15.11//NONSGML v1.0//EN
CALSCALE:GREGORIAN
METHOD:PUBLISH
X-ORIGINAL-URL:https://mahometpubliclibrary.org
X-WR-CALDESC:Events for Mahomet Public Library
REFRESH-INTERVAL;VALUE=DURATION:PT1H
X-Robots-Tag:noindex
X-PUBLISHED-TTL:PT1H
BEGIN:VTIMEZONE
TZID:America/Chicago
BEGIN:DAYLIGHT
TZOFFSETFROM:-0600
TZOFFSETTO:-0500
TZNAME:CDT
DTSTART:20230312T080000
END:DAYLIGHT
BEGIN:STANDARD
TZOFFSETFROM:-0500
TZOFFSETTO:-0600
TZNAME:CST
DTSTART:20231105T070000
END:STANDARD
BEGIN:DAYLIGHT
TZOFFSETFROM:-0600
TZOFFSETTO:-0500
TZNAME:CDT
DTSTART:20240310T080000
END:DAYLIGHT
BEGIN:STANDARD
TZOFFSETFROM:-0500
TZOFFSETTO:-0600
TZNAME:CST
DTSTART:20241103T070000
END:STANDARD
BEGIN:DAYLIGHT
TZOFFSETFROM:-0600
TZOFFSETTO:-0500
TZNAME:CDT
DTSTART:20250309T080000
END:DAYLIGHT
BEGIN:STANDARD
TZOFFSETFROM:-0500
TZOFFSETTO:-0600
TZNAME:CST
DTSTART:20251102T070000
END:STANDARD
END:VTIMEZONE
BEGIN:VEVENT
DTSTART;TZID=America/Chicago:20240320T100000
DTEND;TZID=America/Chicago:20240320T103000
DTSTAMP:20260420T020156
CREATED:20231205T162015Z
LAST-MODIFIED:20231205T162015Z
UID:10000664-1710928800-1710930600@mahometpubliclibrary.org
SUMMARY:Preschool Storytime
DESCRIPTION:Join us on Wednesday mornings for storytime for preschoolers (ages 3-5) and caregivers. There will be songs\, movement\, and books! \nPlease note: There will NOT be Preschool Storytime on Wednesday\, April 3.
URL:https://mahometpubliclibrary.org/event/preschool-storytime/2024-03-20/
CATEGORIES:Preschool
ATTACH;FMTTYPE=image/png:https://mahometpubliclibrary.org/wp-content/uploads/2023/07/Preschool-Storytime_Event-Image_Fall-2023-1.png
END:VEVENT
BEGIN:VEVENT
DTSTART;TZID=America/Chicago:20240322T100000
DTEND;TZID=America/Chicago:20240322T110000
DTSTAMP:20260420T020156
CREATED:20231205T181435Z
LAST-MODIFIED:20240225T192234Z
UID:10000722-1711101600-1711105200@mahometpubliclibrary.org
SUMMARY:Preschool Playdate
DESCRIPTION:Children (ages 3-5) and their caregivers are welcome to join us on Friday mornings for open-ended playtime! Each session will feature a different assortment of toys and activities. \nPlease note: There will NOT be Preschool Playdate on April 5 or 19.
URL:https://mahometpubliclibrary.org/event/preschool-playdate/2024-03-22/
CATEGORIES:Preschool
ATTACH;FMTTYPE=image/png:https://mahometpubliclibrary.org/wp-content/uploads/2023/07/Preschool-Playdate_Event-Image_Fall-2023.png
END:VEVENT
BEGIN:VEVENT
DTSTART;TZID=America/Chicago:20240323T110000
DTEND;TZID=America/Chicago:20240323T120000
DTSTAMP:20260420T020156
CREATED:20231205T192553Z
LAST-MODIFIED:20231205T192553Z
UID:10000732-1711191600-1711195200@mahometpubliclibrary.org
SUMMARY:Firm Foundations Social: Dance Party at the Library with Kristina
DESCRIPTION:This dynamic session blends rhythmic exercises and basic dance steps to nurture both physical and creative growth. Children ages 3-5 (and their caregivers) explore self-expression in a playful atmosphere using lively tunes to enhance coordination. Join us for an hour of joy\, giggles\, and developmental fun\, laying the foundation for a lifelong appreciation of movement and melody. \nKristina Robinson with Decently Bold FIT is a Mahomet native with over twenty years of Dance Experience. Kristina seamlessly intertwines the magic of storytelling into her classes in order to keep participants of all ages engaged. \nAges 3-5. No registration required\, but you must be enrolled in our Firm Foundations program.
URL:https://mahometpubliclibrary.org/event/preschoolfirmfoundationssocial/
CATEGORIES:Preschool
ATTACH;FMTTYPE=image/png:https://mahometpubliclibrary.org/wp-content/uploads/2023/12/3.png
END:VEVENT
BEGIN:VEVENT
DTSTART;TZID=America/Chicago:20240326T093000
DTEND;TZID=America/Chicago:20240326T095000
DTSTAMP:20260420T020156
CREATED:20231205T161708Z
LAST-MODIFIED:20231205T161708Z
UID:10000637-1711445400-1711446600@mahometpubliclibrary.org
SUMMARY:Baby Storytime
DESCRIPTION:Bring your baby to storytime on Tuesday mornings at the Library! There will be songs\, bounces\, and books! \nPlease note: There will NOT be Baby Storytime on Tuesday\, March 19.
URL:https://mahometpubliclibrary.org/event/baby-storytime/2024-03-26/
CATEGORIES:Preschool
ATTACH;FMTTYPE=image/png:https://mahometpubliclibrary.org/wp-content/uploads/2023/07/Baby-Storytime_Event-Image_Fall-2023.png
END:VEVENT
BEGIN:VEVENT
DTSTART;TZID=America/Chicago:20240326T100000
DTEND;TZID=America/Chicago:20240326T103000
DTSTAMP:20260420T020156
CREATED:20231205T161239Z
LAST-MODIFIED:20231205T161504Z
UID:10000609-1711447200-1711449000@mahometpubliclibrary.org
SUMMARY:Toddler Storytime
DESCRIPTION:Join us on Tuesday mornings for storytime for toddlers (ages 18 months – 3 years) and caregivers. There will be songs\, rhymes\, and stories! \nPlease note: There will NOT be storytime on Tuesday\, March 19.
URL:https://mahometpubliclibrary.org/event/toddler-storytime/2024-03-26/
CATEGORIES:Preschool
ATTACH;FMTTYPE=image/png:https://mahometpubliclibrary.org/wp-content/uploads/2023/07/Toddler-Storytime_Event-Image_Fall-2023-1.png
END:VEVENT
BEGIN:VEVENT
DTSTART;TZID=America/Chicago:20240327T100000
DTEND;TZID=America/Chicago:20240327T103000
DTSTAMP:20260420T020156
CREATED:20231205T162015Z
LAST-MODIFIED:20231205T162015Z
UID:10000665-1711533600-1711535400@mahometpubliclibrary.org
SUMMARY:Preschool Storytime
DESCRIPTION:Join us on Wednesday mornings for storytime for preschoolers (ages 3-5) and caregivers. There will be songs\, movement\, and books! \nPlease note: There will NOT be Preschool Storytime on Wednesday\, April 3.
URL:https://mahometpubliclibrary.org/event/preschool-storytime/2024-03-27/
CATEGORIES:Preschool
ATTACH;FMTTYPE=image/png:https://mahometpubliclibrary.org/wp-content/uploads/2023/07/Preschool-Storytime_Event-Image_Fall-2023-1.png
END:VEVENT
BEGIN:VEVENT
DTSTART;TZID=America/Chicago:20240329T100000
DTEND;TZID=America/Chicago:20240329T110000
DTSTAMP:20260420T020156
CREATED:20231205T181435Z
LAST-MODIFIED:20240225T192234Z
UID:10000723-1711706400-1711710000@mahometpubliclibrary.org
SUMMARY:Preschool Playdate
DESCRIPTION:Children (ages 3-5) and their caregivers are welcome to join us on Friday mornings for open-ended playtime! Each session will feature a different assortment of toys and activities. \nPlease note: There will NOT be Preschool Playdate on April 5 or 19.
URL:https://mahometpubliclibrary.org/event/preschool-playdate/2024-03-29/
CATEGORIES:Preschool
ATTACH;FMTTYPE=image/png:https://mahometpubliclibrary.org/wp-content/uploads/2023/07/Preschool-Playdate_Event-Image_Fall-2023.png
END:VEVENT
BEGIN:VEVENT
DTSTART;TZID=America/Chicago:20240402T093000
DTEND;TZID=America/Chicago:20240402T095000
DTSTAMP:20260420T020156
CREATED:20231205T161708Z
LAST-MODIFIED:20231205T161708Z
UID:10000638-1712050200-1712051400@mahometpubliclibrary.org
SUMMARY:Baby Storytime
DESCRIPTION:Bring your baby to storytime on Tuesday mornings at the Library! There will be songs\, bounces\, and books! \nPlease note: There will NOT be Baby Storytime on Tuesday\, March 19.
URL:https://mahometpubliclibrary.org/event/baby-storytime/2024-04-02/
CATEGORIES:Preschool
ATTACH;FMTTYPE=image/png:https://mahometpubliclibrary.org/wp-content/uploads/2023/07/Baby-Storytime_Event-Image_Fall-2023.png
END:VEVENT
BEGIN:VEVENT
DTSTART;TZID=America/Chicago:20240402T100000
DTEND;TZID=America/Chicago:20240402T103000
DTSTAMP:20260420T020156
CREATED:20231205T161239Z
LAST-MODIFIED:20231205T161504Z
UID:10000610-1712052000-1712053800@mahometpubliclibrary.org
SUMMARY:Toddler Storytime
DESCRIPTION:Join us on Tuesday mornings for storytime for toddlers (ages 18 months – 3 years) and caregivers. There will be songs\, rhymes\, and stories! \nPlease note: There will NOT be storytime on Tuesday\, March 19.
URL:https://mahometpubliclibrary.org/event/toddler-storytime/2024-04-02/
CATEGORIES:Preschool
ATTACH;FMTTYPE=image/png:https://mahometpubliclibrary.org/wp-content/uploads/2023/07/Toddler-Storytime_Event-Image_Fall-2023-1.png
END:VEVENT
BEGIN:VEVENT
DTSTART;TZID=America/Chicago:20240409T093000
DTEND;TZID=America/Chicago:20240409T095000
DTSTAMP:20260420T020156
CREATED:20231205T161708Z
LAST-MODIFIED:20231205T161708Z
UID:10000639-1712655000-1712656200@mahometpubliclibrary.org
SUMMARY:Baby Storytime
DESCRIPTION:Bring your baby to storytime on Tuesday mornings at the Library! There will be songs\, bounces\, and books! \nPlease note: There will NOT be Baby Storytime on Tuesday\, March 19.
URL:https://mahometpubliclibrary.org/event/baby-storytime/2024-04-09/
CATEGORIES:Preschool
ATTACH;FMTTYPE=image/png:https://mahometpubliclibrary.org/wp-content/uploads/2023/07/Baby-Storytime_Event-Image_Fall-2023.png
END:VEVENT
BEGIN:VEVENT
DTSTART;TZID=America/Chicago:20240409T100000
DTEND;TZID=America/Chicago:20240409T103000
DTSTAMP:20260420T020156
CREATED:20231205T161239Z
LAST-MODIFIED:20231205T161504Z
UID:10000611-1712656800-1712658600@mahometpubliclibrary.org
SUMMARY:Toddler Storytime
DESCRIPTION:Join us on Tuesday mornings for storytime for toddlers (ages 18 months – 3 years) and caregivers. There will be songs\, rhymes\, and stories! \nPlease note: There will NOT be storytime on Tuesday\, March 19.
URL:https://mahometpubliclibrary.org/event/toddler-storytime/2024-04-09/
CATEGORIES:Preschool
ATTACH;FMTTYPE=image/png:https://mahometpubliclibrary.org/wp-content/uploads/2023/07/Toddler-Storytime_Event-Image_Fall-2023-1.png
END:VEVENT
BEGIN:VEVENT
DTSTART;TZID=America/Chicago:20240410T100000
DTEND;TZID=America/Chicago:20240410T103000
DTSTAMP:20260420T020156
CREATED:20231205T162015Z
LAST-MODIFIED:20231205T162015Z
UID:10000666-1712743200-1712745000@mahometpubliclibrary.org
SUMMARY:Preschool Storytime
DESCRIPTION:Join us on Wednesday mornings for storytime for preschoolers (ages 3-5) and caregivers. There will be songs\, movement\, and books! \nPlease note: There will NOT be Preschool Storytime on Wednesday\, April 3.
URL:https://mahometpubliclibrary.org/event/preschool-storytime/2024-04-10/
CATEGORIES:Preschool
ATTACH;FMTTYPE=image/png:https://mahometpubliclibrary.org/wp-content/uploads/2023/07/Preschool-Storytime_Event-Image_Fall-2023-1.png
END:VEVENT
BEGIN:VEVENT
DTSTART;TZID=America/Chicago:20240412T100000
DTEND;TZID=America/Chicago:20240412T110000
DTSTAMP:20260420T020156
CREATED:20231205T181435Z
LAST-MODIFIED:20240225T192234Z
UID:10000724-1712916000-1712919600@mahometpubliclibrary.org
SUMMARY:Preschool Playdate
DESCRIPTION:Children (ages 3-5) and their caregivers are welcome to join us on Friday mornings for open-ended playtime! Each session will feature a different assortment of toys and activities. \nPlease note: There will NOT be Preschool Playdate on April 5 or 19.
URL:https://mahometpubliclibrary.org/event/preschool-playdate/2024-04-12/
CATEGORIES:Preschool
ATTACH;FMTTYPE=image/png:https://mahometpubliclibrary.org/wp-content/uploads/2023/07/Preschool-Playdate_Event-Image_Fall-2023.png
END:VEVENT
BEGIN:VEVENT
DTSTART;TZID=America/Chicago:20240416T093000
DTEND;TZID=America/Chicago:20240416T095000
DTSTAMP:20260420T020156
CREATED:20231205T161708Z
LAST-MODIFIED:20231205T161708Z
UID:10000640-1713259800-1713261000@mahometpubliclibrary.org
SUMMARY:Baby Storytime
DESCRIPTION:Bring your baby to storytime on Tuesday mornings at the Library! There will be songs\, bounces\, and books! \nPlease note: There will NOT be Baby Storytime on Tuesday\, March 19.
URL:https://mahometpubliclibrary.org/event/baby-storytime/2024-04-16/
CATEGORIES:Preschool
ATTACH;FMTTYPE=image/png:https://mahometpubliclibrary.org/wp-content/uploads/2023/07/Baby-Storytime_Event-Image_Fall-2023.png
END:VEVENT
BEGIN:VEVENT
DTSTART;TZID=America/Chicago:20240416T100000
DTEND;TZID=America/Chicago:20240416T103000
DTSTAMP:20260420T020156
CREATED:20231205T161239Z
LAST-MODIFIED:20231205T161504Z
UID:10000612-1713261600-1713263400@mahometpubliclibrary.org
SUMMARY:Toddler Storytime
DESCRIPTION:Join us on Tuesday mornings for storytime for toddlers (ages 18 months – 3 years) and caregivers. There will be songs\, rhymes\, and stories! \nPlease note: There will NOT be storytime on Tuesday\, March 19.
URL:https://mahometpubliclibrary.org/event/toddler-storytime/2024-04-16/
CATEGORIES:Preschool
ATTACH;FMTTYPE=image/png:https://mahometpubliclibrary.org/wp-content/uploads/2023/07/Toddler-Storytime_Event-Image_Fall-2023-1.png
END:VEVENT
BEGIN:VEVENT
DTSTART;TZID=America/Chicago:20240417T100000
DTEND;TZID=America/Chicago:20240417T103000
DTSTAMP:20260420T020156
CREATED:20231205T162015Z
LAST-MODIFIED:20231205T162015Z
UID:10000667-1713348000-1713349800@mahometpubliclibrary.org
SUMMARY:Preschool Storytime
DESCRIPTION:Join us on Wednesday mornings for storytime for preschoolers (ages 3-5) and caregivers. There will be songs\, movement\, and books! \nPlease note: There will NOT be Preschool Storytime on Wednesday\, April 3.
URL:https://mahometpubliclibrary.org/event/preschool-storytime/2024-04-17/
CATEGORIES:Preschool
ATTACH;FMTTYPE=image/png:https://mahometpubliclibrary.org/wp-content/uploads/2023/07/Preschool-Storytime_Event-Image_Fall-2023-1.png
END:VEVENT
BEGIN:VEVENT
DTSTART;TZID=America/Chicago:20240423T093000
DTEND;TZID=America/Chicago:20240423T095000
DTSTAMP:20260420T020156
CREATED:20231205T161708Z
LAST-MODIFIED:20231205T161708Z
UID:10000641-1713864600-1713865800@mahometpubliclibrary.org
SUMMARY:Baby Storytime
DESCRIPTION:Bring your baby to storytime on Tuesday mornings at the Library! There will be songs\, bounces\, and books! \nPlease note: There will NOT be Baby Storytime on Tuesday\, March 19.
URL:https://mahometpubliclibrary.org/event/baby-storytime/2024-04-23/
CATEGORIES:Preschool
ATTACH;FMTTYPE=image/png:https://mahometpubliclibrary.org/wp-content/uploads/2023/07/Baby-Storytime_Event-Image_Fall-2023.png
END:VEVENT
BEGIN:VEVENT
DTSTART;TZID=America/Chicago:20240423T100000
DTEND;TZID=America/Chicago:20240423T103000
DTSTAMP:20260420T020156
CREATED:20231205T161239Z
LAST-MODIFIED:20231205T161504Z
UID:10000613-1713866400-1713868200@mahometpubliclibrary.org
SUMMARY:Toddler Storytime
DESCRIPTION:Join us on Tuesday mornings for storytime for toddlers (ages 18 months – 3 years) and caregivers. There will be songs\, rhymes\, and stories! \nPlease note: There will NOT be storytime on Tuesday\, March 19.
URL:https://mahometpubliclibrary.org/event/toddler-storytime/2024-04-23/
CATEGORIES:Preschool
ATTACH;FMTTYPE=image/png:https://mahometpubliclibrary.org/wp-content/uploads/2023/07/Toddler-Storytime_Event-Image_Fall-2023-1.png
END:VEVENT
BEGIN:VEVENT
DTSTART;TZID=America/Chicago:20240424T100000
DTEND;TZID=America/Chicago:20240424T103000
DTSTAMP:20260420T020156
CREATED:20231205T162015Z
LAST-MODIFIED:20231205T162015Z
UID:10000668-1713952800-1713954600@mahometpubliclibrary.org
SUMMARY:Preschool Storytime
DESCRIPTION:Join us on Wednesday mornings for storytime for preschoolers (ages 3-5) and caregivers. There will be songs\, movement\, and books! \nPlease note: There will NOT be Preschool Storytime on Wednesday\, April 3.
URL:https://mahometpubliclibrary.org/event/preschool-storytime/2024-04-24/
CATEGORIES:Preschool
ATTACH;FMTTYPE=image/png:https://mahometpubliclibrary.org/wp-content/uploads/2023/07/Preschool-Storytime_Event-Image_Fall-2023-1.png
END:VEVENT
BEGIN:VEVENT
DTSTART;TZID=America/Chicago:20240426T100000
DTEND;TZID=America/Chicago:20240426T110000
DTSTAMP:20260420T020156
CREATED:20231205T181435Z
LAST-MODIFIED:20240225T192234Z
UID:10000797-1714125600-1714129200@mahometpubliclibrary.org
SUMMARY:Preschool Playdate
DESCRIPTION:Children (ages 3-5) and their caregivers are welcome to join us on Friday mornings for open-ended playtime! Each session will feature a different assortment of toys and activities. \nPlease note: There will NOT be Preschool Playdate on April 5 or 19.
URL:https://mahometpubliclibrary.org/event/preschool-playdate/2024-04-26/
CATEGORIES:Preschool
ATTACH;FMTTYPE=image/png:https://mahometpubliclibrary.org/wp-content/uploads/2023/07/Preschool-Playdate_Event-Image_Fall-2023.png
END:VEVENT
BEGIN:VEVENT
DTSTART;TZID=America/Chicago:20240427T110000
DTEND;TZID=America/Chicago:20240427T120000
DTSTAMP:20260420T020156
CREATED:20231205T192801Z
LAST-MODIFIED:20231205T192801Z
UID:10000733-1714215600-1714219200@mahometpubliclibrary.org
SUMMARY:Firm Foundations Social: Sensory Exploration Stations
DESCRIPTION:Have a sensory and social experience with pre-school children of all ages! Stations will include Play-doh\, water\, and more! \nThis is a social mixer for children ages 0-5 who are enrolled in our Firm Foundations program and their caregivers.
URL:https://mahometpubliclibrary.org/event/aprilfirmfoundationssocial/
CATEGORIES:Preschool
ATTACH;FMTTYPE=image/png:https://mahometpubliclibrary.org/wp-content/uploads/2023/12/4.png
END:VEVENT
BEGIN:VEVENT
DTSTART;TZID=America/Chicago:20240604T093000
DTEND;TZID=America/Chicago:20240604T095000
DTSTAMP:20260420T020156
CREATED:20240502T191746Z
LAST-MODIFIED:20240502T191746Z
UID:10000826-1717493400-1717494600@mahometpubliclibrary.org
SUMMARY:Baby Storytime
DESCRIPTION:Bring your baby to storytime on Tuesday mornings at the Library! There will be songs\, bounces\, and books!
URL:https://mahometpubliclibrary.org/event/summerbabystorytime/2024-06-04/
CATEGORIES:Preschool
ATTACH;FMTTYPE=image/png:https://mahometpubliclibrary.org/wp-content/uploads/2024/05/Baby-Storytime_Event-Image_2024.png
END:VEVENT
BEGIN:VEVENT
DTSTART;TZID=America/Chicago:20240605T100000
DTEND;TZID=America/Chicago:20240605T103000
DTSTAMP:20260420T020156
CREATED:20240502T192159Z
LAST-MODIFIED:20240502T192315Z
UID:10000835-1717581600-1717583400@mahometpubliclibrary.org
SUMMARY:All Ages Storytime
DESCRIPTION:Join us on Wednesday mornings for storytime for children ages 0-5 and caregivers. There will be books\, bouncing\, songs\, and more!
URL:https://mahometpubliclibrary.org/event/summer-all-ages-storytime/2024-06-05/
CATEGORIES:Preschool
ATTACH;FMTTYPE=image/png:https://mahometpubliclibrary.org/wp-content/uploads/2024/05/All-Ages-Storytime_Event-Image.png
END:VEVENT
BEGIN:VEVENT
DTSTART;TZID=America/Chicago:20240611T093000
DTEND;TZID=America/Chicago:20240611T095000
DTSTAMP:20260420T020156
CREATED:20240502T191746Z
LAST-MODIFIED:20240502T191746Z
UID:10000827-1718098200-1718099400@mahometpubliclibrary.org
SUMMARY:Baby Storytime
DESCRIPTION:Bring your baby to storytime on Tuesday mornings at the Library! There will be songs\, bounces\, and books!
URL:https://mahometpubliclibrary.org/event/summerbabystorytime/2024-06-11/
CATEGORIES:Preschool
ATTACH;FMTTYPE=image/png:https://mahometpubliclibrary.org/wp-content/uploads/2024/05/Baby-Storytime_Event-Image_2024.png
END:VEVENT
BEGIN:VEVENT
DTSTART;TZID=America/Chicago:20240612T100000
DTEND;TZID=America/Chicago:20240612T103000
DTSTAMP:20260420T020156
CREATED:20240502T192159Z
LAST-MODIFIED:20240502T192315Z
UID:10000836-1718186400-1718188200@mahometpubliclibrary.org
SUMMARY:All Ages Storytime
DESCRIPTION:Join us on Wednesday mornings for storytime for children ages 0-5 and caregivers. There will be books\, bouncing\, songs\, and more!
URL:https://mahometpubliclibrary.org/event/summer-all-ages-storytime/2024-06-12/
CATEGORIES:Preschool
ATTACH;FMTTYPE=image/png:https://mahometpubliclibrary.org/wp-content/uploads/2024/05/All-Ages-Storytime_Event-Image.png
END:VEVENT
BEGIN:VEVENT
DTSTART;TZID=America/Chicago:20240618T093000
DTEND;TZID=America/Chicago:20240618T095000
DTSTAMP:20260420T020156
CREATED:20240502T191746Z
LAST-MODIFIED:20240502T191746Z
UID:10000828-1718703000-1718704200@mahometpubliclibrary.org
SUMMARY:Baby Storytime
DESCRIPTION:Bring your baby to storytime on Tuesday mornings at the Library! There will be songs\, bounces\, and books!
URL:https://mahometpubliclibrary.org/event/summerbabystorytime/2024-06-18/
CATEGORIES:Preschool
ATTACH;FMTTYPE=image/png:https://mahometpubliclibrary.org/wp-content/uploads/2024/05/Baby-Storytime_Event-Image_2024.png
END:VEVENT
BEGIN:VEVENT
DTSTART;TZID=America/Chicago:20240619T100000
DTEND;TZID=America/Chicago:20240619T103000
DTSTAMP:20260420T020156
CREATED:20240502T192159Z
LAST-MODIFIED:20240502T192315Z
UID:10000837-1718791200-1718793000@mahometpubliclibrary.org
SUMMARY:All Ages Storytime
DESCRIPTION:Join us on Wednesday mornings for storytime for children ages 0-5 and caregivers. There will be books\, bouncing\, songs\, and more!
URL:https://mahometpubliclibrary.org/event/summer-all-ages-storytime/2024-06-19/
CATEGORIES:Preschool
ATTACH;FMTTYPE=image/png:https://mahometpubliclibrary.org/wp-content/uploads/2024/05/All-Ages-Storytime_Event-Image.png
END:VEVENT
BEGIN:VEVENT
DTSTART;TZID=America/Chicago:20240622T093000
DTEND;TZID=America/Chicago:20240622T103000
DTSTAMP:20260420T020156
CREATED:20240502T230823Z
LAST-MODIFIED:20240502T230845Z
UID:10000891-1719048600-1719052200@mahometpubliclibrary.org
SUMMARY:Storytime: Weekend Edition
DESCRIPTION:Children and families are welcome to join us for an all ages-style storytime featuring rhymes\, songs\, and books\, followed by a fun\, themed craft! \nNo registration required.
URL:https://mahometpubliclibrary.org/event/weekend-storytime/2024-06-22/
CATEGORIES:All Ages,Preschool,School age
ATTACH;FMTTYPE=image/png:https://mahometpubliclibrary.org/wp-content/uploads/2024/05/Weekend-Storytime_Event-Image.png
END:VEVENT
BEGIN:VEVENT
DTSTART;TZID=America/Chicago:20240625T093000
DTEND;TZID=America/Chicago:20240625T095000
DTSTAMP:20260420T020156
CREATED:20240502T191746Z
LAST-MODIFIED:20240502T191746Z
UID:10000829-1719307800-1719309000@mahometpubliclibrary.org
SUMMARY:Baby Storytime
DESCRIPTION:Bring your baby to storytime on Tuesday mornings at the Library! There will be songs\, bounces\, and books!
URL:https://mahometpubliclibrary.org/event/summerbabystorytime/2024-06-25/
CATEGORIES:Preschool
ATTACH;FMTTYPE=image/png:https://mahometpubliclibrary.org/wp-content/uploads/2024/05/Baby-Storytime_Event-Image_2024.png
END:VEVENT
BEGIN:VEVENT
DTSTART;TZID=America/Chicago:20240626T100000
DTEND;TZID=America/Chicago:20240626T103000
DTSTAMP:20260420T020156
CREATED:20240502T192159Z
LAST-MODIFIED:20240502T192315Z
UID:10000838-1719396000-1719397800@mahometpubliclibrary.org
SUMMARY:All Ages Storytime
DESCRIPTION:Join us on Wednesday mornings for storytime for children ages 0-5 and caregivers. There will be books\, bouncing\, songs\, and more!
URL:https://mahometpubliclibrary.org/event/summer-all-ages-storytime/2024-06-26/
CATEGORIES:Preschool
ATTACH;FMTTYPE=image/png:https://mahometpubliclibrary.org/wp-content/uploads/2024/05/All-Ages-Storytime_Event-Image.png
END:VEVENT
END:VCALENDAR