BEGIN:VCALENDAR
VERSION:2.0
PRODID:-//Mahomet Public Library - ECPv6.15.11//NONSGML v1.0//EN
CALSCALE:GREGORIAN
METHOD:PUBLISH
X-WR-CALNAME:Mahomet Public Library
X-ORIGINAL-URL:https://mahometpubliclibrary.org
X-WR-CALDESC:Events for Mahomet Public Library
REFRESH-INTERVAL;VALUE=DURATION:PT1H
X-Robots-Tag:noindex
X-PUBLISHED-TTL:PT1H
BEGIN:VTIMEZONE
TZID:America/Chicago
BEGIN:DAYLIGHT
TZOFFSETFROM:-0600
TZOFFSETTO:-0500
TZNAME:CDT
DTSTART:20220313T080000
END:DAYLIGHT
BEGIN:STANDARD
TZOFFSETFROM:-0500
TZOFFSETTO:-0600
TZNAME:CST
DTSTART:20221106T070000
END:STANDARD
BEGIN:DAYLIGHT
TZOFFSETFROM:-0600
TZOFFSETTO:-0500
TZNAME:CDT
DTSTART:20230312T080000
END:DAYLIGHT
BEGIN:STANDARD
TZOFFSETFROM:-0500
TZOFFSETTO:-0600
TZNAME:CST
DTSTART:20231105T070000
END:STANDARD
BEGIN:DAYLIGHT
TZOFFSETFROM:-0600
TZOFFSETTO:-0500
TZNAME:CDT
DTSTART:20240310T080000
END:DAYLIGHT
BEGIN:STANDARD
TZOFFSETFROM:-0500
TZOFFSETTO:-0600
TZNAME:CST
DTSTART:20241103T070000
END:STANDARD
BEGIN:DAYLIGHT
TZOFFSETFROM:-0600
TZOFFSETTO:-0500
TZNAME:CDT
DTSTART:20250309T080000
END:DAYLIGHT
BEGIN:STANDARD
TZOFFSETFROM:-0500
TZOFFSETTO:-0600
TZNAME:CST
DTSTART:20251102T070000
END:STANDARD
END:VTIMEZONE
BEGIN:VEVENT
DTSTART;TZID=America/Chicago:20231117T100000
DTEND;TZID=America/Chicago:20231117T110000
DTSTAMP:20260419T193610
CREATED:20230727T214712Z
LAST-MODIFIED:20230907T041746Z
UID:10000503-1700215200-1700218800@mahometpubliclibrary.org
SUMMARY:Preschool Playdate
DESCRIPTION:Children (ages 2-5) and their caregivers are welcome to join us on Friday mornings for open-ended playtime! Each session will feature a different assortment of toys and activities. \nPlease note: There will NOT be Preschool Playdate on October 20 or November 24.
URL:https://mahometpubliclibrary.org/event/preschoolplaydate/2023-11-17/
CATEGORIES:Preschool
ATTACH;FMTTYPE=image/png:https://mahometpubliclibrary.org/wp-content/uploads/2023/07/Preschool-Playdate_Event-Image_Fall-2023.png
END:VEVENT
BEGIN:VEVENT
DTSTART;TZID=America/Chicago:20231121T093000
DTEND;TZID=America/Chicago:20231121T095000
DTSTAMP:20260419T193610
CREATED:20230727T220838Z
LAST-MODIFIED:20230907T041558Z
UID:10000477-1700559000-1700560200@mahometpubliclibrary.org
SUMMARY:Baby Storytime
DESCRIPTION:Bring your baby to storytime on Tuesday mornings at the Library! There will be songs\, bounces\, and books! \nPlease note: There will NOT be Baby Storytime on October 24.
URL:https://mahometpubliclibrary.org/event/babystorytime/2023-11-21/
CATEGORIES:Preschool
ATTACH;FMTTYPE=image/png:https://mahometpubliclibrary.org/wp-content/uploads/2023/07/Baby-Storytime_Event-Image_Fall-2023.png
END:VEVENT
BEGIN:VEVENT
DTSTART;TZID=America/Chicago:20231121T100000
DTEND;TZID=America/Chicago:20231121T103000
DTSTAMP:20260419T193610
CREATED:20230727T221149Z
LAST-MODIFIED:20230907T040707Z
UID:10000395-1700560800-1700562600@mahometpubliclibrary.org
SUMMARY:Toddler Storytime
DESCRIPTION:Join us on Tuesday mornings for storytime for toddlers (ages 18 months – 3 years) and caregivers. There will be songs\, rhymes\, and stories! \nPlease note: There will NOT be storytime on October 24.
URL:https://mahometpubliclibrary.org/event/toddlerstorytime/2023-11-21/
CATEGORIES:Preschool
ATTACH;FMTTYPE=image/png:https://mahometpubliclibrary.org/wp-content/uploads/2023/07/Toddler-Storytime_Event-Image_Fall-2023-1.png
END:VEVENT
BEGIN:VEVENT
DTSTART;TZID=America/Chicago:20231128T093000
DTEND;TZID=America/Chicago:20231128T095000
DTSTAMP:20260419T193610
CREATED:20230727T220838Z
LAST-MODIFIED:20230907T041558Z
UID:10000478-1701163800-1701165000@mahometpubliclibrary.org
SUMMARY:Baby Storytime
DESCRIPTION:Bring your baby to storytime on Tuesday mornings at the Library! There will be songs\, bounces\, and books! \nPlease note: There will NOT be Baby Storytime on October 24.
URL:https://mahometpubliclibrary.org/event/babystorytime/2023-11-28/
CATEGORIES:Preschool
ATTACH;FMTTYPE=image/png:https://mahometpubliclibrary.org/wp-content/uploads/2023/07/Baby-Storytime_Event-Image_Fall-2023.png
END:VEVENT
BEGIN:VEVENT
DTSTART;TZID=America/Chicago:20231128T100000
DTEND;TZID=America/Chicago:20231128T103000
DTSTAMP:20260419T193610
CREATED:20230727T221149Z
LAST-MODIFIED:20230907T040707Z
UID:10000396-1701165600-1701167400@mahometpubliclibrary.org
SUMMARY:Toddler Storytime
DESCRIPTION:Join us on Tuesday mornings for storytime for toddlers (ages 18 months – 3 years) and caregivers. There will be songs\, rhymes\, and stories! \nPlease note: There will NOT be storytime on October 24.
URL:https://mahometpubliclibrary.org/event/toddlerstorytime/2023-11-28/
CATEGORIES:Preschool
ATTACH;FMTTYPE=image/png:https://mahometpubliclibrary.org/wp-content/uploads/2023/07/Toddler-Storytime_Event-Image_Fall-2023-1.png
END:VEVENT
BEGIN:VEVENT
DTSTART;TZID=America/Chicago:20231129T100000
DTEND;TZID=America/Chicago:20231129T103000
DTSTAMP:20260419T193610
CREATED:20230727T221412Z
LAST-MODIFIED:20230907T041309Z
UID:10000446-1701252000-1701253800@mahometpubliclibrary.org
SUMMARY:Preschool Storytime
DESCRIPTION:Join us on Wednesday mornings for storytime for preschoolers (ages 3-5) and caregivers. There will be songs\, movement\, and books! \nPlease note: There will NOT be Preschool Storytime on October 25 or November 22.
URL:https://mahometpubliclibrary.org/event/preschoolstorytime/2023-11-29/
CATEGORIES:Preschool
ATTACH;FMTTYPE=image/png:https://mahometpubliclibrary.org/wp-content/uploads/2023/07/Preschool-Storytime_Event-Image_Fall-2023-1.png
END:VEVENT
BEGIN:VEVENT
DTSTART;TZID=America/Chicago:20231201T100000
DTEND;TZID=America/Chicago:20231201T110000
DTSTAMP:20260419T193610
CREATED:20230727T214712Z
LAST-MODIFIED:20230907T041746Z
UID:10000504-1701424800-1701428400@mahometpubliclibrary.org
SUMMARY:Preschool Playdate
DESCRIPTION:Children (ages 2-5) and their caregivers are welcome to join us on Friday mornings for open-ended playtime! Each session will feature a different assortment of toys and activities. \nPlease note: There will NOT be Preschool Playdate on October 20 or November 24.
URL:https://mahometpubliclibrary.org/event/preschoolplaydate/2023-12-01/
CATEGORIES:Preschool
ATTACH;FMTTYPE=image/png:https://mahometpubliclibrary.org/wp-content/uploads/2023/07/Preschool-Playdate_Event-Image_Fall-2023.png
END:VEVENT
BEGIN:VEVENT
DTSTART;TZID=America/Chicago:20231205T093000
DTEND;TZID=America/Chicago:20231205T095000
DTSTAMP:20260419T193610
CREATED:20230727T220838Z
LAST-MODIFIED:20230907T041558Z
UID:10000479-1701768600-1701769800@mahometpubliclibrary.org
SUMMARY:Baby Storytime
DESCRIPTION:Bring your baby to storytime on Tuesday mornings at the Library! There will be songs\, bounces\, and books! \nPlease note: There will NOT be Baby Storytime on October 24.
URL:https://mahometpubliclibrary.org/event/babystorytime/2023-12-05/
CATEGORIES:Preschool
ATTACH;FMTTYPE=image/png:https://mahometpubliclibrary.org/wp-content/uploads/2023/07/Baby-Storytime_Event-Image_Fall-2023.png
END:VEVENT
BEGIN:VEVENT
DTSTART;TZID=America/Chicago:20231205T100000
DTEND;TZID=America/Chicago:20231205T103000
DTSTAMP:20260419T193610
CREATED:20230727T221149Z
LAST-MODIFIED:20230907T040707Z
UID:10000397-1701770400-1701772200@mahometpubliclibrary.org
SUMMARY:Toddler Storytime
DESCRIPTION:Join us on Tuesday mornings for storytime for toddlers (ages 18 months – 3 years) and caregivers. There will be songs\, rhymes\, and stories! \nPlease note: There will NOT be storytime on October 24.
URL:https://mahometpubliclibrary.org/event/toddlerstorytime/2023-12-05/
CATEGORIES:Preschool
ATTACH;FMTTYPE=image/png:https://mahometpubliclibrary.org/wp-content/uploads/2023/07/Toddler-Storytime_Event-Image_Fall-2023-1.png
END:VEVENT
BEGIN:VEVENT
DTSTART;TZID=America/Chicago:20231206T100000
DTEND;TZID=America/Chicago:20231206T103000
DTSTAMP:20260419T193610
CREATED:20230727T221412Z
LAST-MODIFIED:20230907T041309Z
UID:10000447-1701856800-1701858600@mahometpubliclibrary.org
SUMMARY:Preschool Storytime
DESCRIPTION:Join us on Wednesday mornings for storytime for preschoolers (ages 3-5) and caregivers. There will be songs\, movement\, and books! \nPlease note: There will NOT be Preschool Storytime on October 25 or November 22.
URL:https://mahometpubliclibrary.org/event/preschoolstorytime/2023-12-06/
CATEGORIES:Preschool
ATTACH;FMTTYPE=image/png:https://mahometpubliclibrary.org/wp-content/uploads/2023/07/Preschool-Storytime_Event-Image_Fall-2023-1.png
END:VEVENT
BEGIN:VEVENT
DTSTART;TZID=America/Chicago:20231208T100000
DTEND;TZID=America/Chicago:20231208T110000
DTSTAMP:20260419T193610
CREATED:20231205T181435Z
LAST-MODIFIED:20240225T192234Z
UID:10000505-1702029600-1702033200@mahometpubliclibrary.org
SUMMARY:Preschool Playdate
DESCRIPTION:Children (ages 3-5) and their caregivers are welcome to join us on Friday mornings for open-ended playtime! Each session will feature a different assortment of toys and activities. \nPlease note: There will NOT be Preschool Playdate on April 5 or 19.
URL:https://mahometpubliclibrary.org/event/preschool-playdate/2023-12-08/
CATEGORIES:Preschool
ATTACH;FMTTYPE=image/png:https://mahometpubliclibrary.org/wp-content/uploads/2023/07/Preschool-Playdate_Event-Image_Fall-2023.png
END:VEVENT
BEGIN:VEVENT
DTSTART;TZID=America/Chicago:20240109T093000
DTEND;TZID=America/Chicago:20240109T095000
DTSTAMP:20260419T193610
CREATED:20231205T161708Z
LAST-MODIFIED:20231205T161708Z
UID:10000627-1704792600-1704793800@mahometpubliclibrary.org
SUMMARY:Baby Storytime
DESCRIPTION:Bring your baby to storytime on Tuesday mornings at the Library! There will be songs\, bounces\, and books! \nPlease note: There will NOT be Baby Storytime on Tuesday\, March 19.
URL:https://mahometpubliclibrary.org/event/baby-storytime/2024-01-09/
CATEGORIES:Preschool
ATTACH;FMTTYPE=image/png:https://mahometpubliclibrary.org/wp-content/uploads/2023/07/Baby-Storytime_Event-Image_Fall-2023.png
END:VEVENT
BEGIN:VEVENT
DTSTART;TZID=America/Chicago:20240109T100000
DTEND;TZID=America/Chicago:20240109T103000
DTSTAMP:20260419T193610
CREATED:20231205T161239Z
LAST-MODIFIED:20231205T161504Z
UID:10000599-1704794400-1704796200@mahometpubliclibrary.org
SUMMARY:Toddler Storytime
DESCRIPTION:Join us on Tuesday mornings for storytime for toddlers (ages 18 months – 3 years) and caregivers. There will be songs\, rhymes\, and stories! \nPlease note: There will NOT be storytime on Tuesday\, March 19.
URL:https://mahometpubliclibrary.org/event/toddler-storytime/2024-01-09/
CATEGORIES:Preschool
ATTACH;FMTTYPE=image/png:https://mahometpubliclibrary.org/wp-content/uploads/2023/07/Toddler-Storytime_Event-Image_Fall-2023-1.png
END:VEVENT
BEGIN:VEVENT
DTSTART;TZID=America/Chicago:20240110T100000
DTEND;TZID=America/Chicago:20240110T103000
DTSTAMP:20260419T193610
CREATED:20231205T162015Z
LAST-MODIFIED:20231205T162015Z
UID:10000654-1704880800-1704882600@mahometpubliclibrary.org
SUMMARY:Preschool Storytime
DESCRIPTION:Join us on Wednesday mornings for storytime for preschoolers (ages 3-5) and caregivers. There will be songs\, movement\, and books! \nPlease note: There will NOT be Preschool Storytime on Wednesday\, April 3.
URL:https://mahometpubliclibrary.org/event/preschool-storytime/2024-01-10/
CATEGORIES:Preschool
ATTACH;FMTTYPE=image/png:https://mahometpubliclibrary.org/wp-content/uploads/2023/07/Preschool-Storytime_Event-Image_Fall-2023-1.png
END:VEVENT
BEGIN:VEVENT
DTSTART;TZID=America/Chicago:20240112T100000
DTEND;TZID=America/Chicago:20240112T110000
DTSTAMP:20260419T193610
CREATED:20231205T181435Z
LAST-MODIFIED:20240225T192234Z
UID:10000798-1705053600-1705057200@mahometpubliclibrary.org
SUMMARY:Preschool Playdate
DESCRIPTION:Children (ages 3-5) and their caregivers are welcome to join us on Friday mornings for open-ended playtime! Each session will feature a different assortment of toys and activities. \nPlease note: There will NOT be Preschool Playdate on April 5 or 19.
URL:https://mahometpubliclibrary.org/event/preschool-playdate/2024-01-12/
CATEGORIES:Preschool
ATTACH;FMTTYPE=image/png:https://mahometpubliclibrary.org/wp-content/uploads/2023/07/Preschool-Playdate_Event-Image_Fall-2023.png
END:VEVENT
BEGIN:VEVENT
DTSTART;TZID=America/Chicago:20240116T093000
DTEND;TZID=America/Chicago:20240116T095000
DTSTAMP:20260419T193610
CREATED:20231205T161708Z
LAST-MODIFIED:20231205T161708Z
UID:10000628-1705397400-1705398600@mahometpubliclibrary.org
SUMMARY:Baby Storytime
DESCRIPTION:Bring your baby to storytime on Tuesday mornings at the Library! There will be songs\, bounces\, and books! \nPlease note: There will NOT be Baby Storytime on Tuesday\, March 19.
URL:https://mahometpubliclibrary.org/event/baby-storytime/2024-01-16/
CATEGORIES:Preschool
ATTACH;FMTTYPE=image/png:https://mahometpubliclibrary.org/wp-content/uploads/2023/07/Baby-Storytime_Event-Image_Fall-2023.png
END:VEVENT
BEGIN:VEVENT
DTSTART;TZID=America/Chicago:20240116T100000
DTEND;TZID=America/Chicago:20240116T103000
DTSTAMP:20260419T193610
CREATED:20231205T161239Z
LAST-MODIFIED:20231205T161504Z
UID:10000600-1705399200-1705401000@mahometpubliclibrary.org
SUMMARY:Toddler Storytime
DESCRIPTION:Join us on Tuesday mornings for storytime for toddlers (ages 18 months – 3 years) and caregivers. There will be songs\, rhymes\, and stories! \nPlease note: There will NOT be storytime on Tuesday\, March 19.
URL:https://mahometpubliclibrary.org/event/toddler-storytime/2024-01-16/
CATEGORIES:Preschool
ATTACH;FMTTYPE=image/png:https://mahometpubliclibrary.org/wp-content/uploads/2023/07/Toddler-Storytime_Event-Image_Fall-2023-1.png
END:VEVENT
BEGIN:VEVENT
DTSTART;TZID=America/Chicago:20240117T100000
DTEND;TZID=America/Chicago:20240117T103000
DTSTAMP:20260419T193610
CREATED:20231205T162015Z
LAST-MODIFIED:20231205T162015Z
UID:10000655-1705485600-1705487400@mahometpubliclibrary.org
SUMMARY:Preschool Storytime
DESCRIPTION:Join us on Wednesday mornings for storytime for preschoolers (ages 3-5) and caregivers. There will be songs\, movement\, and books! \nPlease note: There will NOT be Preschool Storytime on Wednesday\, April 3.
URL:https://mahometpubliclibrary.org/event/preschool-storytime/2024-01-17/
CATEGORIES:Preschool
ATTACH;FMTTYPE=image/png:https://mahometpubliclibrary.org/wp-content/uploads/2023/07/Preschool-Storytime_Event-Image_Fall-2023-1.png
END:VEVENT
BEGIN:VEVENT
DTSTART;TZID=America/Chicago:20240119T100000
DTEND;TZID=America/Chicago:20240119T110000
DTSTAMP:20260419T193610
CREATED:20231205T181435Z
LAST-MODIFIED:20240225T192234Z
UID:10000799-1705658400-1705662000@mahometpubliclibrary.org
SUMMARY:Preschool Playdate
DESCRIPTION:Children (ages 3-5) and their caregivers are welcome to join us on Friday mornings for open-ended playtime! Each session will feature a different assortment of toys and activities. \nPlease note: There will NOT be Preschool Playdate on April 5 or 19.
URL:https://mahometpubliclibrary.org/event/preschool-playdate/2024-01-19/
CATEGORIES:Preschool
ATTACH;FMTTYPE=image/png:https://mahometpubliclibrary.org/wp-content/uploads/2023/07/Preschool-Playdate_Event-Image_Fall-2023.png
END:VEVENT
BEGIN:VEVENT
DTSTART;TZID=America/Chicago:20240123T093000
DTEND;TZID=America/Chicago:20240123T095000
DTSTAMP:20260419T193610
CREATED:20231205T161708Z
LAST-MODIFIED:20231205T161708Z
UID:10000629-1706002200-1706003400@mahometpubliclibrary.org
SUMMARY:Baby Storytime
DESCRIPTION:Bring your baby to storytime on Tuesday mornings at the Library! There will be songs\, bounces\, and books! \nPlease note: There will NOT be Baby Storytime on Tuesday\, March 19.
URL:https://mahometpubliclibrary.org/event/baby-storytime/2024-01-23/
CATEGORIES:Preschool
ATTACH;FMTTYPE=image/png:https://mahometpubliclibrary.org/wp-content/uploads/2023/07/Baby-Storytime_Event-Image_Fall-2023.png
END:VEVENT
BEGIN:VEVENT
DTSTART;TZID=America/Chicago:20240123T100000
DTEND;TZID=America/Chicago:20240123T103000
DTSTAMP:20260419T193610
CREATED:20231205T161239Z
LAST-MODIFIED:20231205T161504Z
UID:10000601-1706004000-1706005800@mahometpubliclibrary.org
SUMMARY:Toddler Storytime
DESCRIPTION:Join us on Tuesday mornings for storytime for toddlers (ages 18 months – 3 years) and caregivers. There will be songs\, rhymes\, and stories! \nPlease note: There will NOT be storytime on Tuesday\, March 19.
URL:https://mahometpubliclibrary.org/event/toddler-storytime/2024-01-23/
CATEGORIES:Preschool
ATTACH;FMTTYPE=image/png:https://mahometpubliclibrary.org/wp-content/uploads/2023/07/Toddler-Storytime_Event-Image_Fall-2023-1.png
END:VEVENT
BEGIN:VEVENT
DTSTART;TZID=America/Chicago:20240124T100000
DTEND;TZID=America/Chicago:20240124T103000
DTSTAMP:20260419T193610
CREATED:20231205T162015Z
LAST-MODIFIED:20231205T162015Z
UID:10000656-1706090400-1706092200@mahometpubliclibrary.org
SUMMARY:Preschool Storytime
DESCRIPTION:Join us on Wednesday mornings for storytime for preschoolers (ages 3-5) and caregivers. There will be songs\, movement\, and books! \nPlease note: There will NOT be Preschool Storytime on Wednesday\, April 3.
URL:https://mahometpubliclibrary.org/event/preschool-storytime/2024-01-24/
CATEGORIES:Preschool
ATTACH;FMTTYPE=image/png:https://mahometpubliclibrary.org/wp-content/uploads/2023/07/Preschool-Storytime_Event-Image_Fall-2023-1.png
END:VEVENT
BEGIN:VEVENT
DTSTART;TZID=America/Chicago:20240126T100000
DTEND;TZID=America/Chicago:20240126T110000
DTSTAMP:20260419T193610
CREATED:20231205T181435Z
LAST-MODIFIED:20240225T192234Z
UID:10000800-1706263200-1706266800@mahometpubliclibrary.org
SUMMARY:Preschool Playdate
DESCRIPTION:Children (ages 3-5) and their caregivers are welcome to join us on Friday mornings for open-ended playtime! Each session will feature a different assortment of toys and activities. \nPlease note: There will NOT be Preschool Playdate on April 5 or 19.
URL:https://mahometpubliclibrary.org/event/preschool-playdate/2024-01-26/
CATEGORIES:Preschool
ATTACH;FMTTYPE=image/png:https://mahometpubliclibrary.org/wp-content/uploads/2023/07/Preschool-Playdate_Event-Image_Fall-2023.png
END:VEVENT
BEGIN:VEVENT
DTSTART;TZID=America/Chicago:20240127T110000
DTEND;TZID=America/Chicago:20240127T120000
DTSTAMP:20260419T193610
CREATED:20231205T192122Z
LAST-MODIFIED:20231205T192122Z
UID:10000730-1706353200-1706356800@mahometpubliclibrary.org
SUMMARY:Firm Foundations Social: Get Messy - Process Art for Toddlers
DESCRIPTION:Explore art in a fun (and messy) way\, while socializing with friends\, both new and old! \nThis is a social mixer for children ages 2-3 who are enrolled in our Firm Foundations program and their caregivers. \n  \nNo registration required\, but you must be enrolled in our Firm Foundations program.
URL:https://mahometpubliclibrary.org/event/toddlerfirmfoundationssocial/
CATEGORIES:Preschool
ATTACH;FMTTYPE=image/png:https://mahometpubliclibrary.org/wp-content/uploads/2023/12/1.png
END:VEVENT
BEGIN:VEVENT
DTSTART;TZID=America/Chicago:20240130T093000
DTEND;TZID=America/Chicago:20240130T095000
DTSTAMP:20260419T193610
CREATED:20231205T161708Z
LAST-MODIFIED:20231205T161708Z
UID:10000630-1706607000-1706608200@mahometpubliclibrary.org
SUMMARY:Baby Storytime
DESCRIPTION:Bring your baby to storytime on Tuesday mornings at the Library! There will be songs\, bounces\, and books! \nPlease note: There will NOT be Baby Storytime on Tuesday\, March 19.
URL:https://mahometpubliclibrary.org/event/baby-storytime/2024-01-30/
CATEGORIES:Preschool
ATTACH;FMTTYPE=image/png:https://mahometpubliclibrary.org/wp-content/uploads/2023/07/Baby-Storytime_Event-Image_Fall-2023.png
END:VEVENT
BEGIN:VEVENT
DTSTART;TZID=America/Chicago:20240130T100000
DTEND;TZID=America/Chicago:20240130T103000
DTSTAMP:20260419T193610
CREATED:20231205T161239Z
LAST-MODIFIED:20231205T161504Z
UID:10000602-1706608800-1706610600@mahometpubliclibrary.org
SUMMARY:Toddler Storytime
DESCRIPTION:Join us on Tuesday mornings for storytime for toddlers (ages 18 months – 3 years) and caregivers. There will be songs\, rhymes\, and stories! \nPlease note: There will NOT be storytime on Tuesday\, March 19.
URL:https://mahometpubliclibrary.org/event/toddler-storytime/2024-01-30/
CATEGORIES:Preschool
ATTACH;FMTTYPE=image/png:https://mahometpubliclibrary.org/wp-content/uploads/2023/07/Toddler-Storytime_Event-Image_Fall-2023-1.png
END:VEVENT
BEGIN:VEVENT
DTSTART;TZID=America/Chicago:20240131T100000
DTEND;TZID=America/Chicago:20240131T103000
DTSTAMP:20260419T193610
CREATED:20231205T162015Z
LAST-MODIFIED:20231205T162015Z
UID:10000657-1706695200-1706697000@mahometpubliclibrary.org
SUMMARY:Preschool Storytime
DESCRIPTION:Join us on Wednesday mornings for storytime for preschoolers (ages 3-5) and caregivers. There will be songs\, movement\, and books! \nPlease note: There will NOT be Preschool Storytime on Wednesday\, April 3.
URL:https://mahometpubliclibrary.org/event/preschool-storytime/2024-01-31/
CATEGORIES:Preschool
ATTACH;FMTTYPE=image/png:https://mahometpubliclibrary.org/wp-content/uploads/2023/07/Preschool-Storytime_Event-Image_Fall-2023-1.png
END:VEVENT
BEGIN:VEVENT
DTSTART;TZID=America/Chicago:20240202T100000
DTEND;TZID=America/Chicago:20240202T110000
DTSTAMP:20260419T193610
CREATED:20231205T181435Z
LAST-MODIFIED:20240225T192234Z
UID:10000801-1706868000-1706871600@mahometpubliclibrary.org
SUMMARY:Preschool Playdate
DESCRIPTION:Children (ages 3-5) and their caregivers are welcome to join us on Friday mornings for open-ended playtime! Each session will feature a different assortment of toys and activities. \nPlease note: There will NOT be Preschool Playdate on April 5 or 19.
URL:https://mahometpubliclibrary.org/event/preschool-playdate/2024-02-02/
CATEGORIES:Preschool
ATTACH;FMTTYPE=image/png:https://mahometpubliclibrary.org/wp-content/uploads/2023/07/Preschool-Playdate_Event-Image_Fall-2023.png
END:VEVENT
BEGIN:VEVENT
DTSTART;TZID=America/Chicago:20240206T093000
DTEND;TZID=America/Chicago:20240206T095000
DTSTAMP:20260419T193610
CREATED:20231205T161708Z
LAST-MODIFIED:20231205T161708Z
UID:10000631-1707211800-1707213000@mahometpubliclibrary.org
SUMMARY:Baby Storytime
DESCRIPTION:Bring your baby to storytime on Tuesday mornings at the Library! There will be songs\, bounces\, and books! \nPlease note: There will NOT be Baby Storytime on Tuesday\, March 19.
URL:https://mahometpubliclibrary.org/event/baby-storytime/2024-02-06/
CATEGORIES:Preschool
ATTACH;FMTTYPE=image/png:https://mahometpubliclibrary.org/wp-content/uploads/2023/07/Baby-Storytime_Event-Image_Fall-2023.png
END:VEVENT
BEGIN:VEVENT
DTSTART;TZID=America/Chicago:20240206T100000
DTEND;TZID=America/Chicago:20240206T103000
DTSTAMP:20260419T193610
CREATED:20231205T161239Z
LAST-MODIFIED:20231205T161504Z
UID:10000603-1707213600-1707215400@mahometpubliclibrary.org
SUMMARY:Toddler Storytime
DESCRIPTION:Join us on Tuesday mornings for storytime for toddlers (ages 18 months – 3 years) and caregivers. There will be songs\, rhymes\, and stories! \nPlease note: There will NOT be storytime on Tuesday\, March 19.
URL:https://mahometpubliclibrary.org/event/toddler-storytime/2024-02-06/
CATEGORIES:Preschool
ATTACH;FMTTYPE=image/png:https://mahometpubliclibrary.org/wp-content/uploads/2023/07/Toddler-Storytime_Event-Image_Fall-2023-1.png
END:VEVENT
END:VCALENDAR