BEGIN:VCALENDAR
VERSION:2.0
PRODID:-//Mahomet Public Library - ECPv6.15.11//NONSGML v1.0//EN
CALSCALE:GREGORIAN
METHOD:PUBLISH
X-WR-CALNAME:Mahomet Public Library
X-ORIGINAL-URL:https://mahometpubliclibrary.org
X-WR-CALDESC:Events for Mahomet Public Library
REFRESH-INTERVAL;VALUE=DURATION:PT1H
X-Robots-Tag:noindex
X-PUBLISHED-TTL:PT1H
BEGIN:VTIMEZONE
TZID:America/Chicago
BEGIN:DAYLIGHT
TZOFFSETFROM:-0600
TZOFFSETTO:-0500
TZNAME:CDT
DTSTART:20220313T080000
END:DAYLIGHT
BEGIN:STANDARD
TZOFFSETFROM:-0500
TZOFFSETTO:-0600
TZNAME:CST
DTSTART:20221106T070000
END:STANDARD
BEGIN:DAYLIGHT
TZOFFSETFROM:-0600
TZOFFSETTO:-0500
TZNAME:CDT
DTSTART:20230312T080000
END:DAYLIGHT
BEGIN:STANDARD
TZOFFSETFROM:-0500
TZOFFSETTO:-0600
TZNAME:CST
DTSTART:20231105T070000
END:STANDARD
BEGIN:DAYLIGHT
TZOFFSETFROM:-0600
TZOFFSETTO:-0500
TZNAME:CDT
DTSTART:20240310T080000
END:DAYLIGHT
BEGIN:STANDARD
TZOFFSETFROM:-0500
TZOFFSETTO:-0600
TZNAME:CST
DTSTART:20241103T070000
END:STANDARD
END:VTIMEZONE
BEGIN:VEVENT
DTSTART;TZID=America/Chicago:20231110T100000
DTEND;TZID=America/Chicago:20231110T110000
DTSTAMP:20260419T115839
CREATED:20230727T214712Z
LAST-MODIFIED:20230907T041746Z
UID:10000502-1699610400-1699614000@mahometpubliclibrary.org
SUMMARY:Preschool Playdate
DESCRIPTION:Children (ages 2-5) and their caregivers are welcome to join us on Friday mornings for open-ended playtime! Each session will feature a different assortment of toys and activities. \nPlease note: There will NOT be Preschool Playdate on October 20 or November 24.
URL:https://mahometpubliclibrary.org/event/preschoolplaydate/2023-11-10/
CATEGORIES:Preschool
ATTACH;FMTTYPE=image/png:https://mahometpubliclibrary.org/wp-content/uploads/2023/07/Preschool-Playdate_Event-Image_Fall-2023.png
END:VEVENT
BEGIN:VEVENT
DTSTART;TZID=America/Chicago:20231110T173000
DTEND;TZID=America/Chicago:20231111T110000
DTSTAMP:20260419T115839
CREATED:20230727T221754Z
LAST-MODIFIED:20230907T035319Z
UID:10000294-1699637400-1699700400@mahometpubliclibrary.org
SUMMARY:Stuffed Animal Sleepover
DESCRIPTION:Children can drop off one stuffed animal friend to spend the night at the Mahomet Public Library! Participants can either bring their friend to our “Good Night” Storytime at 5:30pm on Friday\, November 10\, or drop off their friend ahead of time starting on November 9. Stuffed animals will spend the night at the Library\, and will be reunited with their human friends at our “Good Morning” Storytime at 11am on Saturday\, November 11. \nSleepover pictures will be posted to Facebook throughout the evening!
URL:https://mahometpubliclibrary.org/event/stuffedanimalsleepover/
CATEGORIES:Preschool,School age
ATTACH;FMTTYPE=image/png:https://mahometpubliclibrary.org/wp-content/uploads/2023/07/Stuffed-Animal-Sleepover_Event-Image_Fall-2023.png
END:VEVENT
END:VCALENDAR