BEGIN:VCALENDAR
VERSION:2.0
PRODID:-//Mahomet Public Library - ECPv6.15.11//NONSGML v1.0//EN
CALSCALE:GREGORIAN
METHOD:PUBLISH
X-WR-CALNAME:Mahomet Public Library
X-ORIGINAL-URL:https://mahometpubliclibrary.org
X-WR-CALDESC:Events for Mahomet Public Library
REFRESH-INTERVAL;VALUE=DURATION:PT1H
X-Robots-Tag:noindex
X-PUBLISHED-TTL:PT1H
BEGIN:VTIMEZONE
TZID:America/Chicago
BEGIN:DAYLIGHT
TZOFFSETFROM:-0600
TZOFFSETTO:-0500
TZNAME:CDT
DTSTART:20230312T080000
END:DAYLIGHT
BEGIN:STANDARD
TZOFFSETFROM:-0500
TZOFFSETTO:-0600
TZNAME:CST
DTSTART:20231105T070000
END:STANDARD
BEGIN:DAYLIGHT
TZOFFSETFROM:-0600
TZOFFSETTO:-0500
TZNAME:CDT
DTSTART:20240310T080000
END:DAYLIGHT
BEGIN:STANDARD
TZOFFSETFROM:-0500
TZOFFSETTO:-0600
TZNAME:CST
DTSTART:20241103T070000
END:STANDARD
BEGIN:DAYLIGHT
TZOFFSETFROM:-0600
TZOFFSETTO:-0500
TZNAME:CDT
DTSTART:20250309T080000
END:DAYLIGHT
BEGIN:STANDARD
TZOFFSETFROM:-0500
TZOFFSETTO:-0600
TZNAME:CST
DTSTART:20251102T070000
END:STANDARD
END:VTIMEZONE
BEGIN:VEVENT
DTSTART;TZID=America/Chicago:20241028T090000
DTEND;TZID=America/Chicago:20241029T200000
DTSTAMP:20260419T080915
CREATED:20240813T160757Z
LAST-MODIFIED:20240813T160939Z
UID:10001019-1730106000-1730232000@mahometpubliclibrary.org
SUMMARY:Adult Take and Make Kits
DESCRIPTION:Take home a craft to make! Our take-and-make crafts come with all the supplies needed for a project. \n  \nDates and Crafts: \nBeginning September 30: Sun Prints (Cyanotype) \nBeginning October 28: Spooky Tiny Glass Bottle Necklace \nBeginning November 25: Origami Lucky Star Jar \n  \nStop by the Library to pick up a free kit. Kits are available while supplies last. Limit one kit per person\, please! \nAdult take-and-make crafts are part of our Adult Craft Connection series.
URL:https://mahometpubliclibrary.org/event/adult-take-and-make-kits/2024-10-28/
CATEGORIES:Adults
ATTACH;FMTTYPE=image/png:https://mahometpubliclibrary.org/wp-content/uploads/2023/12/Adult-Take-and-Makes_Event-Image.png
END:VEVENT
BEGIN:VEVENT
DTSTART;TZID=America/Chicago:20241029T180000
DTEND;TZID=America/Chicago:20241029T193000
DTSTAMP:20260419T080915
CREATED:20240822T145001Z
LAST-MODIFIED:20240822T145001Z
UID:10001051-1730224800-1730230200@mahometpubliclibrary.org
SUMMARY:Adult Halloween Bingo & Costume Contest
DESCRIPTION:Get ready for a spooky evening of Halloween fun at the Library! Dress up in your favorite costume (optional\, but encouraged)\, and compete for festive prizes in both the costume contest and BINGO games. \nAdults. Registration required.
URL:https://mahometpubliclibrary.org/event/adult-halloween-bingo/
CATEGORIES:Adults
ATTACH;FMTTYPE=image/png:https://mahometpubliclibrary.org/wp-content/uploads/2024/08/Adult-halloween-costume-contest-and-bingo.png
END:VEVENT
END:VCALENDAR