BEGIN:VCALENDAR
VERSION:2.0
PRODID:-//Mahomet Public Library - ECPv6.15.11//NONSGML v1.0//EN
CALSCALE:GREGORIAN
METHOD:PUBLISH
X-WR-CALNAME:Mahomet Public Library
X-ORIGINAL-URL:https://mahometpubliclibrary.org
X-WR-CALDESC:Events for Mahomet Public Library
REFRESH-INTERVAL;VALUE=DURATION:PT1H
X-Robots-Tag:noindex
X-PUBLISHED-TTL:PT1H
BEGIN:VTIMEZONE
TZID:America/Chicago
BEGIN:DAYLIGHT
TZOFFSETFROM:-0600
TZOFFSETTO:-0500
TZNAME:CDT
DTSTART:20230312T080000
END:DAYLIGHT
BEGIN:STANDARD
TZOFFSETFROM:-0500
TZOFFSETTO:-0600
TZNAME:CST
DTSTART:20231105T070000
END:STANDARD
BEGIN:DAYLIGHT
TZOFFSETFROM:-0600
TZOFFSETTO:-0500
TZNAME:CDT
DTSTART:20240310T080000
END:DAYLIGHT
BEGIN:STANDARD
TZOFFSETFROM:-0500
TZOFFSETTO:-0600
TZNAME:CST
DTSTART:20241103T070000
END:STANDARD
BEGIN:DAYLIGHT
TZOFFSETFROM:-0600
TZOFFSETTO:-0500
TZNAME:CDT
DTSTART:20250309T080000
END:DAYLIGHT
BEGIN:STANDARD
TZOFFSETFROM:-0500
TZOFFSETTO:-0600
TZNAME:CST
DTSTART:20251102T070000
END:STANDARD
END:VTIMEZONE
BEGIN:VEVENT
DTSTART;TZID=America/Chicago:20241009T190000
DTEND;TZID=America/Chicago:20241009T200000
DTSTAMP:20260419T093410
CREATED:20240905T190534Z
LAST-MODIFIED:20240905T192356Z
UID:10001066-1728500400-1728504000@mahometpubliclibrary.org
SUMMARY:Illinois Libraries Present: Being Imperfect with Erika Sanchez
DESCRIPTION:Celebrate Hispanic Heritage Month with Illinois Libraries Present and Erika Sánchez\, award-winning author of I Am Not Your Perfect Mexican Daughter. She will be joined in conversation by Cythia Pelayo. \nErika L. Sánchez is the daughter of Mexican immigrants. Her debut poetry collection\, Lessons on Expulsion\, was a finalist for the PEN America Open Book Award. Her debut young adult novel\, I Am Not Your Perfect Mexican Daughter\, was a New York Times bestseller\, National Book Award finalist\, and Tomás Rivera Award winner. Recognized by Time as one of the best YA novels of all time\, I Am Not Your Perfect Mexican Daughter has also been adapted for the stage at Steppenwolf Theater in Chicago and is being made into a film directed by America Ferrera. \nSánchez’ critically acclaimed memoir-in-essays\, Crying in the Bathroom\, won the Chicago Review of Books Nonfiction award. Sánchez was a Fulbright Scholar\, a Ruth Lilly and Dorothy Sargent fellow from the Poetry Foundation\, a Princeton Arts Fellow\, a recipient of the 21st Century Award from the Chicago Public Library Foundation\, and a recipient of the National Endowment for the Arts Fellowship. She lives in Chicago with her family. \nCynthia Pelayo is a Bram Stoker Award winning and International Latino Book Award winning author and poet. Pelayo writes fairy tales that blend genre and explore concepts of grief\, mourning\, and violence. She is the author of Loteria\, Santa Muerte\, The Missing\, Poems of My Night\, Into the Forest and All the Way Through\, Children of Chicago\, Crime Scene\, and The Shoemaker’s Magician. \nThis event is made possible by Illinois Libraries Present (ILP)\, a statewide collaboration among public libraries offering premier events. ILP is funded in part by a grant awarded by the Illinois State Library\, a department of the Office of Secretary of State\, using funds provided by the U.S. Institute of Museum and Library Services\, under the provisions of the Library Services and Technology Act (LSTA).  \nILP is committed to inclusion and accessibility. To request accommodations\, please email illinoislibrariespresent@gmail.com. \n  \nFor adults. Via Zoom. Please register.
URL:https://mahometpubliclibrary.org/event/erika-sanchez/
CATEGORIES:Adults
ATTACH;FMTTYPE=image/png:https://mahometpubliclibrary.org/wp-content/uploads/2024/09/Erika-Sanchez_Event-Image_Fall-2024.png
END:VEVENT
END:VCALENDAR