BEGIN:VCALENDAR
VERSION:2.0
PRODID:-//Mahomet Public Library - ECPv6.15.11//NONSGML v1.0//EN
CALSCALE:GREGORIAN
METHOD:PUBLISH
X-ORIGINAL-URL:https://mahometpubliclibrary.org
X-WR-CALDESC:Events for Mahomet Public Library
REFRESH-INTERVAL;VALUE=DURATION:PT1H
X-Robots-Tag:noindex
X-PUBLISHED-TTL:PT1H
BEGIN:VTIMEZONE
TZID:America/Chicago
BEGIN:DAYLIGHT
TZOFFSETFROM:-0600
TZOFFSETTO:-0500
TZNAME:CDT
DTSTART:20230312T080000
END:DAYLIGHT
BEGIN:STANDARD
TZOFFSETFROM:-0500
TZOFFSETTO:-0600
TZNAME:CST
DTSTART:20231105T070000
END:STANDARD
BEGIN:DAYLIGHT
TZOFFSETFROM:-0600
TZOFFSETTO:-0500
TZNAME:CDT
DTSTART:20240310T080000
END:DAYLIGHT
BEGIN:STANDARD
TZOFFSETFROM:-0500
TZOFFSETTO:-0600
TZNAME:CST
DTSTART:20241103T070000
END:STANDARD
BEGIN:DAYLIGHT
TZOFFSETFROM:-0600
TZOFFSETTO:-0500
TZNAME:CDT
DTSTART:20250309T080000
END:DAYLIGHT
BEGIN:STANDARD
TZOFFSETFROM:-0500
TZOFFSETTO:-0600
TZNAME:CST
DTSTART:20251102T070000
END:STANDARD
END:VTIMEZONE
BEGIN:VEVENT
DTSTART;TZID=America/Chicago:20240604T130000
DTEND;TZID=America/Chicago:20240604T140000
DTSTAMP:20260419T150108
CREATED:20231205T164129Z
LAST-MODIFIED:20240502T194803Z
UID:10000850-1717506000-1717509600@mahometpubliclibrary.org
SUMMARY:Adult Crafternoon
DESCRIPTION:Get crafty with your friends or make some new friends!\nJoin us each month as we craft together. You can bring your own project to work on or create a unique craft with instructions and supplies provided by the Library. \nDates and Crafts: \n\nJanuary 9: Make your own candle\nFebruary 6: Heart string art\nMarch 5: Bookmark\nApril 2: Sock bunny\nJune 4: Diamond painting\nJuly 2: Bullet journaling\n\nAdult Crafternoons are part of our Adult Craft Connection Program series.  \nNo registration required. No meeting in May.
URL:https://mahometpubliclibrary.org/event/crafternoon/2024-06-04/
CATEGORIES:Adults
ATTACH;FMTTYPE=image/png:https://mahometpubliclibrary.org/wp-content/uploads/2023/06/September.png
END:VEVENT
BEGIN:VEVENT
DTSTART;TZID=America/Chicago:20240604T180000
DTEND;TZID=America/Chicago:20240604T193000
DTSTAMP:20260419T150108
CREATED:20240502T202706Z
LAST-MODIFIED:20240502T202706Z
UID:10000857-1717524000-1717529400@mahometpubliclibrary.org
SUMMARY:Cookbook Club
DESCRIPTION:This program is perfect for adults who enjoy cooking and sharing food together. All experience levels are welcome! \nThis summer\, choose one of your own favorite recipes to make and share with the group. All of these recipes will be made into a group cookbook that will be shared with all the Cookbook Club participants. \nRegistered participants will receive a link to a Google form to include the name of the dish they will be bringing. Participants may contact Alyssa with any questions. \nRegistration is required.
URL:https://mahometpubliclibrary.org/event/june-cookbook-club/
CATEGORIES:Adults
ATTACH;FMTTYPE=image/png:https://mahometpubliclibrary.org/wp-content/uploads/2023/08/Cookbook-Club_Event-Image_Fall-2023.png
END:VEVENT
BEGIN:VEVENT
DTSTART;TZID=America/Chicago:20240604T190000
DTEND;TZID=America/Chicago:20240604T200000
DTSTAMP:20260419T150108
CREATED:20240125T163535Z
LAST-MODIFIED:20240328T195316Z
UID:10000775-1717527600-1717531200@mahometpubliclibrary.org
SUMMARY:Illinois Libraries Present: The Hidden Gifts of Visual Thinkers wtih Dr. Temple Grandin
DESCRIPTION:Join us for a special event with Dr. Grandin\, one of the world’s most accomplished and well-known adults with autism. Dr. Grandin has been at the forefront of research and activism for autism and neurodiversity for decades. \nHer memoir\, Emergence: Labeled Autistic\, was published in 1986 and she has continued to write about autism and neurodivergence over the decades. Her most recent book is Visual Thinking: The Hidden Gifts of People Who Think in Pictures\, Patterns\, and Abstractions. \nDr. Grandin’s research and understanding of animal behavior spearheaded a reform in the quality of life for agricultural animals worldwide. \nVia Zoom. Please register below. \n  \nThis event is made possible by Illinois Libraries Present (ILP)\, a statewide collaboration among public libraries offering premier events. ILP is funded in part by a grant awarded by the Illinois State Library\, a department of the Office of Secretary of State\, using funds provided by the U.S. Institute of Museum and Library Services\, under the provisions of the Library Services and Technology Act (LSTA).  \nILP is committed to inclusion and accessibility. To request accommodations\, please email illinoislibrariespresent@gmail.com.
URL:https://mahometpubliclibrary.org/event/drtemplegrandin/
CATEGORIES:Adults
ATTACH;FMTTYPE=image/png:https://mahometpubliclibrary.org/wp-content/uploads/2024/01/Temple-Grandin_Event-Image_April-2024.png
END:VEVENT
END:VCALENDAR