BEGIN:VCALENDAR
VERSION:2.0
PRODID:-//Mahomet Public Library - ECPv6.15.11//NONSGML v1.0//EN
CALSCALE:GREGORIAN
METHOD:PUBLISH
X-ORIGINAL-URL:https://mahometpubliclibrary.org
X-WR-CALDESC:Events for Mahomet Public Library
REFRESH-INTERVAL;VALUE=DURATION:PT1H
X-Robots-Tag:noindex
X-PUBLISHED-TTL:PT1H
BEGIN:VTIMEZONE
TZID:America/Chicago
BEGIN:DAYLIGHT
TZOFFSETFROM:-0600
TZOFFSETTO:-0500
TZNAME:CDT
DTSTART:20230312T080000
END:DAYLIGHT
BEGIN:STANDARD
TZOFFSETFROM:-0500
TZOFFSETTO:-0600
TZNAME:CST
DTSTART:20231105T070000
END:STANDARD
BEGIN:DAYLIGHT
TZOFFSETFROM:-0600
TZOFFSETTO:-0500
TZNAME:CDT
DTSTART:20240310T080000
END:DAYLIGHT
BEGIN:STANDARD
TZOFFSETFROM:-0500
TZOFFSETTO:-0600
TZNAME:CST
DTSTART:20241103T070000
END:STANDARD
BEGIN:DAYLIGHT
TZOFFSETFROM:-0600
TZOFFSETTO:-0500
TZNAME:CDT
DTSTART:20250309T080000
END:DAYLIGHT
BEGIN:STANDARD
TZOFFSETFROM:-0500
TZOFFSETTO:-0600
TZNAME:CST
DTSTART:20251102T070000
END:STANDARD
END:VTIMEZONE
BEGIN:VEVENT
DTSTART;TZID=America/Chicago:20240321T140000
DTEND;TZID=America/Chicago:20240321T150000
DTSTAMP:20260419T192446
CREATED:20240216T005138Z
LAST-MODIFIED:20240216T005241Z
UID:10000786-1711029600-1711033200@mahometpubliclibrary.org
SUMMARY:RESCHEDULED Treats and Topics: Understanding Medicare
DESCRIPTION:The Library was closed due to snow on the day of January’s Treats and Topics session. The session has been rescheduled for Thursday\, March 21 from 2:00-3:00 pm! Join Nicole Mitchell of Champaign County Healthcare Consumers as she discusses Medicare.  \nDesigned for our retired adults\, each month promises an exciting speaker with insights on various topics\, accompanied by delightful treats! Join us for a thrilling blend of knowledge…and indulgence! \n  \nSee all our upcoming Senior Treats and Topics sessions here. \n  \nNo registration required.
URL:https://mahometpubliclibrary.org/event/understandingmedicare/
CATEGORIES:Adults
ATTACH;FMTTYPE=image/png:https://mahometpubliclibrary.org/wp-content/uploads/2023/12/Treats-Topics_Event-Image_Winter-Spring-2024.png
END:VEVENT
BEGIN:VEVENT
DTSTART;TZID=America/Chicago:20240321T183000
DTEND;TZID=America/Chicago:20240321T200000
DTSTAMP:20260419T192446
CREATED:20240118T224124Z
LAST-MODIFIED:20240213T203006Z
UID:10000769-1711045800-1711051200@mahometpubliclibrary.org
SUMMARY:CANCELED: Difficult Discussions
DESCRIPTION:The Winter Difficult Discussion series has been canceled. Please read Library Director John Howard’s full statement and reasoning here. \nIs it possible to discuss “difficult” or divisive issues without resorting to yelling\, name calling or simply spouting slogans? How can we solve our society’s most challenging issues without talking to each other? Mahomet Public Library Director John Howard believes that learning to discuss divisive issues is desperately needed in our communities\, and is out to show that it is possible. Come listen and participate while local experts and members of the community dig into some of our most divisive issues\, with the hope that all of us can improve our ability to do the same. \nDates and Topics:\nJanuary 25: Gun Violence and Gun Control CANCELED DUE TO SPEAKER CANCELLATION\nFebruary 22: Immigration in America\nMarch 21: The Role of Police in Society \nFor adults. No registration required.
URL:https://mahometpubliclibrary.org/event/marchdifficultdiscussions/
CATEGORIES:Adults
ATTACH;FMTTYPE=image/png:https://mahometpubliclibrary.org/wp-content/uploads/2023/12/Difficult-Discussions_Event-Image_Winter-Spring-2024.png
END:VEVENT
BEGIN:VEVENT
DTSTART;TZID=America/Chicago:20240321T190000
DTEND;TZID=America/Chicago:20240321T200000
DTSTAMP:20260419T192446
CREATED:20231205T203852Z
LAST-MODIFIED:20240201T191649Z
UID:10000758-1711047600-1711051200@mahometpubliclibrary.org
SUMMARY:CANCELED: Spring Critical Conversations Book Club
DESCRIPTION:THIS BOOK CLUB HAS BEEN CANCELED. STAY TUNED FOR FUTURE CRITICAL CONVERSATIONS BOOK CLUB SESSIONS. \nJoin us on Zoom for Critical Conversations\, a book club focused on important cultural topics in contemporary society. This spring\, we’ll be reading 400 Souls: A Community History of African America\, 1619-2019\, edited by Ibram Kendi and Keisha Blain. \nDates: \nMarch 21 \nApril 11 \nApril 25 \n  \nAdults. Registration is required. After you register\, you will receive the link for the Zoom meeting.
URL:https://mahometpubliclibrary.org/event/spring-critical-conversations/2024-03-21/
CATEGORIES:Adults
ATTACH;FMTTYPE=image/png:https://mahometpubliclibrary.org/wp-content/uploads/2023/12/Spring-Critical-Conversations_Event-Image_Spring-2024.png
END:VEVENT
END:VCALENDAR