BEGIN:VCALENDAR
VERSION:2.0
PRODID:-//Mahomet Public Library - ECPv6.15.11//NONSGML v1.0//EN
CALSCALE:GREGORIAN
METHOD:PUBLISH
X-ORIGINAL-URL:https://mahometpubliclibrary.org
X-WR-CALDESC:Events for Mahomet Public Library
REFRESH-INTERVAL;VALUE=DURATION:PT1H
X-Robots-Tag:noindex
X-PUBLISHED-TTL:PT1H
BEGIN:VTIMEZONE
TZID:America/Chicago
BEGIN:DAYLIGHT
TZOFFSETFROM:-0600
TZOFFSETTO:-0500
TZNAME:CDT
DTSTART:20230312T080000
END:DAYLIGHT
BEGIN:STANDARD
TZOFFSETFROM:-0500
TZOFFSETTO:-0600
TZNAME:CST
DTSTART:20231105T070000
END:STANDARD
BEGIN:DAYLIGHT
TZOFFSETFROM:-0600
TZOFFSETTO:-0500
TZNAME:CDT
DTSTART:20240310T080000
END:DAYLIGHT
BEGIN:STANDARD
TZOFFSETFROM:-0500
TZOFFSETTO:-0600
TZNAME:CST
DTSTART:20241103T070000
END:STANDARD
BEGIN:DAYLIGHT
TZOFFSETFROM:-0600
TZOFFSETTO:-0500
TZNAME:CDT
DTSTART:20250309T080000
END:DAYLIGHT
BEGIN:STANDARD
TZOFFSETFROM:-0500
TZOFFSETTO:-0600
TZNAME:CST
DTSTART:20251102T070000
END:STANDARD
END:VTIMEZONE
BEGIN:VEVENT
DTSTART;TZID=America/Chicago:20240222T183000
DTEND;TZID=America/Chicago:20240222T200000
DTSTAMP:20260419T204858
CREATED:20240118T224216Z
LAST-MODIFIED:20240213T202925Z
UID:10000768-1708626600-1708632000@mahometpubliclibrary.org
SUMMARY:CANCELED: Difficult Discussions
DESCRIPTION:The Winter Difficult Discussion series has been canceled. Please read Library Director John Howard’s full statement and reasoning here. \nIs it possible to discuss “difficult” or divisive issues without resorting to yelling\, name calling or simply spouting slogans? How can we solve our society’s most challenging issues without talking to each other? Mahomet Public Library Director John Howard believes that learning to discuss divisive issues is desperately needed in our communities\, and is out to show that it is possible. Come listen and participate while local experts and members of the community dig into some of our most divisive issues\, with the hope that all of us can improve our ability to do the same. \nDates and Topics:\nJanuary 25: Gun Violence and Gun Control CANCELED DUE TO SPEAKER CANCELLATION\nFebruary 22: Immigration in America\nMarch 21: The Role of Police in Society \nFor adults. No registration required.
URL:https://mahometpubliclibrary.org/event/februarydifficultdiscussions/
CATEGORIES:Adults
ATTACH;FMTTYPE=image/png:https://mahometpubliclibrary.org/wp-content/uploads/2023/12/Difficult-Discussions_Event-Image_Winter-Spring-2024.png
END:VEVENT
END:VCALENDAR