BEGIN:VCALENDAR
VERSION:2.0
PRODID:-//Mahomet Public Library - ECPv6.15.11//NONSGML v1.0//EN
CALSCALE:GREGORIAN
METHOD:PUBLISH
X-ORIGINAL-URL:https://mahometpubliclibrary.org
X-WR-CALDESC:Events for Mahomet Public Library
REFRESH-INTERVAL;VALUE=DURATION:PT1H
X-Robots-Tag:noindex
X-PUBLISHED-TTL:PT1H
BEGIN:VTIMEZONE
TZID:America/Chicago
BEGIN:DAYLIGHT
TZOFFSETFROM:-0600
TZOFFSETTO:-0500
TZNAME:CDT
DTSTART:20220313T080000
END:DAYLIGHT
BEGIN:STANDARD
TZOFFSETFROM:-0500
TZOFFSETTO:-0600
TZNAME:CST
DTSTART:20221106T070000
END:STANDARD
BEGIN:DAYLIGHT
TZOFFSETFROM:-0600
TZOFFSETTO:-0500
TZNAME:CDT
DTSTART:20230312T080000
END:DAYLIGHT
BEGIN:STANDARD
TZOFFSETFROM:-0500
TZOFFSETTO:-0600
TZNAME:CST
DTSTART:20231105T070000
END:STANDARD
BEGIN:DAYLIGHT
TZOFFSETFROM:-0600
TZOFFSETTO:-0500
TZNAME:CDT
DTSTART:20240310T080000
END:DAYLIGHT
BEGIN:STANDARD
TZOFFSETFROM:-0500
TZOFFSETTO:-0600
TZNAME:CST
DTSTART:20241103T070000
END:STANDARD
END:VTIMEZONE
BEGIN:VEVENT
DTSTART;VALUE=DATE:20231127
DTEND;VALUE=DATE:20231201
DTSTAMP:20260419T233949
CREATED:20230816T010612Z
LAST-MODIFIED:20230907T034946Z
UID:10000348-1701050400-1701309599@mahometpubliclibrary.org
SUMMARY:Adult Take and Make Kit: Pressed Flower Lantern
DESCRIPTION:Take home a craft to make! Our take-and-make crafts come with all the supplies needed for a project. \n  \nCrafts: \nBeginning September 25: Clay leaf dish \nBeginning October 30: Embroidery hoop spider webs \nBeginning November 27: Pressed flower lantern \n  \nStop by the Library to pick up a free kit. Kits are available while supplies last. Limit one kit per person\, please! \nAdult take-and-make crafts are part of our Adult Craft Connection series.
URL:https://mahometpubliclibrary.org/event/novembertakeandmake/
CATEGORIES:Adults
ATTACH;FMTTYPE=image/png:https://mahometpubliclibrary.org/wp-content/uploads/2023/08/Adult-Take-and-Makes_Event-Image_Fall-2023.png
END:VEVENT
END:VCALENDAR