BEGIN:VCALENDAR
VERSION:2.0
PRODID:-//Mahomet Public Library - ECPv6.15.11//NONSGML v1.0//EN
CALSCALE:GREGORIAN
METHOD:PUBLISH
X-ORIGINAL-URL:https://mahometpubliclibrary.org
X-WR-CALDESC:Events for Mahomet Public Library
REFRESH-INTERVAL;VALUE=DURATION:PT1H
X-Robots-Tag:noindex
X-PUBLISHED-TTL:PT1H
BEGIN:VTIMEZONE
TZID:America/Chicago
BEGIN:DAYLIGHT
TZOFFSETFROM:-0600
TZOFFSETTO:-0500
TZNAME:CDT
DTSTART:20220313T080000
END:DAYLIGHT
BEGIN:STANDARD
TZOFFSETFROM:-0500
TZOFFSETTO:-0600
TZNAME:CST
DTSTART:20221106T070000
END:STANDARD
BEGIN:DAYLIGHT
TZOFFSETFROM:-0600
TZOFFSETTO:-0500
TZNAME:CDT
DTSTART:20230312T080000
END:DAYLIGHT
BEGIN:STANDARD
TZOFFSETFROM:-0500
TZOFFSETTO:-0600
TZNAME:CST
DTSTART:20231105T070000
END:STANDARD
BEGIN:DAYLIGHT
TZOFFSETFROM:-0600
TZOFFSETTO:-0500
TZNAME:CDT
DTSTART:20240310T080000
END:DAYLIGHT
BEGIN:STANDARD
TZOFFSETFROM:-0500
TZOFFSETTO:-0600
TZNAME:CST
DTSTART:20241103T070000
END:STANDARD
END:VTIMEZONE
BEGIN:VEVENT
DTSTART;TZID=America/Chicago:20231108T190000
DTEND;TZID=America/Chicago:20231108T200000
DTSTAMP:20260420T013116
CREATED:20230912T163254Z
LAST-MODIFIED:20231030T162533Z
UID:10000543-1699470000-1699473600@mahometpubliclibrary.org
SUMMARY:Illinois Libraries Present: A Taste of Love with Maya-Camille Broussard
DESCRIPTION:Join Maya Camille Broussard\, star of Netflix’s Bake Squad\, owner of Chicago based Justice of the Pies\, and cookbook author\, for a demo from her kitchen. Just in time for Thanksgiving\, Chef Maya-Camille will share her love of pie\, stories of those that inspired her\, and tips and tricks to help you make the perfect pie.  \nBroussard uses her love of food to have a positive impact on the local community. She offers an “I Knead Love” workshop several times each year for children from lower-income communities to learn basic cooking skills\, healthy eating habits\, and nutrition. She founded Justice of the Pies in 2014\, to honor her late father\, The Pie Master. The bakery with a social mission has partnered with many Chicago area charities to provide meals for communities on the South and West sides and with Frontline Foods\, to provide food from restaurants for front-line workers during the COVID pandemic. Her first book\, Justice of the Pies: Sweet and Savory Pies\, Quiches and Tarts Plus Inspirational Stories from Exceptional People\, was published in 2022. In the summer of 2023\, Broussard opened her first Justice of the Pies storefront on the South Side of Chicago to rave reviews. Being hearing impaired\, Broussard works hard to set an example for young bakers by telling the story of her struggles and success\, and works to celebrate the atypical through her baking. \nVia Zoom. Registration is required. \n  \nThis event is made possible by Illinois Libraries Present\, a statewide collaboration among public libraries offering premier events. ILP is funded in part by a grant awarded by the Illinois State Library\, a department of the Office of Secretary of State\, using funds provided by the U.S. Institute of Museum and Library Services\, under the provisions of the Library Services and Technology Act (LSTA).
URL:https://mahometpubliclibrary.org/event/mayacamillebroussard/
CATEGORIES:Adults
ATTACH;FMTTYPE=image/png:https://mahometpubliclibrary.org/wp-content/uploads/2023/09/Maya-Camille-Broussard_Event-Image_October-2023.png
END:VEVENT
END:VCALENDAR