BEGIN:VCALENDAR
VERSION:2.0
PRODID:-//Mahomet Public Library - ECPv6.15.11//NONSGML v1.0//EN
CALSCALE:GREGORIAN
METHOD:PUBLISH
X-WR-CALNAME:Mahomet Public Library
X-ORIGINAL-URL:https://mahometpubliclibrary.org
X-WR-CALDESC:Events for Mahomet Public Library
REFRESH-INTERVAL;VALUE=DURATION:PT1H
X-Robots-Tag:noindex
X-PUBLISHED-TTL:PT1H
BEGIN:VTIMEZONE
TZID:America/Chicago
BEGIN:DAYLIGHT
TZOFFSETFROM:-0600
TZOFFSETTO:-0500
TZNAME:CDT
DTSTART:20220313T080000
END:DAYLIGHT
BEGIN:STANDARD
TZOFFSETFROM:-0500
TZOFFSETTO:-0600
TZNAME:CST
DTSTART:20221106T070000
END:STANDARD
BEGIN:DAYLIGHT
TZOFFSETFROM:-0600
TZOFFSETTO:-0500
TZNAME:CDT
DTSTART:20230312T080000
END:DAYLIGHT
BEGIN:STANDARD
TZOFFSETFROM:-0500
TZOFFSETTO:-0600
TZNAME:CST
DTSTART:20231105T070000
END:STANDARD
BEGIN:DAYLIGHT
TZOFFSETFROM:-0600
TZOFFSETTO:-0500
TZNAME:CDT
DTSTART:20240310T080000
END:DAYLIGHT
BEGIN:STANDARD
TZOFFSETFROM:-0500
TZOFFSETTO:-0600
TZNAME:CST
DTSTART:20241103T070000
END:STANDARD
END:VTIMEZONE
BEGIN:VEVENT
DTSTART;TZID=America/Chicago:20231104T140000
DTEND;TZID=America/Chicago:20231104T150000
DTSTAMP:20260420T012758
CREATED:20230823T083831Z
LAST-MODIFIED:20231003T200129Z
UID:10000344-1699106400-1699110000@mahometpubliclibrary.org
SUMMARY:Pen to Paper: Creative Writing Workshop for Adults
DESCRIPTION:Get creative! This monthly writing workshop is for adults (ages 18+). Writers will have a chance to share their work and receive feedback from fellow writers. \nRegistration is required.
URL:https://mahometpubliclibrary.org/event/novemberpentopaper/
CATEGORIES:Adults
ATTACH;FMTTYPE=image/png:https://mahometpubliclibrary.org/wp-content/uploads/2023/08/Pen-to-Paper_Event-Image_Fall-2023.png
END:VEVENT
END:VCALENDAR