BEGIN:VCALENDAR
VERSION:2.0
PRODID:-//Mahomet Public Library - ECPv6.15.11//NONSGML v1.0//EN
CALSCALE:GREGORIAN
METHOD:PUBLISH
X-WR-CALNAME:Mahomet Public Library
X-ORIGINAL-URL:https://mahometpubliclibrary.org
X-WR-CALDESC:Events for Mahomet Public Library
REFRESH-INTERVAL;VALUE=DURATION:PT1H
X-Robots-Tag:noindex
X-PUBLISHED-TTL:PT1H
BEGIN:VTIMEZONE
TZID:America/Chicago
BEGIN:DAYLIGHT
TZOFFSETFROM:-0600
TZOFFSETTO:-0500
TZNAME:CDT
DTSTART:20220313T080000
END:DAYLIGHT
BEGIN:STANDARD
TZOFFSETFROM:-0500
TZOFFSETTO:-0600
TZNAME:CST
DTSTART:20221106T070000
END:STANDARD
BEGIN:DAYLIGHT
TZOFFSETFROM:-0600
TZOFFSETTO:-0500
TZNAME:CDT
DTSTART:20230312T080000
END:DAYLIGHT
BEGIN:STANDARD
TZOFFSETFROM:-0500
TZOFFSETTO:-0600
TZNAME:CST
DTSTART:20231105T070000
END:STANDARD
BEGIN:DAYLIGHT
TZOFFSETFROM:-0600
TZOFFSETTO:-0500
TZNAME:CDT
DTSTART:20240310T080000
END:DAYLIGHT
BEGIN:STANDARD
TZOFFSETFROM:-0500
TZOFFSETTO:-0600
TZNAME:CST
DTSTART:20241103T070000
END:STANDARD
END:VTIMEZONE
BEGIN:VEVENT
DTSTART;TZID=America/Chicago:20231102T183000
DTEND;TZID=America/Chicago:20231102T193000
DTSTAMP:20260420T012758
CREATED:20230805T231654Z
LAST-MODIFIED:20230907T035529Z
UID:10000334-1698949800-1698953400@mahometpubliclibrary.org
SUMMARY:How to Love Your Family When You Hate Their Politics
DESCRIPTION:The holidays are coming and that means time with family. How do you navigate these get-togethers when\, too often\, the conversation turns to politics or other hot-button issues? \nThe staff of Rock Counseling Group will offer us some tips on: \n\nmanaging controversial topics when they arise\nsetting appropriate boundaries and ground rules for family gatherings\nmaintaining loving relationships with family members whose viewpoints clash with yours\nprotecting your own emotional and mental health\n\nNo registration required.
URL:https://mahometpubliclibrary.org/event/rockcounseling/
CATEGORIES:Adults
ATTACH;FMTTYPE=image/png:https://mahometpubliclibrary.org/wp-content/uploads/2023/08/Love-Your-Family_Event-Image_November-2023.png
END:VEVENT
BEGIN:VEVENT
DTSTART;TZID=America/Chicago:20231102T190000
DTEND;TZID=America/Chicago:20231102T200000
DTSTAMP:20260420T012758
CREATED:20230823T090851Z
LAST-MODIFIED:20230907T035449Z
UID:10000350-1698951600-1698955200@mahometpubliclibrary.org
SUMMARY:Critical Conversations Book Club
DESCRIPTION:Join us on Zoom for Critical Conversations\, a book club focused on important cultural topics in contemporary society. This fall\, we’ll be reading Eloquent Rage by Brittney Cooper. \nBook Club Dates: \nOctober 12 \nNovember 2 \nNovember 16 \nRegistration is required. After you register\, you will receive the link for the Zoom meeting.
URL:https://mahometpubliclibrary.org/event/nov2criticalconversations/
CATEGORIES:Adults
ATTACH;FMTTYPE=image/png:https://mahometpubliclibrary.org/wp-content/uploads/2023/08/Critical-Conversations_Event-Image_Fall-2023.png
END:VEVENT
END:VCALENDAR