BEGIN:VCALENDAR
VERSION:2.0
PRODID:-//Mahomet Public Library - ECPv6.15.11//NONSGML v1.0//EN
CALSCALE:GREGORIAN
METHOD:PUBLISH
X-WR-CALNAME:Mahomet Public Library
X-ORIGINAL-URL:https://mahometpubliclibrary.org
X-WR-CALDESC:Events for Mahomet Public Library
REFRESH-INTERVAL;VALUE=DURATION:PT1H
X-Robots-Tag:noindex
X-PUBLISHED-TTL:PT1H
BEGIN:VTIMEZONE
TZID:America/Chicago
BEGIN:DAYLIGHT
TZOFFSETFROM:-0600
TZOFFSETTO:-0500
TZNAME:CDT
DTSTART:20220313T080000
END:DAYLIGHT
BEGIN:STANDARD
TZOFFSETFROM:-0500
TZOFFSETTO:-0600
TZNAME:CST
DTSTART:20221106T070000
END:STANDARD
BEGIN:DAYLIGHT
TZOFFSETFROM:-0600
TZOFFSETTO:-0500
TZNAME:CDT
DTSTART:20230312T080000
END:DAYLIGHT
BEGIN:STANDARD
TZOFFSETFROM:-0500
TZOFFSETTO:-0600
TZNAME:CST
DTSTART:20231105T070000
END:STANDARD
BEGIN:DAYLIGHT
TZOFFSETFROM:-0600
TZOFFSETTO:-0500
TZNAME:CDT
DTSTART:20240310T080000
END:DAYLIGHT
BEGIN:STANDARD
TZOFFSETFROM:-0500
TZOFFSETTO:-0600
TZNAME:CST
DTSTART:20241103T070000
END:STANDARD
END:VTIMEZONE
BEGIN:VEVENT
DTSTART;TZID=America/Chicago:20230928T183000
DTEND;TZID=America/Chicago:20230928T200000
DTSTAMP:20260420T050548
CREATED:20230916T170521Z
LAST-MODIFIED:20230916T180932Z
UID:10000545-1695925800-1695931200@mahometpubliclibrary.org
SUMMARY:An Evening with the Director: a Friends Only Program
DESCRIPTION:This special program is open only to members of the Friends of the Mahomet Public Library! \nLibrary Director John Howard invites all members of the Friends of the Library to a special evening at the library. During this special event\, John will \n\nshare inside information about upcoming changes at the Library\,\npreview some of the upcoming new releases he is most excited about\, along with recent books he loves that are available now\, and\ninvite members to take part in a variety of special volunteer activities at the Library.\n\nAs a special activity during this Evening with the Director\, each Friend who attends will be invited to go out into the Library and choose 5-10 books that they have read and love. These will be used for a special display called “Recommended by the Friends\,” displayed throughout the month of October. \nNot a Friend of the Library but like to attend? Membership is only $5/year per individual or $10/year per family. You can join now or at the door to get your invitation to this “Friends Only” event. More information is available on our Friends of the Library page. \nNo registration required.
URL:https://mahometpubliclibrary.org/event/eveningwiththedirector/
CATEGORIES:Adults
ATTACH;FMTTYPE=image/png:https://mahometpubliclibrary.org/wp-content/uploads/2023/09/Friends-Evening_Event-Image_September-2023.png
END:VEVENT
END:VCALENDAR