BEGIN:VCALENDAR
VERSION:2.0
PRODID:-//Mahomet Public Library - ECPv6.15.11//NONSGML v1.0//EN
CALSCALE:GREGORIAN
METHOD:PUBLISH
X-ORIGINAL-URL:https://mahometpubliclibrary.org
X-WR-CALDESC:Events for Mahomet Public Library
REFRESH-INTERVAL;VALUE=DURATION:PT1H
X-Robots-Tag:noindex
X-PUBLISHED-TTL:PT1H
BEGIN:VTIMEZONE
TZID:America/Chicago
BEGIN:DAYLIGHT
TZOFFSETFROM:-0600
TZOFFSETTO:-0500
TZNAME:CDT
DTSTART:20230312T080000
END:DAYLIGHT
BEGIN:STANDARD
TZOFFSETFROM:-0500
TZOFFSETTO:-0600
TZNAME:CST
DTSTART:20231105T070000
END:STANDARD
BEGIN:DAYLIGHT
TZOFFSETFROM:-0600
TZOFFSETTO:-0500
TZNAME:CDT
DTSTART:20240310T080000
END:DAYLIGHT
BEGIN:STANDARD
TZOFFSETFROM:-0500
TZOFFSETTO:-0600
TZNAME:CST
DTSTART:20241103T070000
END:STANDARD
BEGIN:DAYLIGHT
TZOFFSETFROM:-0600
TZOFFSETTO:-0500
TZNAME:CDT
DTSTART:20250309T080000
END:DAYLIGHT
BEGIN:STANDARD
TZOFFSETFROM:-0500
TZOFFSETTO:-0600
TZNAME:CST
DTSTART:20251102T070000
END:STANDARD
END:VTIMEZONE
BEGIN:VEVENT
DTSTART;TZID=America/Chicago:20240903T180000
DTEND;TZID=America/Chicago:20240903T193000
DTSTAMP:20260419T093338
CREATED:20240806T185450Z
LAST-MODIFIED:20240806T190305Z
UID:10000916-1725386400-1725391800@mahometpubliclibrary.org
SUMMARY:Cookbook Club: The Weekday Vegetarians
DESCRIPTION:Join us at the Library to explore new recipes\, share cooking tips\, and enjoy delicious food together! This program is intended for adults who enjoy cooking and sharing food together. All experience levels are welcome. Each Cookbook Club will feature a selected cookbook and attendees will bring a dish from the book to share. \nCopies of the cookbook will be available one month in advance at the Library’s Circulation Desk. Registered participants will receive a link to a Google form to include the name of the dish they will be bringing. Participants may contact Alyssa with any questions. \nRegistration is required. \n  \nDates and Cookbooks: \nTuesday\, September 3: The Weekday Vegetarians by Jenny Rosenstrach \nThursday\, November 7: Brilliant Bites by Maegan Brown
URL:https://mahometpubliclibrary.org/event/september-cookbook-club/
CATEGORIES:Adults
ATTACH;FMTTYPE=image/png:https://mahometpubliclibrary.org/wp-content/uploads/2023/08/Cookbook-Club_Event-Image_Fall-2023.png
END:VEVENT
BEGIN:VEVENT
DTSTART;TZID=America/Chicago:20240907T100000
DTEND;TZID=America/Chicago:20240907T113000
DTSTAMP:20260419T093338
CREATED:20240806T204138Z
LAST-MODIFIED:20240806T204212Z
UID:10000999-1725703200-1725708600@mahometpubliclibrary.org
SUMMARY:Stitching Circle
DESCRIPTION:Connect with fellow crafters\, share your skills\, and learn from others! Whether you are an expert or novice\, there is something for everyone in our circle. We’ll provide some materials\, or you can bring your own project (maybe one you’ve been procrastinating on!). \nAll skill levels are welcome and there is not need to register. Spread the word and invite your friends. We can’t wait to see you there! \n\nDates and Times: \nSaturday\, September 7: 10:00-11:30 am \nSaturday\, October 5: 10:00-11:30 am \nSaturday\, November 2: 1:00-2:30 pm \n  \nStitching Circle is a part of our Adult Craft Connection Program series. No registration required. \n 
URL:https://mahometpubliclibrary.org/event/fall-stitching-circle/2024-09-07/
CATEGORIES:Adults
ATTACH;FMTTYPE=image/png:https://mahometpubliclibrary.org/wp-content/uploads/2024/08/Stitching-Circle_Event-Image_2024.png
END:VEVENT
BEGIN:VEVENT
DTSTART;TZID=America/Chicago:20240910T183000
DTEND;TZID=America/Chicago:20240910T200000
DTSTAMP:20260419T093338
CREATED:20240806T205139Z
LAST-MODIFIED:20241114T171351Z
UID:10001002-1725993000-1725998400@mahometpubliclibrary.org
SUMMARY:Tuesday Night Book Club
DESCRIPTION:Join us at the Library on the second Tuesday of each month as we discuss that month’s great read! \nAugust 13: The Wishing Game by Meg Shaffer \nSeptember 10: Once Upon a Wardrobe by Patti Callahan Henry \nOctober 8: Yellowface by R.F. Kuang \nNovember 12: Lady Tan’s Circle of Women by Lisa See \nDecember 10: Holiday Party \nNo registration required. \n  \nMore information about our December meeting: \nOur December meeting will be a festive gathering to celebrate a year of reading! We will not feature a specific book\, but we will have bookish fun and camaraderie. We will play some games (including gifts and free books)\, enjoy snacks\, and reflect on our favorite reads from the past year. No need to bring anything but yourself and a list of some of your favorite recent reads.  \n  \nWondering what books we’ve previously read for Tuesday Night Book Club? Check out our Tuesday Night Book Club Picks list!
URL:https://mahometpubliclibrary.org/event/fall-tuesday-night-book-club/2024-09-10/
CATEGORIES:Adults
ATTACH;FMTTYPE=image/png:https://mahometpubliclibrary.org/wp-content/uploads/2024/08/Tuesday-Night-Book-Club_Event-Image.png
END:VEVENT
BEGIN:VEVENT
DTSTART;TZID=America/Chicago:20240911T143000
DTEND;TZID=America/Chicago:20240911T163000
DTSTAMP:20260419T093338
CREATED:20240906T031841Z
LAST-MODIFIED:20240906T031841Z
UID:10001070-1726065000-1726072200@mahometpubliclibrary.org
SUMMARY:Voter Registration & Voting Information Table
DESCRIPTION:Your vote matters! Volunteers from the nonpartisan Champaign County League of Women Voters will have a voter information-registration table at the Mahomet Library on Wednesday\, September 11 from 2:30-4:30 pm. \nStop by the table to: \n\nConfirm you’re registered to vote at your current address.\nRegister to vote if you’re not already registered.\nLearn about upcoming candidate forums\, candidate meet-and-great opportunities\, and nonpartisan candidate resources.\nGet answers to your questions about voting and elections.
URL:https://mahometpubliclibrary.org/event/september-voting-table/
CATEGORIES:Adults
ATTACH;FMTTYPE=image/png:https://mahometpubliclibrary.org/wp-content/uploads/2024/09/Voting-Information-Table_Event-Image.png
END:VEVENT
BEGIN:VEVENT
DTSTART;TZID=America/Chicago:20240912T100000
DTEND;TZID=America/Chicago:20240912T110000
DTSTAMP:20260419T093338
CREATED:20240813T152932Z
LAST-MODIFIED:20240829T210324Z
UID:10001006-1726135200-1726138800@mahometpubliclibrary.org
SUMMARY:Senior Treats and Topics
DESCRIPTION:Join us for a thrilling blend of knowledge…and indulgence! Each month promises an exciting speaker with insights on various topics\, accompanied by delightful treats! It is not necessary to be a senior to attend. \nDates and Topics: \n\nSeptember 12: Adult Healthcare Options with Sandy Hockman from Evergreen Place\n\nThis session will explore the senior living options in the area and covers the spectrum from independent living and assisted living to skilled nursing and hospice care. \n\nOctober 3: Estate Planning with Theodore Facer from Facer Law Office\n\nEstate planning is a necessary\, but often complex area of legal and financial management. This session will cover key topics to help you understand and navigate the process. \n\nNovember 7: Dementia and Communication with Sandy Hockman from Evergreen Place\n\nCommunicating with someone living with dementia can be challenging. This session will provide knowledge on how to positively interact to create a successful and less frustrating experience for everyone involved. \n\nDecember 12: Holiday Music Memory Game with Library Staff\n\nEnjoy a festive activity to challenge your memory! \n  \nFor adults. No registration required.
URL:https://mahometpubliclibrary.org/event/senior-treats-and-topics/2024-09-12/
CATEGORIES:Adults
ATTACH;FMTTYPE=image/png:https://mahometpubliclibrary.org/wp-content/uploads/2023/12/Treats-Topics_Event-Image_Winter-Spring-2024.png
END:VEVENT
BEGIN:VEVENT
DTSTART;TZID=America/Chicago:20240917T130000
DTEND;TZID=America/Chicago:20240917T140000
DTSTAMP:20260419T093338
CREATED:20240813T154003Z
LAST-MODIFIED:20240813T154021Z
UID:10001011-1726578000-1726581600@mahometpubliclibrary.org
SUMMARY:Adult Crafternoon: Painted Quilt Block
DESCRIPTION:Join us for creativity\, conversation\, and fun each month at the Library! Learn a new skill and make a craft with supplies provided by the Library. \nDates and Crafts: \nSeptember 17: Painted Quilt Block \nOctober 15: Upcycled Ghost Painting \nNovember 19: Intro to Needle Felting \nFor adults. Registration required (register for each session individually).
URL:https://mahometpubliclibrary.org/event/fall-crafternoon-2024-09-17/
CATEGORIES:Adults
ATTACH;FMTTYPE=image/png:https://mahometpubliclibrary.org/wp-content/uploads/2023/06/September.png
END:VEVENT
BEGIN:VEVENT
DTSTART;TZID=America/Chicago:20240921T100000
DTEND;TZID=America/Chicago:20240921T113000
DTSTAMP:20260419T093338
CREATED:20240813T170819Z
LAST-MODIFIED:20240818T022553Z
UID:10001025-1726912800-1726918200@mahometpubliclibrary.org
SUMMARY:What's It Worth? Antique Appraisal Event
DESCRIPTION:Curious about the value of your heirlooms\, antiques\, or collectibles? This special event\, inspired by Antiques Roadshow\, offers community members the opportunity to have their treasured items evaluated by professional appraiser\, James Hatchel\, of Legacy Auctions. \nWho Should Attend?: Antique enthusiasts & collectors; Individuals with family heirlooms; Anyone curious about the history/value of their possessions \nWhat to Bring?: Up to 2 items for appraisal (Please ensure they are easily transported. No weapons.); Any documentation/provenance related to items (if available) \nFor adults. Registration required if bringing in items for appraisal. No registration is required to watch; walk-ins accommodated if time allows.
URL:https://mahometpubliclibrary.org/event/whats-it-worth/
CATEGORIES:Adults
ATTACH;FMTTYPE=image/png:https://mahometpubliclibrary.org/wp-content/uploads/2024/08/Whats-it-Worth-Antiques-Appraisal-1920-x-1080-px-1.png
END:VEVENT
BEGIN:VEVENT
DTSTART;TZID=America/Chicago:20240930T090000
DTEND;TZID=America/Chicago:20241001T200000
DTSTAMP:20260419T093338
CREATED:20240813T160757Z
LAST-MODIFIED:20240813T160939Z
UID:10001018-1727686800-1727812800@mahometpubliclibrary.org
SUMMARY:Adult Take and Make Kits
DESCRIPTION:Take home a craft to make! Our take-and-make crafts come with all the supplies needed for a project. \n  \nDates and Crafts: \nBeginning September 30: Sun Prints (Cyanotype) \nBeginning October 28: Spooky Tiny Glass Bottle Necklace \nBeginning November 25: Origami Lucky Star Jar \n  \nStop by the Library to pick up a free kit. Kits are available while supplies last. Limit one kit per person\, please! \nAdult take-and-make crafts are part of our Adult Craft Connection series.
URL:https://mahometpubliclibrary.org/event/adult-take-and-make-kits/2024-09-30/
CATEGORIES:Adults
ATTACH;FMTTYPE=image/png:https://mahometpubliclibrary.org/wp-content/uploads/2023/12/Adult-Take-and-Makes_Event-Image.png
END:VEVENT
BEGIN:VEVENT
DTSTART;TZID=America/Chicago:20240930T173000
DTEND;TZID=America/Chicago:20240930T190000
DTSTAMP:20260419T093338
CREATED:20240813T171402Z
LAST-MODIFIED:20240813T171402Z
UID:10001026-1727717400-1727722800@mahometpubliclibrary.org
SUMMARY:I'm a Keepy-Uppy Expert: Perfectly Imperfect Parenting Through the Eyes of Bluey
DESCRIPTION:As parents\, we try to keep all the balls in the air. Different challenges come along\, but we can get creative (and be imperfect) with how we manage them. Join us for this Firm Foundations Parent Session as we take some pointers from our favorite Heeler parents\, Bandit and Chilli\, about how to work through parenting issues such as screen time\, bribing our kids\, mistakes\, date nights\, and difficult topics such as infertility and death – all in an imperfect\, perfectly realistic way. This session is presented by Staci McNicholl\, MSW\, LCSW of The Rock Counseling Group. \nFirm Foundations Parenting Sessions take place at Middletown-Prairie\, with pizza and childcare provided. \n  \nSchedule for the evening: \n5:30 pm: Pizza \n6:00-7:00 pm: Speaker \n  \nIf you need childcare\, please register. Otherwise\, no registration is required. For parents of children enrolled in our Firm Foundations program.
URL:https://mahometpubliclibrary.org/event/keepy-uppy-expert-parenting/
CATEGORIES:Adults
ATTACH;FMTTYPE=image/png:https://mahometpubliclibrary.org/wp-content/uploads/2023/12/FF-Parenting-Sessions_Event-Image_Winter-Spring-2024.png
END:VEVENT
END:VCALENDAR