BEGIN:VCALENDAR
VERSION:2.0
PRODID:-//Mahomet Public Library - ECPv6.15.11//NONSGML v1.0//EN
CALSCALE:GREGORIAN
METHOD:PUBLISH
X-WR-CALNAME:Mahomet Public Library
X-ORIGINAL-URL:https://mahometpubliclibrary.org
X-WR-CALDESC:Events for Mahomet Public Library
REFRESH-INTERVAL;VALUE=DURATION:PT1H
X-Robots-Tag:noindex
X-PUBLISHED-TTL:PT1H
BEGIN:VTIMEZONE
TZID:America/Chicago
BEGIN:DAYLIGHT
TZOFFSETFROM:-0600
TZOFFSETTO:-0500
TZNAME:CDT
DTSTART:20230312T080000
END:DAYLIGHT
BEGIN:STANDARD
TZOFFSETFROM:-0500
TZOFFSETTO:-0600
TZNAME:CST
DTSTART:20231105T070000
END:STANDARD
BEGIN:DAYLIGHT
TZOFFSETFROM:-0600
TZOFFSETTO:-0500
TZNAME:CDT
DTSTART:20240310T080000
END:DAYLIGHT
BEGIN:STANDARD
TZOFFSETFROM:-0500
TZOFFSETTO:-0600
TZNAME:CST
DTSTART:20241103T070000
END:STANDARD
BEGIN:DAYLIGHT
TZOFFSETFROM:-0600
TZOFFSETTO:-0500
TZNAME:CDT
DTSTART:20250309T080000
END:DAYLIGHT
BEGIN:STANDARD
TZOFFSETFROM:-0500
TZOFFSETTO:-0600
TZNAME:CST
DTSTART:20251102T070000
END:STANDARD
END:VTIMEZONE
BEGIN:VEVENT
DTSTART;TZID=America/Chicago:20240702T130000
DTEND;TZID=America/Chicago:20240702T140000
DTSTAMP:20260419T121649
CREATED:20231205T164129Z
LAST-MODIFIED:20240502T194803Z
UID:10000851-1719925200-1719928800@mahometpubliclibrary.org
SUMMARY:Adult Crafternoon
DESCRIPTION:Get crafty with your friends or make some new friends!\nJoin us each month as we craft together. You can bring your own project to work on or create a unique craft with instructions and supplies provided by the Library. \nDates and Crafts: \n\nJanuary 9: Make your own candle\nFebruary 6: Heart string art\nMarch 5: Bookmark\nApril 2: Sock bunny\nJune 4: Diamond painting\nJuly 2: Bullet journaling\n\nAdult Crafternoons are part of our Adult Craft Connection Program series.  \nNo registration required. No meeting in May.
URL:https://mahometpubliclibrary.org/event/crafternoon/2024-07-02/
CATEGORIES:Adults
ATTACH;FMTTYPE=image/png:https://mahometpubliclibrary.org/wp-content/uploads/2023/06/September.png
END:VEVENT
BEGIN:VEVENT
DTSTART;TZID=America/Chicago:20240709T183000
DTEND;TZID=America/Chicago:20240709T200000
DTSTAMP:20260419T121649
CREATED:20231207T213017Z
LAST-MODIFIED:20240502T222257Z
UID:10000875-1720549800-1720555200@mahometpubliclibrary.org
SUMMARY:Tuesday Night Book Club
DESCRIPTION:Join us at the Library on the second Tuesday of each month as we discuss that month’s great read! \nJanuary 16: The Lager Queen of Minnesota by J. Ryan Stradal\nFebruary 13: Maame by Jessica George\nMarch 12: The Dictionary of Lost Words by Pip Williams\nApril 9: Hello Beautiful by Ann Napolitano\nMay 14: Lessons in Chemistry by Bonnie Garmus\nJune 11: Vera Wong’s Unsolicited Advice for Murderers by Jesse Q. Sutano\nJuly 9: Remarkably Bright Creatures by Shelby Van Pelt\nAugust 13: The Wishing Game by Meg Shaffer \nNo registration required. \n  \nWondering what books we’ve previously read for Tuesday Night Book Club? Check out our Tuesday Night Book Club Picks list!
URL:https://mahometpubliclibrary.org/event/tuesday-book-club/2024-07-09/
CATEGORIES:Adults
ATTACH;FMTTYPE=image/png:https://mahometpubliclibrary.org/wp-content/uploads/2023/12/Tuesday-Night-Book-Club_Event-Image_Winter-Spring-2024.png
END:VEVENT
BEGIN:VEVENT
DTSTART;TZID=America/Chicago:20240711T183000
DTEND;TZID=America/Chicago:20240711T193000
DTSTAMP:20260419T121649
CREATED:20240502T225815Z
LAST-MODIFIED:20240502T225815Z
UID:10000885-1720722600-1720726200@mahometpubliclibrary.org
SUMMARY:Yoga on the Lawn
DESCRIPTION:Downward Facing Dog. Warrior Pose. Lotus Position. Join us for a session of yoga on the Library lawn led by Certified Yoga Instructor Colleen Crawford. \nDates and Times: \nThursday\, June 13 at 6:30 pm \nSaturday\, June 29 at 9:30 am \nThursday\, July 11 at 6:30 pm \nSaturday\, July 27 at 9:30 am \nRegistration is required. Register for each session individually. Participants should bring their own yoga mats. \n  \nAbout the Presenter: \nColleen Crawford holds several yoga certifications\, including Yoga 200hr-RYT\, an NSCA Certified Personal Trainer\, a Certified Pre-e and Postnatal Coach\, PiYo\, Turbo Kick\, Insanity\, and Barre Above.
URL:https://mahometpubliclibrary.org/event/yoga-07-11/
CATEGORIES:Adults
ATTACH;FMTTYPE=image/png:https://mahometpubliclibrary.org/wp-content/uploads/2024/05/Yoga-on-the-Lawn_Facebook-Cover_Summer-2024.png
END:VEVENT
BEGIN:VEVENT
DTSTART;TZID=America/Chicago:20240714T140000
DTEND;TZID=America/Chicago:20240714T163000
DTSTAMP:20260419T121649
CREATED:20240503T001347Z
LAST-MODIFIED:20240503T001347Z
UID:10000912-1720965600-1720974600@mahometpubliclibrary.org
SUMMARY:Role With It! Play Reading Group
DESCRIPTION:Join the Library’s play-reading group for theatre enthusiasts! We’ll get together every other month to do a live reading of a full-length play. Participants will be assigned roles and receive their own copy of the script at the meeting. After the reading\, we’ll discuss our thoughts about the play. \nOver the summer\, we’ll meet once in July to read and discuss 12 Angry Jurors. \n  \nFor teens and adults. Registration is required.
URL:https://mahometpubliclibrary.org/event/july-role-with-it/
CATEGORIES:Adults,Teens
ATTACH;FMTTYPE=image/png:https://mahometpubliclibrary.org/wp-content/uploads/2023/12/Role-with-it_Event-Image_WinterSpring-2024.png
END:VEVENT
BEGIN:VEVENT
DTSTART;TZID=America/Chicago:20240716T130000
DTEND;TZID=America/Chicago:20240716T143000
DTSTAMP:20260419T121649
CREATED:20240502T230324Z
LAST-MODIFIED:20240502T230324Z
UID:10000890-1721134800-1721140200@mahometpubliclibrary.org
SUMMARY:Stitching Circle: Learn to Knit
DESCRIPTION:Enjoy a crafty hobby and conversation each month! Participants are welcome to bring their own fiber arts projects (crochet\, knitting\, embroidery\, etc…) or any crafty hobby. Beginners are welcome! A selection of basic supplies will also be available for use. \nDates and Focus: \nJune 18: Learn to Crochet \nJuly 16: Learn to Knit \n  \nStitching Circle is a part of our Adult Craft Connection Program series. No registration required.
URL:https://mahometpubliclibrary.org/event/stitching-circle-knit/
CATEGORIES:Adults
ATTACH;FMTTYPE=image/png:https://mahometpubliclibrary.org/wp-content/uploads/2023/06/Stitching-Circle_Facebook-Cover_Summer-2023.png
END:VEVENT
BEGIN:VEVENT
DTSTART;TZID=America/Chicago:20240720T110000
DTEND;TZID=America/Chicago:20240720T120000
DTSTAMP:20260419T121649
CREATED:20240503T001539Z
LAST-MODIFIED:20240503T001539Z
UID:10000913-1721473200-1721476800@mahometpubliclibrary.org
SUMMARY:Plant Swap
DESCRIPTION:Attention green thumbs and leaf enthusiasts! It’s time for a plantastic exchange! Bring your beloved plants\, cuttings\, and seeds to the Library. Share the plant love and take home some new leafy pals. Just remember to bring your plants in pots you’re ready to bid farewell to\, then let the “plant swap” commence! \nPlant Swap Info: \n\nBring house plants\, seeds\, and/or rooted propagations in soil.\nAll items should come in containers/packaging you are willing to part with AND be labelled with the name and basic care instructions. Example: Spider Plant – water every 5-10 days\, partial sun\n\nSchedule: \n\n11:00-11:30 am: Arrive with your plant(s)\, browse other plants that have been brought in\, mingle with fellow plant-lovers\n11:30 am-12:00 pm: Plant swap (Note: There will be a table for giveaway plants.)\n\nNo registration required. All ages welcome.
URL:https://mahometpubliclibrary.org/event/summer-plant-swap/
CATEGORIES:Adults
ATTACH;FMTTYPE=image/png:https://mahometpubliclibrary.org/wp-content/uploads/2023/12/Plant-Swap_Event-Image_March-2024.png
END:VEVENT
BEGIN:VEVENT
DTSTART;TZID=America/Chicago:20240727T093000
DTEND;TZID=America/Chicago:20240727T103000
DTSTAMP:20260419T121649
CREATED:20240502T225909Z
LAST-MODIFIED:20240502T225909Z
UID:10000886-1722072600-1722076200@mahometpubliclibrary.org
SUMMARY:Yoga on the Lawn
DESCRIPTION:Downward Facing Dog. Warrior Pose. Lotus Position. Join us for a session of yoga on the Library lawn led by Certified Yoga Instructor Colleen Crawford. \nDates and Times: \nThursday\, June 13 at 6:30 pm \nSaturday\, June 29 at 9:30 am \nThursday\, July 11 at 6:30 pm \nSaturday\, July 27 at 9:30 am \nRegistration is required. Register for each session individually. Participants should bring their own yoga mats. \n  \nAbout the Presenter: \nColleen Crawford holds several yoga certifications\, including Yoga 200hr-RYT\, an NSCA Certified Personal Trainer\, a Certified Pre-e and Postnatal Coach\, PiYo\, Turbo Kick\, Insanity\, and Barre Above.
URL:https://mahometpubliclibrary.org/event/yoga-07-27/
CATEGORIES:Adults
ATTACH;FMTTYPE=image/png:https://mahometpubliclibrary.org/wp-content/uploads/2024/05/Yoga-on-the-Lawn_Facebook-Cover_Summer-2024.png
END:VEVENT
BEGIN:VEVENT
DTSTART;VALUE=DATE:20240729
DTEND;VALUE=DATE:20240801
DTSTAMP:20260419T121649
CREATED:20240502T235723Z
LAST-MODIFIED:20240502T235902Z
UID:10000905-1722218400-1722391199@mahometpubliclibrary.org
SUMMARY:Adult Take and Make Kit
DESCRIPTION:Take home a craft to make! Our take-and-make crafts come with all the supplies needed for a project. \n  \nDates and Crafts: \nBeginning June 24: Beaded suncatcher \nBeginning July 29: Beeswax wraps \n  \nStop by the Library to pick up a free kit. Kits are available while supplies last. Limit one kit per person\, please! \nAdult take-and-make crafts are part of our Adult Craft Connection series.
URL:https://mahometpubliclibrary.org/event/adult-take-and-make-kit/2024-07-29/
CATEGORIES:Adults
ATTACH;FMTTYPE=image/png:https://mahometpubliclibrary.org/wp-content/uploads/2023/12/Adult-Take-and-Makes_Event-Image.png
END:VEVENT
END:VCALENDAR