BEGIN:VCALENDAR
VERSION:2.0
PRODID:-//Mahomet Public Library - ECPv6.15.11//NONSGML v1.0//EN
CALSCALE:GREGORIAN
METHOD:PUBLISH
X-WR-CALNAME:Mahomet Public Library
X-ORIGINAL-URL:https://mahometpubliclibrary.org
X-WR-CALDESC:Events for Mahomet Public Library
REFRESH-INTERVAL;VALUE=DURATION:PT1H
X-Robots-Tag:noindex
X-PUBLISHED-TTL:PT1H
BEGIN:VTIMEZONE
TZID:America/Chicago
BEGIN:DAYLIGHT
TZOFFSETFROM:-0600
TZOFFSETTO:-0500
TZNAME:CDT
DTSTART:20250309T080000
END:DAYLIGHT
BEGIN:STANDARD
TZOFFSETFROM:-0500
TZOFFSETTO:-0600
TZNAME:CST
DTSTART:20251102T070000
END:STANDARD
BEGIN:DAYLIGHT
TZOFFSETFROM:-0600
TZOFFSETTO:-0500
TZNAME:CDT
DTSTART:20260308T080000
END:DAYLIGHT
BEGIN:STANDARD
TZOFFSETFROM:-0500
TZOFFSETTO:-0600
TZNAME:CST
DTSTART:20261101T070000
END:STANDARD
BEGIN:DAYLIGHT
TZOFFSETFROM:-0600
TZOFFSETTO:-0500
TZNAME:CDT
DTSTART:20270314T080000
END:DAYLIGHT
BEGIN:STANDARD
TZOFFSETFROM:-0500
TZOFFSETTO:-0600
TZNAME:CST
DTSTART:20271107T070000
END:STANDARD
END:VTIMEZONE
BEGIN:VEVENT
DTSTART;TZID=America/Chicago:20260420T180000
DTEND;TZID=America/Chicago:20260420T190000
DTSTAMP:20260420T031232
CREATED:20251229T170144Z
LAST-MODIFIED:20251229T170144Z
UID:10001799-1776708000-1776711600@mahometpubliclibrary.org
SUMMARY:Growing Readers: Parent-Child Book Club
DESCRIPTION:Help the Library grow a community of readers with this parent-child book club for kids in grades 3-6 and their adult caregiver(s). Pizza and refreshments will be provided. Registration is required. Please register adults and children separately. \nFebruary: The Wild Robot by Peter Brown \nApril: The One and Only Ivan by Katherine Applegate. \nGrades 3-6 & adult caregiver. Individual registration required for each parent or child attendee.
URL:https://mahometpubliclibrary.org/event/growing-readers-04-2026/
CATEGORIES:Adults,School age
ATTACH;FMTTYPE=image/png:https://mahometpubliclibrary.org/wp-content/uploads/2025/12/Growing-Readers_Event-Cover_WinterSpring-2026-2.png
END:VEVENT
END:VCALENDAR