BEGIN:VCALENDAR
VERSION:2.0
PRODID:-//Mahomet Public Library - ECPv6.15.11//NONSGML v1.0//EN
CALSCALE:GREGORIAN
METHOD:PUBLISH
X-ORIGINAL-URL:https://mahometpubliclibrary.org
X-WR-CALDESC:Events for Mahomet Public Library
REFRESH-INTERVAL;VALUE=DURATION:PT1H
X-Robots-Tag:noindex
X-PUBLISHED-TTL:PT1H
BEGIN:VTIMEZONE
TZID:America/Chicago
BEGIN:DAYLIGHT
TZOFFSETFROM:-0600
TZOFFSETTO:-0500
TZNAME:CDT
DTSTART:20230312T080000
END:DAYLIGHT
BEGIN:STANDARD
TZOFFSETFROM:-0500
TZOFFSETTO:-0600
TZNAME:CST
DTSTART:20231105T070000
END:STANDARD
BEGIN:DAYLIGHT
TZOFFSETFROM:-0600
TZOFFSETTO:-0500
TZNAME:CDT
DTSTART:20240310T080000
END:DAYLIGHT
BEGIN:STANDARD
TZOFFSETFROM:-0500
TZOFFSETTO:-0600
TZNAME:CST
DTSTART:20241103T070000
END:STANDARD
BEGIN:DAYLIGHT
TZOFFSETFROM:-0600
TZOFFSETTO:-0500
TZNAME:CDT
DTSTART:20250309T080000
END:DAYLIGHT
BEGIN:STANDARD
TZOFFSETFROM:-0500
TZOFFSETTO:-0600
TZNAME:CST
DTSTART:20251102T070000
END:STANDARD
END:VTIMEZONE
BEGIN:VEVENT
DTSTART;VALUE=DATE:20241001
DTEND;VALUE=DATE:20241102
DTSTAMP:20260419T074807
CREATED:20240912T142321Z
LAST-MODIFIED:20240930T212330Z
UID:10001071-1727748000-1730426399@mahometpubliclibrary.org
SUMMARY:Library Crawl 2024
DESCRIPTION:Welcome to the 6th Annual IHLS Library Crawl! As a bibliophile\, we know you will enjoy the interesting and beautiful buildings that house our library collections throughout central and southern Illinois. \nTo Participate in the Library Crawl: \n\nPick up a Library Crawl passport at the Mahomet Library between October 1-31.\nChoose five libraries from the passport (other than the Mahomet Library) to visit. See all the participating libraries on this map.\nWhen you arrive at a new library\, be sure to go to their main circulation desk to ask for a stamp in your passport.\nVisit five or more libraries between October 1-31 to complete the Library Crawl.\nBring your passport back to the library and receive a raffle ticket (for a gift card to local business)\, coupon for free book from sale shelf or book sale\, and a freebie!\n\nEach library has a page in the online 2024 Library Crawl Guidebook. Be sure to check this out for a list of local eateries and places of interest the Library staff recommend. Remember\, you can use your library card along the way to check out items at the libraries you visit. Then simply return them at your home library. Our statewide courier service will take care of the rest. This awesome service brings items back and forth making our collections available to all patrons. \nShare the joy – take pictures along the way and post them with #IHLSLibraryCrawl2024 on social media! \nHappy Crawling!
URL:https://mahometpubliclibrary.org/event/library-crawl-2024/
CATEGORIES:All Ages
ATTACH;FMTTYPE=image/png:https://mahometpubliclibrary.org/wp-content/uploads/2024/09/Library-Crawl_Event-Image-1.png
END:VEVENT
BEGIN:VEVENT
DTSTART;TZID=America/Chicago:20241022T093000
DTEND;TZID=America/Chicago:20241022T095000
DTSTAMP:20260419T074807
CREATED:20240806T190842Z
LAST-MODIFIED:20240806T190946Z
UID:10000924-1729589400-1729590600@mahometpubliclibrary.org
SUMMARY:Baby Storytime
DESCRIPTION:Bring your baby to storytime on Tuesday mornings at the Library! There will be songs\, bounces\, and books! \n  \nAges 0-18 months. No registration required. \nPlease Note: There will not be Baby Storytime on October 8 or November 5.
URL:https://mahometpubliclibrary.org/event/fall-baby-storytime/2024-10-22/
CATEGORIES:Preschool
ATTACH;FMTTYPE=image/png:https://mahometpubliclibrary.org/wp-content/uploads/2024/05/Baby-Storytime_Event-Image_2024.png
END:VEVENT
BEGIN:VEVENT
DTSTART;TZID=America/Chicago:20241022T100000
DTEND;TZID=America/Chicago:20241022T103000
DTSTAMP:20260419T074807
CREATED:20240806T191552Z
LAST-MODIFIED:20240806T191629Z
UID:10000937-1729591200-1729593000@mahometpubliclibrary.org
SUMMARY:Toddler Storytime
DESCRIPTION:Join us on Tuesday mornings to enjoy storytime for toddlers and caregivers. There will be songs\, rhymes\, and stories! \nAges 18 months-3 years. No registration required. \nPlease note: There will NOT be Toddler Storytime on October 8 or November 5.
URL:https://mahometpubliclibrary.org/event/fall-toddler-storytime/2024-10-22/
CATEGORIES:Preschool
ATTACH;FMTTYPE=image/png:https://mahometpubliclibrary.org/wp-content/uploads/2024/08/Toddler-Storytime_Event-Image.png
END:VEVENT
BEGIN:VEVENT
DTSTART;TZID=America/Chicago:20241022T183000
DTEND;TZID=America/Chicago:20241022T193000
DTSTAMP:20260419T074807
CREATED:20240822T144416Z
LAST-MODIFIED:20240822T144416Z
UID:10001049-1729621800-1729625400@mahometpubliclibrary.org
SUMMARY:Beginner Sourdough Workshop
DESCRIPTION:Sourdough bread is trending\, but do you know how to make it? Join us for a fun and interactive beginner class at the Library! We’ll learn how to make and maintain a starter\, the science behind the sourdough fermentation process\, and tips and techniques for making the perfect loaf. Attendees will make starter in class to take home. \nAdults. Registration required.
URL:https://mahometpubliclibrary.org/event/beginner-sourdough-workshop/
CATEGORIES:Adults
ATTACH;FMTTYPE=image/png:https://mahometpubliclibrary.org/wp-content/uploads/2024/08/Sourdough-Workshop_Event-Image.png
END:VEVENT
BEGIN:VEVENT
DTSTART;TZID=America/Chicago:20241022T190000
DTEND;TZID=America/Chicago:20241022T200000
DTSTAMP:20260419T074807
CREATED:20240905T191425Z
LAST-MODIFIED:20240905T192335Z
UID:10001067-1729623600-1729627200@mahometpubliclibrary.org
SUMMARY:Illinois Libraries Present: Raise Your Voice with Jason Reynolds
DESCRIPTION:Welcome Jason Reynolds\, #1 New York Times bestselling author\, advocate\, mentor\, and 2020-2022 National Ambassador for Young People’s Literature. The recipient of a Newbery Honor\, a Printz Honor\, a Carnegie Medal\, an NAACP Image Award\, and multiple Coretta Scott King honors\, Reynolds’ beloved and award-winning titles include Stamped (with Ibram X. Kendi)\, Stuntboy\, the Track series (Ghost\, Patina\, Sunny\, and Lu)\, Miles Morales\, All American Boys (with Brendan Kiely)\, When I Was the Greatest\, The Boy in the Black Suit\, Look Both Ways\, Ain’t Burned All the Bright\, and Long Way Down. He has appeared on The Late Show with Stephen Colbert\, The Daily Show with Trevor Noah\, Late Night with Seth Meyers\, CBS Sunday Morning\, and more. \nThe short documentary “Dear\, Dreamer” is a lyrical portrait of Reynolds’ life and work as a rising literary star\, as well as a testament to shared experiences and the power of seeing yourself in books. In his podcast\, My Mother Made Me\, he and his mother\, Isabell\, explore their shared history and what they’re teaching each other.  \nReynolds lives in Washington\, DC\, where he is on faculty at Lesley University\, for the Writing for Young People MFA Program.  \nThis event is made possible by Illinois Libraries Present (ILP)\, a statewide collaboration among public libraries offering premier events. ILP is funded in part by a grant awarded by the Illinois State Library\, a department of the Office of Secretary of State\, using funds provided by the U.S. Institute of Museum and Library Services\, under the provisions of the Library Services and Technology Act (LSTA).  \nILP is committed to inclusion and accessibility. To request accommodations\, please email illinoislibrariespresent@gmail.com. \n  \nFor youth and adults. Via Zoom. Please register.
URL:https://mahometpubliclibrary.org/event/jason-reynolds/
CATEGORIES:Adults,School age,Teens
ATTACH;FMTTYPE=image/png:https://mahometpubliclibrary.org/wp-content/uploads/2024/09/Jason-Reynolds_Event-Image_Fall-2024.png
END:VEVENT
END:VCALENDAR