BEGIN:VCALENDAR
VERSION:2.0
PRODID:-//Mahomet Public Library - ECPv6.15.11//NONSGML v1.0//EN
CALSCALE:GREGORIAN
METHOD:PUBLISH
X-ORIGINAL-URL:https://mahometpubliclibrary.org
X-WR-CALDESC:Events for Mahomet Public Library
REFRESH-INTERVAL;VALUE=DURATION:PT1H
X-Robots-Tag:noindex
X-PUBLISHED-TTL:PT1H
BEGIN:VTIMEZONE
TZID:America/Chicago
BEGIN:DAYLIGHT
TZOFFSETFROM:-0600
TZOFFSETTO:-0500
TZNAME:CDT
DTSTART:20230312T080000
END:DAYLIGHT
BEGIN:STANDARD
TZOFFSETFROM:-0500
TZOFFSETTO:-0600
TZNAME:CST
DTSTART:20231105T070000
END:STANDARD
BEGIN:DAYLIGHT
TZOFFSETFROM:-0600
TZOFFSETTO:-0500
TZNAME:CDT
DTSTART:20240310T080000
END:DAYLIGHT
BEGIN:STANDARD
TZOFFSETFROM:-0500
TZOFFSETTO:-0600
TZNAME:CST
DTSTART:20241103T070000
END:STANDARD
BEGIN:DAYLIGHT
TZOFFSETFROM:-0600
TZOFFSETTO:-0500
TZNAME:CDT
DTSTART:20250309T080000
END:DAYLIGHT
BEGIN:STANDARD
TZOFFSETFROM:-0500
TZOFFSETTO:-0600
TZNAME:CST
DTSTART:20251102T070000
END:STANDARD
END:VTIMEZONE
BEGIN:VEVENT
DTSTART;VALUE=DATE:20241001
DTEND;VALUE=DATE:20241102
DTSTAMP:20260419T074711
CREATED:20240912T142321Z
LAST-MODIFIED:20240930T212330Z
UID:10001071-1727748000-1730426399@mahometpubliclibrary.org
SUMMARY:Library Crawl 2024
DESCRIPTION:Welcome to the 6th Annual IHLS Library Crawl! As a bibliophile\, we know you will enjoy the interesting and beautiful buildings that house our library collections throughout central and southern Illinois. \nTo Participate in the Library Crawl: \n\nPick up a Library Crawl passport at the Mahomet Library between October 1-31.\nChoose five libraries from the passport (other than the Mahomet Library) to visit. See all the participating libraries on this map.\nWhen you arrive at a new library\, be sure to go to their main circulation desk to ask for a stamp in your passport.\nVisit five or more libraries between October 1-31 to complete the Library Crawl.\nBring your passport back to the library and receive a raffle ticket (for a gift card to local business)\, coupon for free book from sale shelf or book sale\, and a freebie!\n\nEach library has a page in the online 2024 Library Crawl Guidebook. Be sure to check this out for a list of local eateries and places of interest the Library staff recommend. Remember\, you can use your library card along the way to check out items at the libraries you visit. Then simply return them at your home library. Our statewide courier service will take care of the rest. This awesome service brings items back and forth making our collections available to all patrons. \nShare the joy – take pictures along the way and post them with #IHLSLibraryCrawl2024 on social media! \nHappy Crawling!
URL:https://mahometpubliclibrary.org/event/library-crawl-2024/
CATEGORIES:All Ages
ATTACH;FMTTYPE=image/png:https://mahometpubliclibrary.org/wp-content/uploads/2024/09/Library-Crawl_Event-Image-1.png
END:VEVENT
BEGIN:VEVENT
DTSTART;TZID=America/Chicago:20241006T140000
DTEND;TZID=America/Chicago:20241006T160000
DTSTAMP:20260419T074711
CREATED:20240914T182144Z
LAST-MODIFIED:20240914T182144Z
UID:10001072-1728223200-1728230400@mahometpubliclibrary.org
SUMMARY:Voter Registration & Voting Information Table
DESCRIPTION:Your vote matters! Volunteers from the nonpartisan Champaign County League of Women Voters will have a voter information-registration table at the Mahomet Library on Sunday\, October 6 from 2:00-4:00 pm. \nStop by the table to: \n\nConfirm you’re registered to vote at your current address.\nRegister to vote if you’re not already registered.\nLearn about upcoming candidate forums\, candidate meet-and-great opportunities\, and nonpartisan candidate resources.\nGet answers to your questions about voting and elections.
URL:https://mahometpubliclibrary.org/event/october-voting-table/
CATEGORIES:Adults
ATTACH;FMTTYPE=image/png:https://mahometpubliclibrary.org/wp-content/uploads/2024/09/Voting-Information-Table_Event-Image.png
END:VEVENT
BEGIN:VEVENT
DTSTART;TZID=America/Chicago:20241006T140000
DTEND;TZID=America/Chicago:20241006T163000
DTSTAMP:20260419T074711
CREATED:20240822T144705Z
LAST-MODIFIED:20240822T145102Z
UID:10001050-1728223200-1728232200@mahometpubliclibrary.org
SUMMARY:Role With It! Play-Reading Group: And Then There Were None
DESCRIPTION:Join the Library’s play-reading group for theatre enthusiasts! Enjoy a live reading of a full-length play. Participants will be assigned roles and receive a script at the meeting. This session\, we’ll read through the play And Then There Were None by Agatha Christie. \nAdults. Registration required.
URL:https://mahometpubliclibrary.org/event/october-role-with-it/
CATEGORIES:Adults
ATTACH;FMTTYPE=image/png:https://mahometpubliclibrary.org/wp-content/uploads/2024/05/Role-with-it_Event-Image_Summer-2024.png
END:VEVENT
END:VCALENDAR