BEGIN:VCALENDAR
VERSION:2.0
PRODID:-//Mahomet Public Library - ECPv6.15.11//NONSGML v1.0//EN
CALSCALE:GREGORIAN
METHOD:PUBLISH
X-WR-CALNAME:Mahomet Public Library
X-ORIGINAL-URL:https://mahometpubliclibrary.org
X-WR-CALDESC:Events for Mahomet Public Library
REFRESH-INTERVAL;VALUE=DURATION:PT1H
X-Robots-Tag:noindex
X-PUBLISHED-TTL:PT1H
BEGIN:VTIMEZONE
TZID:America/Chicago
BEGIN:DAYLIGHT
TZOFFSETFROM:-0600
TZOFFSETTO:-0500
TZNAME:CDT
DTSTART:20230312T080000
END:DAYLIGHT
BEGIN:STANDARD
TZOFFSETFROM:-0500
TZOFFSETTO:-0600
TZNAME:CST
DTSTART:20231105T070000
END:STANDARD
BEGIN:DAYLIGHT
TZOFFSETFROM:-0600
TZOFFSETTO:-0500
TZNAME:CDT
DTSTART:20240310T080000
END:DAYLIGHT
BEGIN:STANDARD
TZOFFSETFROM:-0500
TZOFFSETTO:-0600
TZNAME:CST
DTSTART:20241103T070000
END:STANDARD
BEGIN:DAYLIGHT
TZOFFSETFROM:-0600
TZOFFSETTO:-0500
TZNAME:CDT
DTSTART:20250309T080000
END:DAYLIGHT
BEGIN:STANDARD
TZOFFSETFROM:-0500
TZOFFSETTO:-0600
TZNAME:CST
DTSTART:20251102T070000
END:STANDARD
END:VTIMEZONE
BEGIN:VEVENT
DTSTART;VALUE=DATE:20241001
DTEND;VALUE=DATE:20241102
DTSTAMP:20260419T074639
CREATED:20240912T142321Z
LAST-MODIFIED:20240930T212330Z
UID:10001071-1727748000-1730426399@mahometpubliclibrary.org
SUMMARY:Library Crawl 2024
DESCRIPTION:Welcome to the 6th Annual IHLS Library Crawl! As a bibliophile\, we know you will enjoy the interesting and beautiful buildings that house our library collections throughout central and southern Illinois. \nTo Participate in the Library Crawl: \n\nPick up a Library Crawl passport at the Mahomet Library between October 1-31.\nChoose five libraries from the passport (other than the Mahomet Library) to visit. See all the participating libraries on this map.\nWhen you arrive at a new library\, be sure to go to their main circulation desk to ask for a stamp in your passport.\nVisit five or more libraries between October 1-31 to complete the Library Crawl.\nBring your passport back to the library and receive a raffle ticket (for a gift card to local business)\, coupon for free book from sale shelf or book sale\, and a freebie!\n\nEach library has a page in the online 2024 Library Crawl Guidebook. Be sure to check this out for a list of local eateries and places of interest the Library staff recommend. Remember\, you can use your library card along the way to check out items at the libraries you visit. Then simply return them at your home library. Our statewide courier service will take care of the rest. This awesome service brings items back and forth making our collections available to all patrons. \nShare the joy – take pictures along the way and post them with #IHLSLibraryCrawl2024 on social media! \nHappy Crawling!
URL:https://mahometpubliclibrary.org/event/library-crawl-2024/
CATEGORIES:All Ages
ATTACH;FMTTYPE=image/png:https://mahometpubliclibrary.org/wp-content/uploads/2024/09/Library-Crawl_Event-Image-1.png
END:VEVENT
BEGIN:VEVENT
DTSTART;TZID=America/Chicago:20241003T100000
DTEND;TZID=America/Chicago:20241003T110000
DTSTAMP:20260419T074639
CREATED:20240813T152932Z
LAST-MODIFIED:20240829T210324Z
UID:10001063-1727949600-1727953200@mahometpubliclibrary.org
SUMMARY:Senior Treats and Topics
DESCRIPTION:Join us for a thrilling blend of knowledge…and indulgence! Each month promises an exciting speaker with insights on various topics\, accompanied by delightful treats! It is not necessary to be a senior to attend. \nDates and Topics: \n\nSeptember 12: Adult Healthcare Options with Sandy Hockman from Evergreen Place\n\nThis session will explore the senior living options in the area and covers the spectrum from independent living and assisted living to skilled nursing and hospice care. \n\nOctober 3: Estate Planning with Theodore Facer from Facer Law Office\n\nEstate planning is a necessary\, but often complex area of legal and financial management. This session will cover key topics to help you understand and navigate the process. \n\nNovember 7: Dementia and Communication with Sandy Hockman from Evergreen Place\n\nCommunicating with someone living with dementia can be challenging. This session will provide knowledge on how to positively interact to create a successful and less frustrating experience for everyone involved. \n\nDecember 12: Holiday Music Memory Game with Library Staff\n\nEnjoy a festive activity to challenge your memory! \n  \nFor adults. No registration required.
URL:https://mahometpubliclibrary.org/event/senior-treats-and-topics/2024-10-03/
CATEGORIES:Adults
ATTACH;FMTTYPE=image/png:https://mahometpubliclibrary.org/wp-content/uploads/2023/12/Treats-Topics_Event-Image_Winter-Spring-2024.png
END:VEVENT
BEGIN:VEVENT
DTSTART;TZID=America/Chicago:20241003T183000
DTEND;TZID=America/Chicago:20241003T200000
DTSTAMP:20260419T074639
CREATED:20241001T195017Z
LAST-MODIFIED:20241003T140407Z
UID:10001073-1727980200-1727985600@mahometpubliclibrary.org
SUMMARY:Public Q&A for Upcoming School Referendum
DESCRIPTION:This program will take place in the Edgar Room at the Mahomet Library. \nAs part of our mission to provide Mahomet residents with the information they need\, the Library has asked Mahomet-Seymour to send representatives to the Library to answer resident questions about the upcoming school referendum. \nThis Thursday\, October 3 at 6:30 pm\, we welcome Superintendent Kenny Lee\, a member of the Board of Education\, and former superintendent Lindsey Hall to the Library. From 6:30 to 8:00 pm they will be available to answer questions. A library representative will facilitate the sessions. \nThe Library does not officially support or oppose this referendum\, and no one at this meeting will be telling anyone how to vote. Our goal is for community members to have the chance to learn for themselves the details and facts about the school plans so that they can make the most informed decision possible. We plan to hold one additional meeting of this sort later in October\, but hurried to get this one done since voting has started for some folks. \nThere are also resources at the Library for those who want to learn more about the school plan and referendum but cannot attend this meeting.
URL:https://mahometpubliclibrary.org/event/qa-school-referendum/
CATEGORIES:Adults
ATTACH;FMTTYPE=image/png:https://mahometpubliclibrary.org/wp-content/uploads/2024/10/School-Referendum-QA_Event-Image-2.png
END:VEVENT
END:VCALENDAR