BEGIN:VCALENDAR
VERSION:2.0
PRODID:-//Mahomet Public Library - ECPv6.15.11//NONSGML v1.0//EN
CALSCALE:GREGORIAN
METHOD:PUBLISH
X-ORIGINAL-URL:https://mahometpubliclibrary.org
X-WR-CALDESC:Events for Mahomet Public Library
REFRESH-INTERVAL;VALUE=DURATION:PT1H
X-Robots-Tag:noindex
X-PUBLISHED-TTL:PT1H
BEGIN:VTIMEZONE
TZID:America/Chicago
BEGIN:DAYLIGHT
TZOFFSETFROM:-0600
TZOFFSETTO:-0500
TZNAME:CDT
DTSTART:20230312T080000
END:DAYLIGHT
BEGIN:STANDARD
TZOFFSETFROM:-0500
TZOFFSETTO:-0600
TZNAME:CST
DTSTART:20231105T070000
END:STANDARD
BEGIN:DAYLIGHT
TZOFFSETFROM:-0600
TZOFFSETTO:-0500
TZNAME:CDT
DTSTART:20240310T080000
END:DAYLIGHT
BEGIN:STANDARD
TZOFFSETFROM:-0500
TZOFFSETTO:-0600
TZNAME:CST
DTSTART:20241103T070000
END:STANDARD
BEGIN:DAYLIGHT
TZOFFSETFROM:-0600
TZOFFSETTO:-0500
TZNAME:CDT
DTSTART:20250309T080000
END:DAYLIGHT
BEGIN:STANDARD
TZOFFSETFROM:-0500
TZOFFSETTO:-0600
TZNAME:CST
DTSTART:20251102T070000
END:STANDARD
END:VTIMEZONE
BEGIN:VEVENT
DTSTART;TZID=America/Chicago:20240903T093000
DTEND;TZID=America/Chicago:20240903T095000
DTSTAMP:20260419T091410
CREATED:20240806T190842Z
LAST-MODIFIED:20240806T190946Z
UID:10000918-1725355800-1725357000@mahometpubliclibrary.org
SUMMARY:Baby Storytime
DESCRIPTION:Bring your baby to storytime on Tuesday mornings at the Library! There will be songs\, bounces\, and books! \n  \nAges 0-18 months. No registration required. \nPlease Note: There will not be Baby Storytime on October 8 or November 5.
URL:https://mahometpubliclibrary.org/event/fall-baby-storytime/2024-09-03/
CATEGORIES:Preschool
ATTACH;FMTTYPE=image/png:https://mahometpubliclibrary.org/wp-content/uploads/2024/05/Baby-Storytime_Event-Image_2024.png
END:VEVENT
BEGIN:VEVENT
DTSTART;TZID=America/Chicago:20240903T100000
DTEND;TZID=America/Chicago:20240903T103000
DTSTAMP:20260419T091410
CREATED:20240806T191552Z
LAST-MODIFIED:20240806T191629Z
UID:10000931-1725357600-1725359400@mahometpubliclibrary.org
SUMMARY:Toddler Storytime
DESCRIPTION:Join us on Tuesday mornings to enjoy storytime for toddlers and caregivers. There will be songs\, rhymes\, and stories! \nAges 18 months-3 years. No registration required. \nPlease note: There will NOT be Toddler Storytime on October 8 or November 5.
URL:https://mahometpubliclibrary.org/event/fall-toddler-storytime/2024-09-03/
CATEGORIES:Preschool
ATTACH;FMTTYPE=image/png:https://mahometpubliclibrary.org/wp-content/uploads/2024/08/Toddler-Storytime_Event-Image.png
END:VEVENT
BEGIN:VEVENT
DTSTART;TZID=America/Chicago:20240903T180000
DTEND;TZID=America/Chicago:20240903T193000
DTSTAMP:20260419T091410
CREATED:20240806T185450Z
LAST-MODIFIED:20240806T190305Z
UID:10000916-1725386400-1725391800@mahometpubliclibrary.org
SUMMARY:Cookbook Club: The Weekday Vegetarians
DESCRIPTION:Join us at the Library to explore new recipes\, share cooking tips\, and enjoy delicious food together! This program is intended for adults who enjoy cooking and sharing food together. All experience levels are welcome. Each Cookbook Club will feature a selected cookbook and attendees will bring a dish from the book to share. \nCopies of the cookbook will be available one month in advance at the Library’s Circulation Desk. Registered participants will receive a link to a Google form to include the name of the dish they will be bringing. Participants may contact Alyssa with any questions. \nRegistration is required. \n  \nDates and Cookbooks: \nTuesday\, September 3: The Weekday Vegetarians by Jenny Rosenstrach \nThursday\, November 7: Brilliant Bites by Maegan Brown
URL:https://mahometpubliclibrary.org/event/september-cookbook-club/
CATEGORIES:Adults
ATTACH;FMTTYPE=image/png:https://mahometpubliclibrary.org/wp-content/uploads/2023/08/Cookbook-Club_Event-Image_Fall-2023.png
END:VEVENT
END:VCALENDAR