BEGIN:VCALENDAR
VERSION:2.0
PRODID:-//Mahomet Public Library - ECPv6.15.11//NONSGML v1.0//EN
CALSCALE:GREGORIAN
METHOD:PUBLISH
X-ORIGINAL-URL:https://mahometpubliclibrary.org
X-WR-CALDESC:Events for Mahomet Public Library
REFRESH-INTERVAL;VALUE=DURATION:PT1H
X-Robots-Tag:noindex
X-PUBLISHED-TTL:PT1H
BEGIN:VTIMEZONE
TZID:America/Chicago
BEGIN:DAYLIGHT
TZOFFSETFROM:-0600
TZOFFSETTO:-0500
TZNAME:CDT
DTSTART:20230312T080000
END:DAYLIGHT
BEGIN:STANDARD
TZOFFSETFROM:-0500
TZOFFSETTO:-0600
TZNAME:CST
DTSTART:20231105T070000
END:STANDARD
BEGIN:DAYLIGHT
TZOFFSETFROM:-0600
TZOFFSETTO:-0500
TZNAME:CDT
DTSTART:20240310T080000
END:DAYLIGHT
BEGIN:STANDARD
TZOFFSETFROM:-0500
TZOFFSETTO:-0600
TZNAME:CST
DTSTART:20241103T070000
END:STANDARD
BEGIN:DAYLIGHT
TZOFFSETFROM:-0600
TZOFFSETTO:-0500
TZNAME:CDT
DTSTART:20250309T080000
END:DAYLIGHT
BEGIN:STANDARD
TZOFFSETFROM:-0500
TZOFFSETTO:-0600
TZNAME:CST
DTSTART:20251102T070000
END:STANDARD
END:VTIMEZONE
BEGIN:VEVENT
DTSTART;TZID=America/Chicago:20240813T183000
DTEND;TZID=America/Chicago:20240813T200000
DTSTAMP:20260419T103204
CREATED:20231207T213017Z
LAST-MODIFIED:20240502T222257Z
UID:10000876-1723573800-1723579200@mahometpubliclibrary.org
SUMMARY:Tuesday Night Book Club
DESCRIPTION:Join us at the Library on the second Tuesday of each month as we discuss that month’s great read! \nJanuary 16: The Lager Queen of Minnesota by J. Ryan Stradal\nFebruary 13: Maame by Jessica George\nMarch 12: The Dictionary of Lost Words by Pip Williams\nApril 9: Hello Beautiful by Ann Napolitano\nMay 14: Lessons in Chemistry by Bonnie Garmus\nJune 11: Vera Wong’s Unsolicited Advice for Murderers by Jesse Q. Sutano\nJuly 9: Remarkably Bright Creatures by Shelby Van Pelt\nAugust 13: The Wishing Game by Meg Shaffer \nNo registration required. \n  \nWondering what books we’ve previously read for Tuesday Night Book Club? Check out our Tuesday Night Book Club Picks list!
URL:https://mahometpubliclibrary.org/event/tuesday-book-club/2024-08-13/
CATEGORIES:Adults
ATTACH;FMTTYPE=image/png:https://mahometpubliclibrary.org/wp-content/uploads/2023/12/Tuesday-Night-Book-Club_Event-Image_Winter-Spring-2024.png
END:VEVENT
END:VCALENDAR