BEGIN:VCALENDAR
VERSION:2.0
PRODID:-//Mahomet Public Library - ECPv6.15.11//NONSGML v1.0//EN
CALSCALE:GREGORIAN
METHOD:PUBLISH
X-WR-CALNAME:Mahomet Public Library
X-ORIGINAL-URL:https://mahometpubliclibrary.org
X-WR-CALDESC:Events for Mahomet Public Library
REFRESH-INTERVAL;VALUE=DURATION:PT1H
X-Robots-Tag:noindex
X-PUBLISHED-TTL:PT1H
BEGIN:VTIMEZONE
TZID:America/Chicago
BEGIN:DAYLIGHT
TZOFFSETFROM:-0600
TZOFFSETTO:-0500
TZNAME:CDT
DTSTART:20230312T080000
END:DAYLIGHT
BEGIN:STANDARD
TZOFFSETFROM:-0500
TZOFFSETTO:-0600
TZNAME:CST
DTSTART:20231105T070000
END:STANDARD
BEGIN:DAYLIGHT
TZOFFSETFROM:-0600
TZOFFSETTO:-0500
TZNAME:CDT
DTSTART:20240310T080000
END:DAYLIGHT
BEGIN:STANDARD
TZOFFSETFROM:-0500
TZOFFSETTO:-0600
TZNAME:CST
DTSTART:20241103T070000
END:STANDARD
BEGIN:DAYLIGHT
TZOFFSETFROM:-0600
TZOFFSETTO:-0500
TZNAME:CDT
DTSTART:20250309T080000
END:DAYLIGHT
BEGIN:STANDARD
TZOFFSETFROM:-0500
TZOFFSETTO:-0600
TZNAME:CST
DTSTART:20251102T070000
END:STANDARD
END:VTIMEZONE
BEGIN:VEVENT
DTSTART;VALUE=DATE:20240521
DTEND;VALUE=DATE:20240803
DTSTAMP:20260419T115125
CREATED:20230626T193026Z
LAST-MODIFIED:20240430T190825Z
UID:10000080-1716256800-1722563999@mahometpubliclibrary.org
SUMMARY:Summer Reading Programs
DESCRIPTION:Summer reading time is here! The much-anticipated Summer Reading Programs kick off on May 21\, the last day of school (you can sign up that day!)\, and conclude on August 1 (the last day to log minutes). This year’s iREAD 2024 theme is “Read\, Renew\, Repeat\,” which encourages reading as a restorative method of self-improvement and self-preservation. There will be child\, teen\, and adult prizes (even prizes for the community) based on minutes read. \nKids (Birth-Fifth Grade):\n\nUse your reading log to track your minutes read and earn beads for your brag tag!\nFinish your whole log and receive a FREE BOOK\, Monicals coupon\, and star to put up on the wall in the children’s area.\nEarn stickers for your badge book full of bonus reading challenges. Complete all the challenges get a water bottle or tote bag.\n\n\nTeens (Sixth-Ninth Grade):\n\nUse your reading log to track your minutes read and earn beads for your brag tag!\nFinish your whole log and receive a FREE BOOK and Monicals coupon.\n\n\nAdults (Tenth Grade and Up): \nFor every 10 hours you read\, fill out a raffle ticket for a chance to win a gift card from a local business! \n\nCommunity Prizes: Help Us “Unlock” Prizes for Everyone!\n\nDownload the “Reader Zone” app or log in on their website.\nEnter your total number of minutes read.\nIf the community reads a certain number of minutes in total\, we will unlock the following special community prizes:\n\n25\,000 Minutes: Rainbow Doodle Tablets\n50\,000 Minutes: Duplo LEGO Table\n100\,000 Minutes: Yoto Players\n175\,000 Minutes: Mini Golf in the Library\n\n\n\n 
URL:https://mahometpubliclibrary.org/event/summerreading/
CATEGORIES:All Ages
ATTACH;FMTTYPE=image/png:https://mahometpubliclibrary.org/wp-content/uploads/2023/06/Summer-Reading_Event-Image_Summer-2024.png
END:VEVENT
BEGIN:VEVENT
DTSTART;TZID=America/Chicago:20240702T093000
DTEND;TZID=America/Chicago:20240702T095000
DTSTAMP:20260419T115125
CREATED:20240502T191746Z
LAST-MODIFIED:20240502T191746Z
UID:10000830-1719912600-1719913800@mahometpubliclibrary.org
SUMMARY:Baby Storytime
DESCRIPTION:Bring your baby to storytime on Tuesday mornings at the Library! There will be songs\, bounces\, and books!
URL:https://mahometpubliclibrary.org/event/summerbabystorytime/2024-07-02/
CATEGORIES:Preschool
ATTACH;FMTTYPE=image/png:https://mahometpubliclibrary.org/wp-content/uploads/2024/05/Baby-Storytime_Event-Image_2024.png
END:VEVENT
BEGIN:VEVENT
DTSTART;TZID=America/Chicago:20240702T130000
DTEND;TZID=America/Chicago:20240702T140000
DTSTAMP:20260419T115125
CREATED:20231205T164129Z
LAST-MODIFIED:20240502T194803Z
UID:10000851-1719925200-1719928800@mahometpubliclibrary.org
SUMMARY:Adult Crafternoon
DESCRIPTION:Get crafty with your friends or make some new friends!\nJoin us each month as we craft together. You can bring your own project to work on or create a unique craft with instructions and supplies provided by the Library. \nDates and Crafts: \n\nJanuary 9: Make your own candle\nFebruary 6: Heart string art\nMarch 5: Bookmark\nApril 2: Sock bunny\nJune 4: Diamond painting\nJuly 2: Bullet journaling\n\nAdult Crafternoons are part of our Adult Craft Connection Program series.  \nNo registration required. No meeting in May.
URL:https://mahometpubliclibrary.org/event/crafternoon/2024-07-02/
CATEGORIES:Adults
ATTACH;FMTTYPE=image/png:https://mahometpubliclibrary.org/wp-content/uploads/2023/06/September.png
END:VEVENT
BEGIN:VEVENT
DTSTART;TZID=America/Chicago:20240702T153000
DTEND;TZID=America/Chicago:20240702T163000
DTSTAMP:20260419T115125
CREATED:20240502T200529Z
LAST-MODIFIED:20240502T200529Z
UID:10000854-1719934200-1719937800@mahometpubliclibrary.org
SUMMARY:Adventures in Art: 3D Doodlebug
DESCRIPTION:Attention all budding artists in grades 2-5! Join us for an unforgettable journey of artistic exploration this summer and bring home a masterpiece. \nDates and Projects: \nJune 4: DIY Stamps \nJune 18: Beaded Windchime \nJuly 2: 3D Doodlebug \nJuly 16: Popsicle Stick Lantern \nJuly 30: Shrinky Dinks \nFor students entering grades 2-5. Please register for each session individually.
URL:https://mahometpubliclibrary.org/event/adventures-in-art-doodlebug/
CATEGORIES:School age
ATTACH;FMTTYPE=image/png:https://mahometpubliclibrary.org/wp-content/uploads/2024/05/Adventures-in-Art_Event-Image_Summer-2024.png
END:VEVENT
END:VCALENDAR