BEGIN:VCALENDAR
VERSION:2.0
PRODID:-//Mahomet Public Library - ECPv6.15.11//NONSGML v1.0//EN
CALSCALE:GREGORIAN
METHOD:PUBLISH
X-ORIGINAL-URL:https://mahometpubliclibrary.org
X-WR-CALDESC:Events for Mahomet Public Library
REFRESH-INTERVAL;VALUE=DURATION:PT1H
X-Robots-Tag:noindex
X-PUBLISHED-TTL:PT1H
BEGIN:VTIMEZONE
TZID:America/Chicago
BEGIN:DAYLIGHT
TZOFFSETFROM:-0600
TZOFFSETTO:-0500
TZNAME:CDT
DTSTART:20230312T080000
END:DAYLIGHT
BEGIN:STANDARD
TZOFFSETFROM:-0500
TZOFFSETTO:-0600
TZNAME:CST
DTSTART:20231105T070000
END:STANDARD
BEGIN:DAYLIGHT
TZOFFSETFROM:-0600
TZOFFSETTO:-0500
TZNAME:CDT
DTSTART:20240310T080000
END:DAYLIGHT
BEGIN:STANDARD
TZOFFSETFROM:-0500
TZOFFSETTO:-0600
TZNAME:CST
DTSTART:20241103T070000
END:STANDARD
BEGIN:DAYLIGHT
TZOFFSETFROM:-0600
TZOFFSETTO:-0500
TZNAME:CDT
DTSTART:20250309T080000
END:DAYLIGHT
BEGIN:STANDARD
TZOFFSETFROM:-0500
TZOFFSETTO:-0600
TZNAME:CST
DTSTART:20251102T070000
END:STANDARD
END:VTIMEZONE
BEGIN:VEVENT
DTSTART;TZID=America/Chicago:20240507T190000
DTEND;TZID=America/Chicago:20240507T200000
DTSTAMP:20260419T145018
CREATED:20240125T164805Z
LAST-MODIFIED:20240501T012737Z
UID:10000776-1715108400-1715112000@mahometpubliclibrary.org
SUMMARY:Illinois Libraries Present: The Many Lives of Kal Penn
DESCRIPTION:Kal Penn is an actor\, writer\, producer\, and former Associate Director of the White House Office of Public Engagement. He is known for his starring roles in Designated Survivor\, House\, Mira Nair’s The Namesake\, the Harold & Kumar franchise\, and the Christmas comedy The Santa Clauses for Disney+. His first book\, You Can’t Be Serious\, was released on November 2\, 2021 from Simon and Schuster/Gallery Books. He also narrates the audiobook. \nHe was a national co-chair for the Obama/Biden re-election campaign in 2012 and served on the President’s Committee for the Arts and Humanities\, focusing on arts education and cultural diplomacy\, including the first-ever US Government arts delegation to Cuba. Penn taught courses at the University of Pennsylvania and the University of California\, Los Angeles. Originally from New Jersey\, he received his undergraduate degree in sociology\, theater\, film\, and television at the University of California\, Los Angeles\, and received a graduate certificate in international security from Stanford University. He is a member of the Council on Foreign Relations\, and the Academy of Motion Picture Arts and Sciences. \nEarlier in the year\, Penn wrapped production on the Bloomberg Green climate change docuseries\, Getting Warmer\, and the Viacom/Paramount+ comedy\, Surina & Mel. Following the departure of Trevor Noah from The Daily Show\, Kal was named as an upcoming guest host. \nKal Penn will be joined in conversation with Bridget Petrites\, Evanston Public Library. \nVia Zoom. Please register below. \n  \nThis event is made possible by Illinois Libraries Present (ILP)\, a statewide collaboration among public libraries offering premier events. ILP is funded in part by a grant awarded by the Illinois State Library\, a department of the Office of Secretary of State\, using funds provided by the U.S. Institute of Museum and Library Services\, under the provisions of the Library Services and Technology Act (LSTA).  \nILP is committed to inclusion and accessibility. To request accommodations\, please email illinoislibrariespresent@gmail.com.
URL:https://mahometpubliclibrary.org/event/kalpenn/
CATEGORIES:Adults
ATTACH;FMTTYPE=image/png:https://mahometpubliclibrary.org/wp-content/uploads/2024/01/Kal-Penn_Event-Image_May-2024.png
END:VEVENT
END:VCALENDAR