BEGIN:VCALENDAR
VERSION:2.0
PRODID:-//Mahomet Public Library - ECPv6.15.11//NONSGML v1.0//EN
CALSCALE:GREGORIAN
METHOD:PUBLISH
X-WR-CALNAME:Mahomet Public Library
X-ORIGINAL-URL:https://mahometpubliclibrary.org
X-WR-CALDESC:Events for Mahomet Public Library
REFRESH-INTERVAL;VALUE=DURATION:PT1H
X-Robots-Tag:noindex
X-PUBLISHED-TTL:PT1H
BEGIN:VTIMEZONE
TZID:America/Chicago
BEGIN:DAYLIGHT
TZOFFSETFROM:-0600
TZOFFSETTO:-0500
TZNAME:CDT
DTSTART:20230312T080000
END:DAYLIGHT
BEGIN:STANDARD
TZOFFSETFROM:-0500
TZOFFSETTO:-0600
TZNAME:CST
DTSTART:20231105T070000
END:STANDARD
BEGIN:DAYLIGHT
TZOFFSETFROM:-0600
TZOFFSETTO:-0500
TZNAME:CDT
DTSTART:20240310T080000
END:DAYLIGHT
BEGIN:STANDARD
TZOFFSETFROM:-0500
TZOFFSETTO:-0600
TZNAME:CST
DTSTART:20241103T070000
END:STANDARD
BEGIN:DAYLIGHT
TZOFFSETFROM:-0600
TZOFFSETTO:-0500
TZNAME:CDT
DTSTART:20250309T080000
END:DAYLIGHT
BEGIN:STANDARD
TZOFFSETFROM:-0500
TZOFFSETTO:-0600
TZNAME:CST
DTSTART:20251102T070000
END:STANDARD
END:VTIMEZONE
BEGIN:VEVENT
DTSTART;TZID=America/Chicago:20240422T143000
DTEND;TZID=America/Chicago:20240422T153000
DTSTAMP:20260419T162200
CREATED:20231205T194820Z
LAST-MODIFIED:20240223T010850Z
UID:10000796-1713796200-1713799800@mahometpubliclibrary.org
SUMMARY:Senior Treats and Topics
DESCRIPTION:Designed for our retired adults\, each month promises an exciting speaker with insights on various topics\, accompanied by delightful treats! Join us for a thrilling blend of knowledge…and indulgence! \n\nJanuary 22: Understanding Medicare with Nicole Mitchell of Champaign County Healthcare consumers – RESCHEDULED for Thursday\, March 21 from 2:00-3:00 pm (more info here)\nFebruary 26: Using Library e-Resources with Library Director John Howard\nMarch 25: Improving Mood & Finding Happiness as We Age with Staci McNicholl from The Rock Counseling Group\nApril 22: Ways to Pay Online with Nick Schneider of First State Bank of Forrest\n\n  \nNo registration required.
URL:https://mahometpubliclibrary.org/event/treatsandtopics/2024-04-22/
CATEGORIES:Adults
ATTACH;FMTTYPE=image/png:https://mahometpubliclibrary.org/wp-content/uploads/2023/12/Treats-Topics_Event-Image_Winter-Spring-2024.png
END:VEVENT
END:VCALENDAR