BEGIN:VCALENDAR
VERSION:2.0
PRODID:-//Mahomet Public Library - ECPv6.15.11//NONSGML v1.0//EN
CALSCALE:GREGORIAN
METHOD:PUBLISH
X-ORIGINAL-URL:https://mahometpubliclibrary.org
X-WR-CALDESC:Events for Mahomet Public Library
REFRESH-INTERVAL;VALUE=DURATION:PT1H
X-Robots-Tag:noindex
X-PUBLISHED-TTL:PT1H
BEGIN:VTIMEZONE
TZID:America/Chicago
BEGIN:DAYLIGHT
TZOFFSETFROM:-0600
TZOFFSETTO:-0500
TZNAME:CDT
DTSTART:20230312T080000
END:DAYLIGHT
BEGIN:STANDARD
TZOFFSETFROM:-0500
TZOFFSETTO:-0600
TZNAME:CST
DTSTART:20231105T070000
END:STANDARD
BEGIN:DAYLIGHT
TZOFFSETFROM:-0600
TZOFFSETTO:-0500
TZNAME:CDT
DTSTART:20240310T080000
END:DAYLIGHT
BEGIN:STANDARD
TZOFFSETFROM:-0500
TZOFFSETTO:-0600
TZNAME:CST
DTSTART:20241103T070000
END:STANDARD
BEGIN:DAYLIGHT
TZOFFSETFROM:-0600
TZOFFSETTO:-0500
TZNAME:CDT
DTSTART:20250309T080000
END:DAYLIGHT
BEGIN:STANDARD
TZOFFSETFROM:-0500
TZOFFSETTO:-0600
TZNAME:CST
DTSTART:20251102T070000
END:STANDARD
END:VTIMEZONE
BEGIN:VEVENT
DTSTART;TZID=America/Chicago:20240416T093000
DTEND;TZID=America/Chicago:20240416T095000
DTSTAMP:20260419T162216
CREATED:20231205T161708Z
LAST-MODIFIED:20231205T161708Z
UID:10000640-1713259800-1713261000@mahometpubliclibrary.org
SUMMARY:Baby Storytime
DESCRIPTION:Bring your baby to storytime on Tuesday mornings at the Library! There will be songs\, bounces\, and books! \nPlease note: There will NOT be Baby Storytime on Tuesday\, March 19.
URL:https://mahometpubliclibrary.org/event/baby-storytime/2024-04-16/
CATEGORIES:Preschool
ATTACH;FMTTYPE=image/png:https://mahometpubliclibrary.org/wp-content/uploads/2023/07/Baby-Storytime_Event-Image_Fall-2023.png
END:VEVENT
BEGIN:VEVENT
DTSTART;TZID=America/Chicago:20240416T100000
DTEND;TZID=America/Chicago:20240416T103000
DTSTAMP:20260419T162216
CREATED:20231205T161239Z
LAST-MODIFIED:20231205T161504Z
UID:10000612-1713261600-1713263400@mahometpubliclibrary.org
SUMMARY:Toddler Storytime
DESCRIPTION:Join us on Tuesday mornings for storytime for toddlers (ages 18 months – 3 years) and caregivers. There will be songs\, rhymes\, and stories! \nPlease note: There will NOT be storytime on Tuesday\, March 19.
URL:https://mahometpubliclibrary.org/event/toddler-storytime/2024-04-16/
CATEGORIES:Preschool
ATTACH;FMTTYPE=image/png:https://mahometpubliclibrary.org/wp-content/uploads/2023/07/Toddler-Storytime_Event-Image_Fall-2023-1.png
END:VEVENT
BEGIN:VEVENT
DTSTART;TZID=America/Chicago:20240416T130000
DTEND;TZID=America/Chicago:20240416T150000
DTSTAMP:20260419T162216
CREATED:20231205T174500Z
LAST-MODIFIED:20240329T010247Z
UID:10000808-1713272400-1713279600@mahometpubliclibrary.org
SUMMARY:Stitching Circle
DESCRIPTION:Enjoy a crafty hobby and conversation each month! Participants are welcome to bring their own fiber arts projects (crochet\, knitting\, embroidery\, etc…) or any crafty hobby. Beginners are welcome! A selection of basic supplies will also be available for use. \nDates: \nJanuary 23 \nFebruary 20 \nApril 16 \n  \nNo meeting in March or May.  \nStitching Circle is a part of our Adult Craft Connection Program series. No registration required.
URL:https://mahometpubliclibrary.org/event/stitchcircle/2024-04-16/
CATEGORIES:Adults
ATTACH;FMTTYPE=image/png:https://mahometpubliclibrary.org/wp-content/uploads/2023/06/Stitching-Circle_Facebook-Cover_Summer-2023.png
END:VEVENT
END:VCALENDAR