BEGIN:VCALENDAR
VERSION:2.0
PRODID:-//Mahomet Public Library - ECPv6.15.11//NONSGML v1.0//EN
CALSCALE:GREGORIAN
METHOD:PUBLISH
X-WR-CALNAME:Mahomet Public Library
X-ORIGINAL-URL:https://mahometpubliclibrary.org
X-WR-CALDESC:Events for Mahomet Public Library
REFRESH-INTERVAL;VALUE=DURATION:PT1H
X-Robots-Tag:noindex
X-PUBLISHED-TTL:PT1H
BEGIN:VTIMEZONE
TZID:America/Chicago
BEGIN:DAYLIGHT
TZOFFSETFROM:-0600
TZOFFSETTO:-0500
TZNAME:CDT
DTSTART:20230312T080000
END:DAYLIGHT
BEGIN:STANDARD
TZOFFSETFROM:-0500
TZOFFSETTO:-0600
TZNAME:CST
DTSTART:20231105T070000
END:STANDARD
BEGIN:DAYLIGHT
TZOFFSETFROM:-0600
TZOFFSETTO:-0500
TZNAME:CDT
DTSTART:20240310T080000
END:DAYLIGHT
BEGIN:STANDARD
TZOFFSETFROM:-0500
TZOFFSETTO:-0600
TZNAME:CST
DTSTART:20241103T070000
END:STANDARD
BEGIN:DAYLIGHT
TZOFFSETFROM:-0600
TZOFFSETTO:-0500
TZNAME:CDT
DTSTART:20250309T080000
END:DAYLIGHT
BEGIN:STANDARD
TZOFFSETFROM:-0500
TZOFFSETTO:-0600
TZNAME:CST
DTSTART:20251102T070000
END:STANDARD
END:VTIMEZONE
BEGIN:VEVENT
DTSTART;VALUE=DATE:20240325
DTEND;VALUE=DATE:20240328
DTSTAMP:20260419T175141
CREATED:20231205T173111Z
LAST-MODIFIED:20231205T173442Z
UID:10000697-1711332000-1711504799@mahometpubliclibrary.org
SUMMARY:Adult Take and Make Kit
DESCRIPTION:Take home a craft to make! Our take-and-make crafts come with all the supplies needed for a project. \n  \nDates and Crafts: \nBeginning January 29: Wooden bead keychain \nBeginning February 26: Yarn stamped greeting cards \nBeginning March 25: Pinecone clothespin \nBeginning April 29: DIY lip balm \nBeginning May 27: Clay pot mushroom \n  \nStop by the Library to pick up a free kit. Kits are available while supplies last. Limit one kit per person\, please! \nAdult take-and-make crafts are part of our Adult Craft Connection series.
URL:https://mahometpubliclibrary.org/event/adult-take-and-make/2024-03-25/
CATEGORIES:Adults
ATTACH;FMTTYPE=image/png:https://mahometpubliclibrary.org/wp-content/uploads/2023/12/Adult-Take-and-Makes_Event-Image.png
END:VEVENT
BEGIN:VEVENT
DTSTART;TZID=America/Chicago:20240326T093000
DTEND;TZID=America/Chicago:20240326T095000
DTSTAMP:20260419T175141
CREATED:20231205T161708Z
LAST-MODIFIED:20231205T161708Z
UID:10000637-1711445400-1711446600@mahometpubliclibrary.org
SUMMARY:Baby Storytime
DESCRIPTION:Bring your baby to storytime on Tuesday mornings at the Library! There will be songs\, bounces\, and books! \nPlease note: There will NOT be Baby Storytime on Tuesday\, March 19.
URL:https://mahometpubliclibrary.org/event/baby-storytime/2024-03-26/
CATEGORIES:Preschool
ATTACH;FMTTYPE=image/png:https://mahometpubliclibrary.org/wp-content/uploads/2023/07/Baby-Storytime_Event-Image_Fall-2023.png
END:VEVENT
BEGIN:VEVENT
DTSTART;TZID=America/Chicago:20240326T100000
DTEND;TZID=America/Chicago:20240326T103000
DTSTAMP:20260419T175141
CREATED:20231205T161239Z
LAST-MODIFIED:20231205T161504Z
UID:10000609-1711447200-1711449000@mahometpubliclibrary.org
SUMMARY:Toddler Storytime
DESCRIPTION:Join us on Tuesday mornings for storytime for toddlers (ages 18 months – 3 years) and caregivers. There will be songs\, rhymes\, and stories! \nPlease note: There will NOT be storytime on Tuesday\, March 19.
URL:https://mahometpubliclibrary.org/event/toddler-storytime/2024-03-26/
CATEGORIES:Preschool
ATTACH;FMTTYPE=image/png:https://mahometpubliclibrary.org/wp-content/uploads/2023/07/Toddler-Storytime_Event-Image_Fall-2023-1.png
END:VEVENT
BEGIN:VEVENT
DTSTART;TZID=America/Chicago:20240326T153000
DTEND;TZID=America/Chicago:20240326T173000
DTSTAMP:20260419T175141
CREATED:20231205T181102Z
LAST-MODIFIED:20240319T164334Z
UID:10000711-1711467000-1711474200@mahometpubliclibrary.org
SUMMARY:Crafting the Cosmos: Eclipse Crafts for Kids
DESCRIPTION:Prepare for the upcoming solar eclipse by joining us at the Library for crafts that are truly out of this world! While the crafts are tailored for kids in grades K-5\, everyone is welcome to come and participate! \nLooking for eclipse glasses? We’ll be giving away ONE PAIR per child at this event! \n  \nNo registration required. \n  \nAdditional Eclipse Information\nUpcoming Eclipse Events at the Library: \n\nAll About Solar Eclipses\nWatch the Solar Eclipse at the Library\n\nEclipse Safety: \n\nGuide to safely viewing the eclipse (American Astronomical Society)\n\nAlternative Ways to View the Eclipse: \n\nPrintable Guide to building eclipse viewers from household materials
URL:https://mahometpubliclibrary.org/event/craftingthecosmos/
CATEGORIES:School age
ATTACH;FMTTYPE=image/png:https://mahometpubliclibrary.org/wp-content/uploads/2023/12/Crafting-the-Cosmos_Event-Image_April-2024.png
END:VEVENT
END:VCALENDAR