BEGIN:VCALENDAR
VERSION:2.0
PRODID:-//Mahomet Public Library - ECPv6.15.11//NONSGML v1.0//EN
CALSCALE:GREGORIAN
METHOD:PUBLISH
X-ORIGINAL-URL:https://mahometpubliclibrary.org
X-WR-CALDESC:Events for Mahomet Public Library
REFRESH-INTERVAL;VALUE=DURATION:PT1H
X-Robots-Tag:noindex
X-PUBLISHED-TTL:PT1H
BEGIN:VTIMEZONE
TZID:America/Chicago
BEGIN:DAYLIGHT
TZOFFSETFROM:-0600
TZOFFSETTO:-0500
TZNAME:CDT
DTSTART:20230312T080000
END:DAYLIGHT
BEGIN:STANDARD
TZOFFSETFROM:-0500
TZOFFSETTO:-0600
TZNAME:CST
DTSTART:20231105T070000
END:STANDARD
BEGIN:DAYLIGHT
TZOFFSETFROM:-0600
TZOFFSETTO:-0500
TZNAME:CDT
DTSTART:20240310T080000
END:DAYLIGHT
BEGIN:STANDARD
TZOFFSETFROM:-0500
TZOFFSETTO:-0600
TZNAME:CST
DTSTART:20241103T070000
END:STANDARD
BEGIN:DAYLIGHT
TZOFFSETFROM:-0600
TZOFFSETTO:-0500
TZNAME:CDT
DTSTART:20250309T080000
END:DAYLIGHT
BEGIN:STANDARD
TZOFFSETFROM:-0500
TZOFFSETTO:-0600
TZNAME:CST
DTSTART:20251102T070000
END:STANDARD
END:VTIMEZONE
BEGIN:VEVENT
DTSTART;TZID=America/Chicago:20240307T130000
DTEND;TZID=America/Chicago:20240307T143000
DTSTAMP:20260419T175258
CREATED:20231205T194315Z
LAST-MODIFIED:20231205T194315Z
UID:10000736-1709816400-1709821800@mahometpubliclibrary.org
SUMMARY:DIY Earring Workshop
DESCRIPTION:Discover the art of crafting beaded earrings\, perfect for adorning yourself or gifting to a friend. We’ve got all the bling you need—just bring your creativity! \nRegistration is required. There are two workshops; please register for ONE session at 1:00 pm or 6:00 pm.
URL:https://mahometpubliclibrary.org/event/afternoondiyearrings/
CATEGORIES:Adults,Teens
ATTACH;FMTTYPE=image/png:https://mahometpubliclibrary.org/wp-content/uploads/2023/12/Earring-Workshop_Event-Image_March-2024.png
END:VEVENT
BEGIN:VEVENT
DTSTART;TZID=America/Chicago:20240307T180000
DTEND;TZID=America/Chicago:20240307T193000
DTSTAMP:20260419T175258
CREATED:20231205T194423Z
LAST-MODIFIED:20231205T194424Z
UID:10000737-1709834400-1709839800@mahometpubliclibrary.org
SUMMARY:DIY Earring Workshop
DESCRIPTION:Discover the art of crafting beaded earrings\, perfect for adorning yourself or gifting to a friend. We’ve got all the bling you need—just bring your creativity! \nRegistration is required. There are two workshops; please register for ONE session at 1:00 pm or 6:00 pm.
URL:https://mahometpubliclibrary.org/event/eveningdiyearrings/
CATEGORIES:Adults,Teens
ATTACH;FMTTYPE=image/png:https://mahometpubliclibrary.org/wp-content/uploads/2023/12/Earring-Workshop_Event-Image_March-2024.png
END:VEVENT
END:VCALENDAR