BEGIN:VCALENDAR
VERSION:2.0
PRODID:-//Mahomet Public Library - ECPv6.15.11//NONSGML v1.0//EN
CALSCALE:GREGORIAN
METHOD:PUBLISH
X-ORIGINAL-URL:https://mahometpubliclibrary.org
X-WR-CALDESC:Events for Mahomet Public Library
REFRESH-INTERVAL;VALUE=DURATION:PT1H
X-Robots-Tag:noindex
X-PUBLISHED-TTL:PT1H
BEGIN:VTIMEZONE
TZID:America/Chicago
BEGIN:DAYLIGHT
TZOFFSETFROM:-0600
TZOFFSETTO:-0500
TZNAME:CDT
DTSTART:20230312T080000
END:DAYLIGHT
BEGIN:STANDARD
TZOFFSETFROM:-0500
TZOFFSETTO:-0600
TZNAME:CST
DTSTART:20231105T070000
END:STANDARD
BEGIN:DAYLIGHT
TZOFFSETFROM:-0600
TZOFFSETTO:-0500
TZNAME:CDT
DTSTART:20240310T080000
END:DAYLIGHT
BEGIN:STANDARD
TZOFFSETFROM:-0500
TZOFFSETTO:-0600
TZNAME:CST
DTSTART:20241103T070000
END:STANDARD
BEGIN:DAYLIGHT
TZOFFSETFROM:-0600
TZOFFSETTO:-0500
TZNAME:CDT
DTSTART:20250309T080000
END:DAYLIGHT
BEGIN:STANDARD
TZOFFSETFROM:-0500
TZOFFSETTO:-0600
TZNAME:CST
DTSTART:20251102T070000
END:STANDARD
END:VTIMEZONE
BEGIN:VEVENT
DTSTART;TZID=America/Chicago:20240221T100000
DTEND;TZID=America/Chicago:20240221T103000
DTSTAMP:20260419T192043
CREATED:20231205T162015Z
LAST-MODIFIED:20231205T162015Z
UID:10000660-1708509600-1708511400@mahometpubliclibrary.org
SUMMARY:Preschool Storytime
DESCRIPTION:Join us on Wednesday mornings for storytime for preschoolers (ages 3-5) and caregivers. There will be songs\, movement\, and books! \nPlease note: There will NOT be Preschool Storytime on Wednesday\, April 3.
URL:https://mahometpubliclibrary.org/event/preschool-storytime/2024-02-21/
CATEGORIES:Preschool
ATTACH;FMTTYPE=image/png:https://mahometpubliclibrary.org/wp-content/uploads/2023/07/Preschool-Storytime_Event-Image_Fall-2023-1.png
END:VEVENT
BEGIN:VEVENT
DTSTART;TZID=America/Chicago:20240221T133000
DTEND;TZID=America/Chicago:20240221T143000
DTSTAMP:20260419T192043
CREATED:20230727T223443Z
LAST-MODIFIED:20231205T155414Z
UID:10000562-1708522200-1708525800@mahometpubliclibrary.org
SUMMARY:Elementary Explorers
DESCRIPTION:Join us every Wednesday for a fun\, one hour after school program! Activities will alternate monthly between Art Club and LEGO Club. We’ll usually meet from 3:30-4:30 pm\, but we’ll move it up to 1:30-2:30 pm on early dismissal days. \nDecember: LEGO Club \n\nDecember 6: early dismissal (1:30-2:30 pm)\nDecember 13: regular time (3:30-4:30 pm)\n\nJanuary: Art Club \n\nJanuary 10\, 17\, 24: regular time (3:30-4:30 pm)\nJanuary 31: early dismissal (1:30-2:30 pm)\n\nFebruary: LEGO Club \n\nFebruary 7\, 14\, 28: regular time (3:30-4:30 pm)\nFebruary 21: early dismissal (1:30-2:30 pm)\n\nMarch: Art Club \n\nMarch 6: early dismissal (1:30-2:30 pm)\nMarch 20\, 27: regular time (3:30-4:30 pm)\nNo Art Club on March 13.\n\nApril: LEGO Club \n\nApril 3\, 17\, 24: regular time (3:30-4:30 pm)\nApril 10: early dismissal (1:30-2:30 pm)\n\nGrades K-5. No registration required.
URL:https://mahometpubliclibrary.org/event/elementary-explorers/2024-02-21/
CATEGORIES:School age
ATTACH;FMTTYPE=image/png:https://mahometpubliclibrary.org/wp-content/uploads/2023/07/Elementary-Explorers_Event-Image_Fall-2023.png
END:VEVENT
END:VCALENDAR