BEGIN:VCALENDAR
VERSION:2.0
PRODID:-//Mahomet Public Library - ECPv6.15.11//NONSGML v1.0//EN
CALSCALE:GREGORIAN
METHOD:PUBLISH
X-WR-CALNAME:Mahomet Public Library
X-ORIGINAL-URL:https://mahometpubliclibrary.org
X-WR-CALDESC:Events for Mahomet Public Library
REFRESH-INTERVAL;VALUE=DURATION:PT1H
X-Robots-Tag:noindex
X-PUBLISHED-TTL:PT1H
BEGIN:VTIMEZONE
TZID:America/Chicago
BEGIN:DAYLIGHT
TZOFFSETFROM:-0600
TZOFFSETTO:-0500
TZNAME:CDT
DTSTART:20230312T080000
END:DAYLIGHT
BEGIN:STANDARD
TZOFFSETFROM:-0500
TZOFFSETTO:-0600
TZNAME:CST
DTSTART:20231105T070000
END:STANDARD
BEGIN:DAYLIGHT
TZOFFSETFROM:-0600
TZOFFSETTO:-0500
TZNAME:CDT
DTSTART:20240310T080000
END:DAYLIGHT
BEGIN:STANDARD
TZOFFSETFROM:-0500
TZOFFSETTO:-0600
TZNAME:CST
DTSTART:20241103T070000
END:STANDARD
BEGIN:DAYLIGHT
TZOFFSETFROM:-0600
TZOFFSETTO:-0500
TZNAME:CDT
DTSTART:20250309T080000
END:DAYLIGHT
BEGIN:STANDARD
TZOFFSETFROM:-0500
TZOFFSETTO:-0600
TZNAME:CST
DTSTART:20251102T070000
END:STANDARD
END:VTIMEZONE
BEGIN:VEVENT
DTSTART;VALUE=DATE:20240129
DTEND;VALUE=DATE:20240201
DTSTAMP:20260419T192047
CREATED:20231205T173111Z
LAST-MODIFIED:20231205T173442Z
UID:10000695-1706493600-1706666399@mahometpubliclibrary.org
SUMMARY:Adult Take and Make Kit
DESCRIPTION:Take home a craft to make! Our take-and-make crafts come with all the supplies needed for a project. \n  \nDates and Crafts: \nBeginning January 29: Wooden bead keychain \nBeginning February 26: Yarn stamped greeting cards \nBeginning March 25: Pinecone clothespin \nBeginning April 29: DIY lip balm \nBeginning May 27: Clay pot mushroom \n  \nStop by the Library to pick up a free kit. Kits are available while supplies last. Limit one kit per person\, please! \nAdult take-and-make crafts are part of our Adult Craft Connection series.
URL:https://mahometpubliclibrary.org/event/adult-take-and-make/2024-01-29/
CATEGORIES:Adults
ATTACH;FMTTYPE=image/png:https://mahometpubliclibrary.org/wp-content/uploads/2023/12/Adult-Take-and-Makes_Event-Image.png
END:VEVENT
BEGIN:VEVENT
DTSTART;TZID=America/Chicago:20240130T093000
DTEND;TZID=America/Chicago:20240130T095000
DTSTAMP:20260419T192047
CREATED:20231205T161708Z
LAST-MODIFIED:20231205T161708Z
UID:10000630-1706607000-1706608200@mahometpubliclibrary.org
SUMMARY:Baby Storytime
DESCRIPTION:Bring your baby to storytime on Tuesday mornings at the Library! There will be songs\, bounces\, and books! \nPlease note: There will NOT be Baby Storytime on Tuesday\, March 19.
URL:https://mahometpubliclibrary.org/event/baby-storytime/2024-01-30/
CATEGORIES:Preschool
ATTACH;FMTTYPE=image/png:https://mahometpubliclibrary.org/wp-content/uploads/2023/07/Baby-Storytime_Event-Image_Fall-2023.png
END:VEVENT
BEGIN:VEVENT
DTSTART;TZID=America/Chicago:20240130T100000
DTEND;TZID=America/Chicago:20240130T103000
DTSTAMP:20260419T192047
CREATED:20231205T161239Z
LAST-MODIFIED:20231205T161504Z
UID:10000602-1706608800-1706610600@mahometpubliclibrary.org
SUMMARY:Toddler Storytime
DESCRIPTION:Join us on Tuesday mornings for storytime for toddlers (ages 18 months – 3 years) and caregivers. There will be songs\, rhymes\, and stories! \nPlease note: There will NOT be storytime on Tuesday\, March 19.
URL:https://mahometpubliclibrary.org/event/toddler-storytime/2024-01-30/
CATEGORIES:Preschool
ATTACH;FMTTYPE=image/png:https://mahometpubliclibrary.org/wp-content/uploads/2023/07/Toddler-Storytime_Event-Image_Fall-2023-1.png
END:VEVENT
END:VCALENDAR