BEGIN:VCALENDAR
VERSION:2.0
PRODID:-//Mahomet Public Library - ECPv6.15.11//NONSGML v1.0//EN
CALSCALE:GREGORIAN
METHOD:PUBLISH
X-WR-CALNAME:Mahomet Public Library
X-ORIGINAL-URL:https://mahometpubliclibrary.org
X-WR-CALDESC:Events for Mahomet Public Library
REFRESH-INTERVAL;VALUE=DURATION:PT1H
X-Robots-Tag:noindex
X-PUBLISHED-TTL:PT1H
BEGIN:VTIMEZONE
TZID:America/Chicago
BEGIN:DAYLIGHT
TZOFFSETFROM:-0600
TZOFFSETTO:-0500
TZNAME:CDT
DTSTART:20220313T080000
END:DAYLIGHT
BEGIN:STANDARD
TZOFFSETFROM:-0500
TZOFFSETTO:-0600
TZNAME:CST
DTSTART:20221106T070000
END:STANDARD
BEGIN:DAYLIGHT
TZOFFSETFROM:-0600
TZOFFSETTO:-0500
TZNAME:CDT
DTSTART:20230312T080000
END:DAYLIGHT
BEGIN:STANDARD
TZOFFSETFROM:-0500
TZOFFSETTO:-0600
TZNAME:CST
DTSTART:20231105T070000
END:STANDARD
BEGIN:DAYLIGHT
TZOFFSETFROM:-0600
TZOFFSETTO:-0500
TZNAME:CDT
DTSTART:20240310T080000
END:DAYLIGHT
BEGIN:STANDARD
TZOFFSETFROM:-0500
TZOFFSETTO:-0600
TZNAME:CST
DTSTART:20241103T070000
END:STANDARD
END:VTIMEZONE
BEGIN:VEVENT
DTSTART;TZID=America/Chicago:20231206T100000
DTEND;TZID=America/Chicago:20231206T103000
DTSTAMP:20260419T220111
CREATED:20230727T221412Z
LAST-MODIFIED:20230907T041309Z
UID:10000447-1701856800-1701858600@mahometpubliclibrary.org
SUMMARY:Preschool Storytime
DESCRIPTION:Join us on Wednesday mornings for storytime for preschoolers (ages 3-5) and caregivers. There will be songs\, movement\, and books! \nPlease note: There will NOT be Preschool Storytime on October 25 or November 22.
URL:https://mahometpubliclibrary.org/event/preschoolstorytime/2023-12-06/
CATEGORIES:Preschool
ATTACH;FMTTYPE=image/png:https://mahometpubliclibrary.org/wp-content/uploads/2023/07/Preschool-Storytime_Event-Image_Fall-2023-1.png
END:VEVENT
BEGIN:VEVENT
DTSTART;TZID=America/Chicago:20231206T133000
DTEND;TZID=America/Chicago:20231206T143000
DTSTAMP:20260419T220111
CREATED:20230727T223443Z
LAST-MODIFIED:20231205T155414Z
UID:10000306-1701869400-1701873000@mahometpubliclibrary.org
SUMMARY:Elementary Explorers
DESCRIPTION:Join us every Wednesday for a fun\, one hour after school program! Activities will alternate monthly between Art Club and LEGO Club. We’ll usually meet from 3:30-4:30 pm\, but we’ll move it up to 1:30-2:30 pm on early dismissal days. \nDecember: LEGO Club \n\nDecember 6: early dismissal (1:30-2:30 pm)\nDecember 13: regular time (3:30-4:30 pm)\n\nJanuary: Art Club \n\nJanuary 10\, 17\, 24: regular time (3:30-4:30 pm)\nJanuary 31: early dismissal (1:30-2:30 pm)\n\nFebruary: LEGO Club \n\nFebruary 7\, 14\, 28: regular time (3:30-4:30 pm)\nFebruary 21: early dismissal (1:30-2:30 pm)\n\nMarch: Art Club \n\nMarch 6: early dismissal (1:30-2:30 pm)\nMarch 20\, 27: regular time (3:30-4:30 pm)\nNo Art Club on March 13.\n\nApril: LEGO Club \n\nApril 3\, 17\, 24: regular time (3:30-4:30 pm)\nApril 10: early dismissal (1:30-2:30 pm)\n\nGrades K-5. No registration required.
URL:https://mahometpubliclibrary.org/event/elementary-explorers/2023-12-06/
CATEGORIES:School age
ATTACH;FMTTYPE=image/png:https://mahometpubliclibrary.org/wp-content/uploads/2023/07/Elementary-Explorers_Event-Image_Fall-2023.png
END:VEVENT
BEGIN:VEVENT
DTSTART;TZID=America/Chicago:20231206T190000
DTEND;TZID=America/Chicago:20231206T200000
DTSTAMP:20260419T220111
CREATED:20230912T164031Z
LAST-MODIFIED:20230912T164031Z
UID:10000544-1701889200-1701892800@mahometpubliclibrary.org
SUMMARY:Illinois Libraries Present: Surviving the Holidays with Lori Gottlieb
DESCRIPTION:Lori Gottlieb\, New York Times bestselling author of Maybe You Should Talk to Someone\, and co-host of the “Dear Therapists” podcast joins us for a thought-provoking conversation about mental health in anticipation of the winter holiday season.  \nGottlieb will share tools to help in everyday life and especially as you prepare for the holidays. Lori Gottlieb is a psychotherapist and New York Times bestselling author of Maybe You Should Talk to Someone\, which has sold over a million copies and is currently being adapted into a television series. In addition to her clinical practice\, she is co-host of the popular “Dear Therapists” podcast and writes The Atlantic’s “Dear Therapist” advice column. She has been on the Today Show\, Good Morning America\, CNN\, and NPR’s “Fresh Air” as a therapy expert and her 2019 TED Talk was one of the most watched of the year.  \nVia Zoom. Registration is required. \n  \nThis event is made possible by Illinois Libraries Present\, a statewide collaboration among public libraries offering premier events. ILP is funded in part by a grant awarded by the Illinois State Library\, a department of the Office of Secretary of State\, using funds provided by the U.S. Institute of Museum and Library Services\, under the provisions of the Library Services and Technology Act (LSTA).
URL:https://mahometpubliclibrary.org/event/lorigottlieb/
CATEGORIES:Adults
ATTACH;FMTTYPE=image/png:https://mahometpubliclibrary.org/wp-content/uploads/2023/09/Lori-Gottlieb_Event-Image_October-2023.png
END:VEVENT
END:VCALENDAR