BEGIN:VCALENDAR
VERSION:2.0
PRODID:-//Mahomet Public Library - ECPv6.15.11//NONSGML v1.0//EN
CALSCALE:GREGORIAN
METHOD:PUBLISH
X-ORIGINAL-URL:https://mahometpubliclibrary.org
X-WR-CALDESC:Events for Mahomet Public Library
REFRESH-INTERVAL;VALUE=DURATION:PT1H
X-Robots-Tag:noindex
X-PUBLISHED-TTL:PT1H
BEGIN:VTIMEZONE
TZID:America/Chicago
BEGIN:DAYLIGHT
TZOFFSETFROM:-0600
TZOFFSETTO:-0500
TZNAME:CDT
DTSTART:20220313T080000
END:DAYLIGHT
BEGIN:STANDARD
TZOFFSETFROM:-0500
TZOFFSETTO:-0600
TZNAME:CST
DTSTART:20221106T070000
END:STANDARD
BEGIN:DAYLIGHT
TZOFFSETFROM:-0600
TZOFFSETTO:-0500
TZNAME:CDT
DTSTART:20230312T080000
END:DAYLIGHT
BEGIN:STANDARD
TZOFFSETFROM:-0500
TZOFFSETTO:-0600
TZNAME:CST
DTSTART:20231105T070000
END:STANDARD
BEGIN:DAYLIGHT
TZOFFSETFROM:-0600
TZOFFSETTO:-0500
TZNAME:CDT
DTSTART:20240310T080000
END:DAYLIGHT
BEGIN:STANDARD
TZOFFSETFROM:-0500
TZOFFSETTO:-0600
TZNAME:CST
DTSTART:20241103T070000
END:STANDARD
END:VTIMEZONE
BEGIN:VEVENT
DTSTART;TZID=America/Chicago:20231012T180000
DTEND;TZID=America/Chicago:20231012T190000
DTSTAMP:20260420T012611
CREATED:20230823T084654Z
LAST-MODIFIED:20230907T040358Z
UID:10000342-1697133600-1697137200@mahometpubliclibrary.org
SUMMARY:Write On! Teen Writing Group
DESCRIPTION:Keep your writing skills sharp! This writing group for teens will meet monthly to talk about different aspects of the writing process and take turns sharing our work with the group. Creative writers of all levels are welcome! \nRegister for each session individually. Grades 6-12. \n  \nSession Dates: \nSeptember 7 \nOctober 12 \nNovember 9
URL:https://mahometpubliclibrary.org/event/octoberwriteon/
CATEGORIES:Teens
ATTACH;FMTTYPE=image/png:https://mahometpubliclibrary.org/wp-content/uploads/2023/05/Write-On_Facebook-Cover_Summer-2023.png
END:VEVENT
BEGIN:VEVENT
DTSTART;TZID=America/Chicago:20231012T190000
DTEND;TZID=America/Chicago:20231012T200000
DTSTAMP:20260420T012611
CREATED:20230823T090456Z
LAST-MODIFIED:20230907T040341Z
UID:10000349-1697137200-1697140800@mahometpubliclibrary.org
SUMMARY:Critical Conversations Book Club
DESCRIPTION:Join us on Zoom for Critical Conversations\, a book club focused on important cultural topics in contemporary society. This fall\, we’ll be reading Eloquent Rage by Brittney Cooper. \nBook Club Dates: \nOctober 12 \nNovember 2 \nNovember 16 \nRegistration is required. After you register\, you will receive the link for the Zoom meeting.
URL:https://mahometpubliclibrary.org/event/oct12criticalconversations/
CATEGORIES:Adults
ATTACH;FMTTYPE=image/png:https://mahometpubliclibrary.org/wp-content/uploads/2023/08/Critical-Conversations_Event-Image_Fall-2023.png
END:VEVENT
END:VCALENDAR