BEGIN:VCALENDAR
VERSION:2.0
PRODID:-//Mahomet Public Library - ECPv6.15.11//NONSGML v1.0//EN
CALSCALE:GREGORIAN
METHOD:PUBLISH
X-WR-CALNAME:Mahomet Public Library
X-ORIGINAL-URL:https://mahometpubliclibrary.org
X-WR-CALDESC:Events for Mahomet Public Library
REFRESH-INTERVAL;VALUE=DURATION:PT1H
X-Robots-Tag:noindex
X-PUBLISHED-TTL:PT1H
BEGIN:VTIMEZONE
TZID:America/Chicago
BEGIN:DAYLIGHT
TZOFFSETFROM:-0600
TZOFFSETTO:-0500
TZNAME:CDT
DTSTART:20220313T080000
END:DAYLIGHT
BEGIN:STANDARD
TZOFFSETFROM:-0500
TZOFFSETTO:-0600
TZNAME:CST
DTSTART:20221106T070000
END:STANDARD
BEGIN:DAYLIGHT
TZOFFSETFROM:-0600
TZOFFSETTO:-0500
TZNAME:CDT
DTSTART:20230312T080000
END:DAYLIGHT
BEGIN:STANDARD
TZOFFSETFROM:-0500
TZOFFSETTO:-0600
TZNAME:CST
DTSTART:20231105T070000
END:STANDARD
BEGIN:DAYLIGHT
TZOFFSETFROM:-0600
TZOFFSETTO:-0500
TZNAME:CDT
DTSTART:20240310T080000
END:DAYLIGHT
BEGIN:STANDARD
TZOFFSETFROM:-0500
TZOFFSETTO:-0600
TZNAME:CST
DTSTART:20241103T070000
END:STANDARD
END:VTIMEZONE
BEGIN:VEVENT
DTSTART;TZID=America/Chicago:20231011T100000
DTEND;TZID=America/Chicago:20231011T103000
DTSTAMP:20260420T012602
CREATED:20230727T221412Z
LAST-MODIFIED:20230907T041309Z
UID:10000441-1697018400-1697020200@mahometpubliclibrary.org
SUMMARY:Preschool Storytime
DESCRIPTION:Join us on Wednesday mornings for storytime for preschoolers (ages 3-5) and caregivers. There will be songs\, movement\, and books! \nPlease note: There will NOT be Preschool Storytime on October 25 or November 22.
URL:https://mahometpubliclibrary.org/event/preschoolstorytime/2023-10-11/
CATEGORIES:Preschool
ATTACH;FMTTYPE=image/png:https://mahometpubliclibrary.org/wp-content/uploads/2023/07/Preschool-Storytime_Event-Image_Fall-2023-1.png
END:VEVENT
BEGIN:VEVENT
DTSTART;TZID=America/Chicago:20231011T153000
DTEND;TZID=America/Chicago:20231011T163000
DTSTAMP:20260420T012602
CREATED:20230727T222956Z
LAST-MODIFIED:20230907T041153Z
UID:10000419-1697038200-1697041800@mahometpubliclibrary.org
SUMMARY:Elementary Explorers
DESCRIPTION:Join us every Wednesday for a fun\, one hour after school program! Activities will alternate monthly between Art Club and LEGO Club. We’ll usually meet from 3:30-4:30 pm\, but we’ll move it up to 1:30-2:30 pm on early dismissal days. \nSeptember: Art Club \n\nSeptember 6\, 13\, 27: regular time (3:30-4:30 pm)\nSeptember 20: early dismissal (1:30-2:30 pm)\n\nOctober: LEGO Club \n\nOctober 4\, 11: regular time (3:30-4:30 pm)\nOctober 18: early dismissal (1:30-2:30 pm)\nNo club meeting on October 25\n\nNovember: Art Club \n\nNovember 1: early dismissal (1:30-2:30 pm)\nNovember 8\, 15\, 29: regular time (3:30-4:30 pm)\nNo club meeting on November 22\n\nDecember: LEGO Club \n\nDecember 6: early dismissal (1:30-2:30 pm)\nDecember 13: regular time (3:30-4:30 pm)\n\nGrades K-5. No registration required.
URL:https://mahometpubliclibrary.org/event/elementaryexplorers/2023-10-11/
CATEGORIES:School age
ATTACH;FMTTYPE=image/png:https://mahometpubliclibrary.org/wp-content/uploads/2023/07/Elementary-Explorers_Event-Image_Fall-2023.png
END:VEVENT
END:VCALENDAR