BEGIN:VCALENDAR
VERSION:2.0
PRODID:-//Mahomet Public Library - ECPv6.15.11//NONSGML v1.0//EN
CALSCALE:GREGORIAN
METHOD:PUBLISH
X-ORIGINAL-URL:https://mahometpubliclibrary.org
X-WR-CALDESC:Events for Mahomet Public Library
REFRESH-INTERVAL;VALUE=DURATION:PT1H
X-Robots-Tag:noindex
X-PUBLISHED-TTL:PT1H
BEGIN:VTIMEZONE
TZID:America/Chicago
BEGIN:DAYLIGHT
TZOFFSETFROM:-0600
TZOFFSETTO:-0500
TZNAME:CDT
DTSTART:20220313T080000
END:DAYLIGHT
BEGIN:STANDARD
TZOFFSETFROM:-0500
TZOFFSETTO:-0600
TZNAME:CST
DTSTART:20221106T070000
END:STANDARD
BEGIN:DAYLIGHT
TZOFFSETFROM:-0600
TZOFFSETTO:-0500
TZNAME:CDT
DTSTART:20230312T080000
END:DAYLIGHT
BEGIN:STANDARD
TZOFFSETFROM:-0500
TZOFFSETTO:-0600
TZNAME:CST
DTSTART:20231105T070000
END:STANDARD
BEGIN:DAYLIGHT
TZOFFSETFROM:-0600
TZOFFSETTO:-0500
TZNAME:CDT
DTSTART:20240310T080000
END:DAYLIGHT
BEGIN:STANDARD
TZOFFSETFROM:-0500
TZOFFSETTO:-0600
TZNAME:CST
DTSTART:20241103T070000
END:STANDARD
END:VTIMEZONE
BEGIN:VEVENT
DTSTART;TZID=America/Chicago:20230906T100000
DTEND;TZID=America/Chicago:20230906T103000
DTSTAMP:20260420T031636
CREATED:20230727T221412Z
LAST-MODIFIED:20230907T041309Z
UID:10000436-1693994400-1693996200@mahometpubliclibrary.org
SUMMARY:Preschool Storytime
DESCRIPTION:Join us on Wednesday mornings for storytime for preschoolers (ages 3-5) and caregivers. There will be songs\, movement\, and books! \nPlease note: There will NOT be Preschool Storytime on October 25 or November 22.
URL:https://mahometpubliclibrary.org/event/preschoolstorytime/2023-09-06/
CATEGORIES:Preschool
ATTACH;FMTTYPE=image/png:https://mahometpubliclibrary.org/wp-content/uploads/2023/07/Preschool-Storytime_Event-Image_Fall-2023-1.png
END:VEVENT
BEGIN:VEVENT
DTSTART;TZID=America/Chicago:20230906T153000
DTEND;TZID=America/Chicago:20230906T163000
DTSTAMP:20260420T031636
CREATED:20230727T222956Z
LAST-MODIFIED:20230907T041153Z
UID:10000415-1694014200-1694017800@mahometpubliclibrary.org
SUMMARY:Elementary Explorers
DESCRIPTION:Join us every Wednesday for a fun\, one hour after school program! Activities will alternate monthly between Art Club and LEGO Club. We’ll usually meet from 3:30-4:30 pm\, but we’ll move it up to 1:30-2:30 pm on early dismissal days. \nSeptember: Art Club \n\nSeptember 6\, 13\, 27: regular time (3:30-4:30 pm)\nSeptember 20: early dismissal (1:30-2:30 pm)\n\nOctober: LEGO Club \n\nOctober 4\, 11: regular time (3:30-4:30 pm)\nOctober 18: early dismissal (1:30-2:30 pm)\nNo club meeting on October 25\n\nNovember: Art Club \n\nNovember 1: early dismissal (1:30-2:30 pm)\nNovember 8\, 15\, 29: regular time (3:30-4:30 pm)\nNo club meeting on November 22\n\nDecember: LEGO Club \n\nDecember 6: early dismissal (1:30-2:30 pm)\nDecember 13: regular time (3:30-4:30 pm)\n\nGrades K-5. No registration required.
URL:https://mahometpubliclibrary.org/event/elementaryexplorers/2023-09-06/
CATEGORIES:School age
ATTACH;FMTTYPE=image/png:https://mahometpubliclibrary.org/wp-content/uploads/2023/07/Elementary-Explorers_Event-Image_Fall-2023.png
END:VEVENT
BEGIN:VEVENT
DTSTART;TZID=America/Chicago:20230906T190000
DTEND;TZID=America/Chicago:20230906T200000
DTSTAMP:20260420T031636
CREATED:20230901T064410Z
LAST-MODIFIED:20230907T041104Z
UID:10000359-1694026800-1694030400@mahometpubliclibrary.org
SUMMARY:Illinois Libraries Present: The Power of Story with Colson Whitehead
DESCRIPTION:Kicking off our third season\, we are thrilled to welcome two-time Pulitzer Prize winning author Colson Whitehead to our Illinois libraries. The #1 New York Times bestselling author of The Underground Railroad\, The Nickel Boys\, Harlem Shuffle\, The Noble Hustle\, Zone One\, Sag Harbor\, The Intuitionist\, John Henry Days\, Apex Hides the Hurt\, and a collection of essays\, Whitehead is only the fourth writer to win two Pulitzers in the Fiction category (for The Underground Railroad in 2017 and The Nickel Boys in 2020). His highly anticipated latest novel\, Crook Manifesto\, is a darkly funny tale of a city under siege\, but also a sneakily searching portrait of the meaning of family. \nHis reviews\, essays\, and fiction have appeared in the New York Times\, The New Yorker\, New York Magazine\, Harper’s and Granta. Whitehead has received a MacArthur Fellowship and Guggenheim Fellowship and the Library of Congress Prize for American Fiction\, among others. In 2023\, President Biden awarded Whitehead a National Endowment for the Humanities Medal. He has taught extensively\, including at Columbia University\, Princeton University\, and Brooklyn College\, and has been a Writer-in-Residence at Vassar College\, the University of Richmond\, and University of Wyoming. He lives in New York City. \nVia Zoom. Registration is required. \n  \nThis event is made possible by Illinois Libraries Present\, a statewide collaboration among public libraries offering premier events. ILP is funded in part by a grant awarded by the Illinois State Library\, a department of the Office of Secretary of State\, using funds provided by the U.S. Institute of Museum and Library Services\, under the provisions of the Library Services and Technology Act (LSTA).
URL:https://mahometpubliclibrary.org/event/colsonwhitehead/
CATEGORIES:Adults
ATTACH;FMTTYPE=image/png:https://mahometpubliclibrary.org/wp-content/uploads/2023/09/Colson-Whitehead_Event-Image_September-2023.png
END:VEVENT
END:VCALENDAR