BEGIN:VCALENDAR
VERSION:2.0
PRODID:-//Mahomet Public Library - ECPv6.15.11//NONSGML v1.0//EN
CALSCALE:GREGORIAN
METHOD:PUBLISH
X-ORIGINAL-URL:https://mahometpubliclibrary.org
X-WR-CALDESC:Events for Mahomet Public Library
REFRESH-INTERVAL;VALUE=DURATION:PT1H
X-Robots-Tag:noindex
X-PUBLISHED-TTL:PT1H
BEGIN:VTIMEZONE
TZID:America/Chicago
BEGIN:DAYLIGHT
TZOFFSETFROM:-0600
TZOFFSETTO:-0500
TZNAME:CDT
DTSTART:20220313T080000
END:DAYLIGHT
BEGIN:STANDARD
TZOFFSETFROM:-0500
TZOFFSETTO:-0600
TZNAME:CST
DTSTART:20221106T070000
END:STANDARD
BEGIN:DAYLIGHT
TZOFFSETFROM:-0600
TZOFFSETTO:-0500
TZNAME:CDT
DTSTART:20230312T080000
END:DAYLIGHT
BEGIN:STANDARD
TZOFFSETFROM:-0500
TZOFFSETTO:-0600
TZNAME:CST
DTSTART:20231105T070000
END:STANDARD
BEGIN:DAYLIGHT
TZOFFSETFROM:-0600
TZOFFSETTO:-0500
TZNAME:CDT
DTSTART:20240310T080000
END:DAYLIGHT
BEGIN:STANDARD
TZOFFSETFROM:-0500
TZOFFSETTO:-0600
TZNAME:CST
DTSTART:20241103T070000
END:STANDARD
END:VTIMEZONE
BEGIN:VEVENT
DTSTART;TZID=America/Chicago:20230905T093000
DTEND;TZID=America/Chicago:20230905T095000
DTSTAMP:20260420T031636
CREATED:20230727T220838Z
LAST-MODIFIED:20230907T041558Z
UID:10000467-1693906200-1693907400@mahometpubliclibrary.org
SUMMARY:Baby Storytime
DESCRIPTION:Bring your baby to storytime on Tuesday mornings at the Library! There will be songs\, bounces\, and books! \nPlease note: There will NOT be Baby Storytime on October 24.
URL:https://mahometpubliclibrary.org/event/babystorytime/2023-09-05/
CATEGORIES:Preschool
ATTACH;FMTTYPE=image/png:https://mahometpubliclibrary.org/wp-content/uploads/2023/07/Baby-Storytime_Event-Image_Fall-2023.png
END:VEVENT
BEGIN:VEVENT
DTSTART;TZID=America/Chicago:20230905T100000
DTEND;TZID=America/Chicago:20230905T103000
DTSTAMP:20260420T031636
CREATED:20230727T221149Z
LAST-MODIFIED:20230907T040707Z
UID:10000385-1693908000-1693909800@mahometpubliclibrary.org
SUMMARY:Toddler Storytime
DESCRIPTION:Join us on Tuesday mornings for storytime for toddlers (ages 18 months – 3 years) and caregivers. There will be songs\, rhymes\, and stories! \nPlease note: There will NOT be storytime on October 24.
URL:https://mahometpubliclibrary.org/event/toddlerstorytime/2023-09-05/
CATEGORIES:Preschool
ATTACH;FMTTYPE=image/png:https://mahometpubliclibrary.org/wp-content/uploads/2023/07/Toddler-Storytime_Event-Image_Fall-2023-1.png
END:VEVENT
BEGIN:VEVENT
DTSTART;TZID=America/Chicago:20230905T130000
DTEND;TZID=America/Chicago:20230905T140000
DTSTAMP:20260420T031636
CREATED:20230805T225118Z
LAST-MODIFIED:20230907T041434Z
UID:10000451-1693918800-1693922400@mahometpubliclibrary.org
SUMMARY:Adult Crafternoon
DESCRIPTION:Get crafty with your friends or make some new friends!\nJoin us each month as we craft together. You can bring your own project to work on or create a unique craft with instructions and supplies provided by the Library. \nDates and Crafts: \nSeptember 5: Fall banner with book page leaves\nOctober 3: Gnomes\nNovember 7: Scandinavian Felt Trees \nAdult Crafternoons are part of our Adult Craft Connection Program series.  \nNo registration required. No meeting in December.
URL:https://mahometpubliclibrary.org/event/adultcrafternoon/2023-09-05/
CATEGORIES:Adults
ATTACH;FMTTYPE=image/png:https://mahometpubliclibrary.org/wp-content/uploads/2023/06/September.png
END:VEVENT
BEGIN:VEVENT
DTSTART;TZID=America/Chicago:20230905T180000
DTEND;TZID=America/Chicago:20230905T193000
DTSTAMP:20260420T031636
CREATED:20230823T084052Z
LAST-MODIFIED:20230907T041336Z
UID:10000328-1693936800-1693942200@mahometpubliclibrary.org
SUMMARY:Cookbook Club
DESCRIPTION:This program is perfect for adults who enjoy cooking and sharing food together. All experience levels are welcome! Each Cookbook Club meeting will feature a selected cookbook and attendees will bring a dish from the book to share. This month\, the featured cookbook is Modern Comfort Food by Ina Garten. \nCopies of the cookbook will be available one month in advance at the Library’s Circulation Desk. Registered participants will receive a link to a Google form to include the name of the dish they will be bringing. Participants may contact Alyssa with any questions. \nRegistration is required. \n  \nCookbooks: \nSeptember 5: Modern Comfort Food by Ina Garten \nNovember 7: Smitten Kitten Keepers by Deb Perelman
URL:https://mahometpubliclibrary.org/event/septembercookbookclub/
CATEGORIES:Adults
ATTACH;FMTTYPE=image/png:https://mahometpubliclibrary.org/wp-content/uploads/2023/08/Cookbook-Club_Event-Image_Fall-2023.png
END:VEVENT
END:VCALENDAR