BEGIN:VCALENDAR
VERSION:2.0
PRODID:-//Mahomet Public Library - ECPv6.15.11//NONSGML v1.0//EN
CALSCALE:GREGORIAN
METHOD:PUBLISH
X-ORIGINAL-URL:https://mahometpubliclibrary.org
X-WR-CALDESC:Events for Mahomet Public Library
REFRESH-INTERVAL;VALUE=DURATION:PT1H
X-Robots-Tag:noindex
X-PUBLISHED-TTL:PT1H
BEGIN:VTIMEZONE
TZID:America/Chicago
BEGIN:DAYLIGHT
TZOFFSETFROM:-0600
TZOFFSETTO:-0500
TZNAME:CDT
DTSTART:20220313T080000
END:DAYLIGHT
BEGIN:STANDARD
TZOFFSETFROM:-0500
TZOFFSETTO:-0600
TZNAME:CST
DTSTART:20221106T070000
END:STANDARD
BEGIN:DAYLIGHT
TZOFFSETFROM:-0600
TZOFFSETTO:-0500
TZNAME:CDT
DTSTART:20230312T080000
END:DAYLIGHT
BEGIN:STANDARD
TZOFFSETFROM:-0500
TZOFFSETTO:-0600
TZNAME:CST
DTSTART:20231105T070000
END:STANDARD
BEGIN:DAYLIGHT
TZOFFSETFROM:-0600
TZOFFSETTO:-0500
TZNAME:CDT
DTSTART:20240310T080000
END:DAYLIGHT
BEGIN:STANDARD
TZOFFSETFROM:-0500
TZOFFSETTO:-0600
TZNAME:CST
DTSTART:20241103T070000
END:STANDARD
END:VTIMEZONE
BEGIN:VEVENT
DTSTART;TZID=America/Chicago:20230705T150000
DTEND;TZID=America/Chicago:20230705T163000
DTSTAMP:20260420T064911
CREATED:20230626T194224Z
LAST-MODIFIED:20230907T042238Z
UID:10000529-1688569200-1688574600@mahometpubliclibrary.org
SUMMARY:Step Into STEM!
DESCRIPTION:Come and put science\, technology\, engineering\, and math skills to work! At each session\, we will tackle a fun STEM project that encourages participants to think outside the box when solving everyday problems. \n  \nGrades 2-5. Registration is required. Register for each session individually by clicking on the date below. \n  \nDates (Every Other Wednesday) and Times: \nJune 7\, 3:00-4:30 pm \nJune 21\, 3:00-4:30 pm \nJuly 5\, 3:00-4:30 pm \nJuly 19\, 3:00-4:30 pm
URL:https://mahometpubliclibrary.org/event/step-into-stem/2023-07-05/
CATEGORIES:School age
ATTACH;FMTTYPE=image/png:https://mahometpubliclibrary.org/wp-content/uploads/2023/06/Step-into-Stem_Facebook-Cover_Summer-2023.png
END:VEVENT
BEGIN:VEVENT
DTSTART;TZID=America/Chicago:20230705T180000
DTEND;TZID=America/Chicago:20230705T190000
DTSTAMP:20260420T064911
CREATED:20230626T194450Z
LAST-MODIFIED:20230907T042158Z
UID:10000525-1688580000-1688583600@mahometpubliclibrary.org
SUMMARY:Yoga on the Lawn
DESCRIPTION:Downward Facing Dog. Warrior Pose. Lotus Position. Join us for a session of yoga on the library lawn led by Certified Yoga Instructor Colleen Crawford. \nRegistration is required. Register for each session individually by clicking on the date below. Participants should bring their own yoga mats. \n\nDates and Times: \nWednesday\, June 7 – 6:00 pm \nSaturday\, June 24 – 9:15 am \nWednesday\, July 5 – 6:00 pm \nSaturday\, July 29 – 9:15 am \nAbout the Presenter: \nColleen Crawford holds several yoga certifications\, including Yoga 200hr-RYT\, an NSCA Certified Personal Trainer\, a Certified Pre-e and Postnatal Coach\, PiYo\, Turbo Kick\, Insanity\, and Barre Above.
URL:https://mahometpubliclibrary.org/event/yoga-on-the-lawn/2023-07-05/
CATEGORIES:Adults
ATTACH;FMTTYPE=image/png:https://mahometpubliclibrary.org/wp-content/uploads/2023/06/Yoga-on-the-Lawn_Facebook-Cover_Summer-2023.png
END:VEVENT
END:VCALENDAR