BEGIN:VCALENDAR
VERSION:2.0
PRODID:-//Mahomet Public Library - ECPv6.15.11//NONSGML v1.0//EN
CALSCALE:GREGORIAN
METHOD:PUBLISH
X-ORIGINAL-URL:https://mahometpubliclibrary.org
X-WR-CALDESC:Events for Mahomet Public Library
REFRESH-INTERVAL;VALUE=DURATION:PT1H
X-Robots-Tag:noindex
X-PUBLISHED-TTL:PT1H
BEGIN:VTIMEZONE
TZID:America/Chicago
BEGIN:DAYLIGHT
TZOFFSETFROM:-0600
TZOFFSETTO:-0500
TZNAME:CDT
DTSTART:20220313T080000
END:DAYLIGHT
BEGIN:STANDARD
TZOFFSETFROM:-0500
TZOFFSETTO:-0600
TZNAME:CST
DTSTART:20221106T070000
END:STANDARD
BEGIN:DAYLIGHT
TZOFFSETFROM:-0600
TZOFFSETTO:-0500
TZNAME:CDT
DTSTART:20230312T080000
END:DAYLIGHT
BEGIN:STANDARD
TZOFFSETFROM:-0500
TZOFFSETTO:-0600
TZNAME:CST
DTSTART:20231105T070000
END:STANDARD
BEGIN:DAYLIGHT
TZOFFSETFROM:-0600
TZOFFSETTO:-0500
TZNAME:CDT
DTSTART:20240310T080000
END:DAYLIGHT
BEGIN:STANDARD
TZOFFSETFROM:-0500
TZOFFSETTO:-0600
TZNAME:CST
DTSTART:20241103T070000
END:STANDARD
END:VTIMEZONE
BEGIN:VEVENT
DTSTART;TZID=America/Chicago:20230624T091500
DTEND;TZID=America/Chicago:20230624T101500
DTSTAMP:20260420T082421
CREATED:20230626T194450Z
LAST-MODIFIED:20230907T042158Z
UID:10000524-1687598100-1687601700@mahometpubliclibrary.org
SUMMARY:Yoga on the Lawn
DESCRIPTION:Downward Facing Dog. Warrior Pose. Lotus Position. Join us for a session of yoga on the library lawn led by Certified Yoga Instructor Colleen Crawford. \nRegistration is required. Register for each session individually by clicking on the date below. Participants should bring their own yoga mats. \n\nDates and Times: \nWednesday\, June 7 – 6:00 pm \nSaturday\, June 24 – 9:15 am \nWednesday\, July 5 – 6:00 pm \nSaturday\, July 29 – 9:15 am \nAbout the Presenter: \nColleen Crawford holds several yoga certifications\, including Yoga 200hr-RYT\, an NSCA Certified Personal Trainer\, a Certified Pre-e and Postnatal Coach\, PiYo\, Turbo Kick\, Insanity\, and Barre Above.
URL:https://mahometpubliclibrary.org/event/yoga-on-the-lawn/2023-06-24/
CATEGORIES:Adults
ATTACH;FMTTYPE=image/png:https://mahometpubliclibrary.org/wp-content/uploads/2023/06/Yoga-on-the-Lawn_Facebook-Cover_Summer-2023.png
END:VEVENT
BEGIN:VEVENT
DTSTART;TZID=America/Chicago:20230625T000000
DTEND;TZID=America/Chicago:20230625T033000
DTSTAMP:20260420T082421
CREATED:20230626T195103Z
LAST-MODIFIED:20230907T041910Z
UID:10000506-1687651200-1687663800@mahometpubliclibrary.org
SUMMARY:Movie on the Lawn
DESCRIPTION:Each month\, we’ll host an outdoor movie showing on the library lawn\, sponsored by the Matt Difanis Team – RE/MAX Realty Associates. The movie will begin at 8:30 PM. However\, we’ll have Ice Daddy’s and yard games on the lawn starting at 7:00 PM\, so come early to get a seat and hang out! Attendees are also welcome to bring their own snacks. Bring along some yard chairs or picnic blankets. \nJune 24: Little Mermaid (1989)  \nJuly 15: Indiana Jones – Raiders of the Lost Arc  \nAugust 12: Toy Story I \nIn the event of unfavorable weather conditions\, the program will be canceled and will not be rescheduled.
URL:https://mahometpubliclibrary.org/event/movie-on-the-lawn/2023-06-25/
CATEGORIES:All Ages
ATTACH;FMTTYPE=image/png:https://mahometpubliclibrary.org/wp-content/uploads/2023/06/August-Movie-on-the-Lawn_Facebook-Cover_2023.png
END:VEVENT
END:VCALENDAR